Workbook

Sheet Typologie EA
E5: Surface en cultures | F5: Surface labourée | G5: Rendement moyen en blé | H5: % de cultures industrielles (Betteraves sucrières) /SAU | I5: SFP | J5: % de mäis ensilage /SFP | K5: % de PT ensilage /SFP | L5: Quota laitier /SFP | M5: STH | N5: Produit brut (année 2010) | O5: Nombre d'hectare /Unité de main d'œuvre | P5: Travaux par tiers | Q5: Puissance des tracteurs + 50% automoteurs | S5: Nombre d'heures effectuées à l'année /tracteur | U5: Nombre d'heures effectuées à l'année /ha de SAU | W5: Puissance par ha moissonné (ch /ha récolté en été) | Y5: Facture annuelle de carburant | AA5: Carburant utilisé | AC5: Frais d'Entretien-Réparations | AE5: Montant investi sur les 3 dernières années | AG5: Frais financiers annuels / Chiffre d'Affaires
A6: 1 | B6: ='Références Mécanisation'!B7 -> Grandes cultures | C6: ='Références Mécanisation'!B8 -> & faible potentiel / labour | D6: ='Références Mécanisation'!B9 -> Plateaux de Bourgogne | E6: ='Références Mécanisation'!C14 -> > 95 | F6: ='Références Mécanisation'!C15 -> 25 à 40 | G6: ='Références Mécanisation'!C16 -> < 70 | H6: ='Références Mécanisation'!C17 -> ND | I6: ='Références Mécanisation'!C19 -> ND | J6: ='Références Mécanisation'!C20 -> ND | K6: ='Références Mécanisation'!C21 -> ND | L6: ='Références Mécanisation'!C22 -> ND | M6: ='Références Mécanisation'!C23 -> ND | N6: ='Références Mécanisation'!C24 -> 1 000 à 1 300 | O6: ='Références Mécanisation'!C27 -> 145 à 200 | P6: ='Références Mécanisation'!C30 -> < 10 | Q6: ='Références Mécanisation'!C38 -> 2.4 | R6: ='Références Mécanisation'!C39 -> 2 | S6: ='Références Mécanisation'!C43 -> 300 | T6: ='Références Mécanisation'!C44 -> 350 | U6: ='Références Mécanisation'!C45 -> 5.5 | V6: ='Références Mécanisation'!C46 -> 5 | W6: ='Références Mécanisation'!C56 -> 1.2 | X6: ='Références Mécanisation'!C57 -> 1.1 | Y6: ='Références Mécanisation'!C63 -> 85 | Z6: ='Références Mécanisation'!C64 -> 75 | AA6: ='Références Mécanisation'!C66 -> 85 | AB6: ='Références Mécanisation'!C67 -> 75 | AC6: ='Références Mécanisation'!C77 -> 75 | AD6: ='Références Mécanisation'!C78 -> 45 | AE6: ='Références Mécanisation'!C90 -> 250 | AF6: ='Références Mécanisation'!C91 -> 165 | AG6: ='Références Mécanisation'!C96 -> 0.8 | AH6: ='Références Mécanisation'!C97 -> 0.5
A7: 2 | B7: ='Références Mécanisation'!E7 -> Grandes cultures | C7: ='Références Mécanisation'!E8 -> & faible potentiel / non-labour | D7: ='Références Mécanisation'!E9 -> Plateaux de Bourgogne | E7: ='Références Mécanisation'!$F14 -> > 95 | F7: ='Références Mécanisation'!$F15 -> < 25 | G7: ='Références Mécanisation'!$F16 -> < 60 | H7: ='Références Mécanisation'!$F17 -> ND | I7: ='Références Mécanisation'!$F19 -> ND | J7: ='Références Mécanisation'!$F20 -> ND | K7: ='Références Mécanisation'!$F21 -> ND | L7: ='Références Mécanisation'!F22 -> ND | M7: ='Références Mécanisation'!$F23 -> ND | N7: ='Références Mécanisation'!$F24 -> 1 000 à 1 200 | O7: ='Références Mécanisation'!$F27 -> 200 à 250 | P7: ='Références Mécanisation'!$F30 -> < 10 | Q7: ='Références Mécanisation'!$F38 -> 2 | R7: ='Références Mécanisation'!F39 -> 1.7 | S7: ='Références Mécanisation'!$F43 -> 275 | T7: ='Références Mécanisation'!F44 -> 325 | U7: ='Références Mécanisation'!$F45 -> 4.5 | V7: ='Références Mécanisation'!F46 -> 4 | W7: ='Références Mécanisation'!$F56 -> 1.1 | X7: ='Références Mécanisation'!F57 -> 1 | Y7: ='Références Mécanisation'!$F63 -> 65 | Z7: ='Références Mécanisation'!F64 -> 60 | AA7: ='Références Mécanisation'!$F66 -> 65 | AB7: ='Références Mécanisation'!F67 -> 60 | AC7: ='Références Mécanisation'!$F77 -> 65 | AD7: ='Références Mécanisation'!F78 -> 55 | AE7: ='Références Mécanisation'!$F90 -> 190 | AF7: ='Références Mécanisation'!F91 -> 135 | AG7: ='Références Mécanisation'!$F96 -> 0.6 | AH7: ='Références Mécanisation'!F97 -> 0.4
A8: 3 | B8: ='Références Mécanisation'!K7 -> Grandes cultures | C8: ='Références Mécanisation'!K8 -> & fort potentiel | D8: ='Références Mécanisation'!K9 -> Zones de Plaines, Vallées | E8: ='Références Mécanisation'!$L14 -> > 95 | F8: ='Références Mécanisation'!$L15 -> > 50 | G8: ='Références Mécanisation'!$L16 -> > 70 | H8: ='Références Mécanisation'!$L17 -> ND | I8: ='Références Mécanisation'!$L19 -> ND | J8: ='Références Mécanisation'!$L20 -> ND | K8: ='Références Mécanisation'!$L21 -> ND | L8: ='Références Mécanisation'!L22 -> ND | M8: ='Références Mécanisation'!$L23 -> ND | N8: ='Références Mécanisation'!$L24 -> 1 200 à 1 650 | O8: ='Références Mécanisation'!$L27 -> 120 à 180 | P8: ='Références Mécanisation'!$L30 -> < 30 | Q8: ='Références Mécanisation'!$L38 -> 2.8 | R8: ='Références Mécanisation'!L39 -> 2.3 | S8: ='Références Mécanisation'!$L43 -> 300 | T8: ='Références Mécanisation'!L44 -> 350 | U8: ='Références Mécanisation'!$L45 -> 6.8 | V8: ='Références Mécanisation'!L46 -> 5.6 | W8: ='Références Mécanisation'!$L56 -> 1.4 | X8: ='Références Mécanisation'!L57 -> 1.2 | Y8: ='Références Mécanisation'!$L63 -> 95 | Z8: ='Références Mécanisation'!L64 -> 85 | AA8: ='Références Mécanisation'!$L66 -> 95 | AB8: ='Références Mécanisation'!L67 -> 85 | AC8: ='Références Mécanisation'!$L77 -> 80 | AD8: ='Références Mécanisation'!L78 -> 50 | AE8: ='Références Mécanisation'!$L90 -> 250 | AF8: ='Références Mécanisation'!L91 -> 210 | AG8: ='Références Mécanisation'!$L96 -> 0.6 | AH8: ='Références Mécanisation'!L97 -> 0.5
A9: 4 | B9: ='Références Mécanisation'!Q7 -> Grandes cultures | C9: ='Références Mécanisation'!Q8 -> + BS / cultures industrielles | D9: ='Références Mécanisation'!Q9 -> Zones de Plaines, Vallées | E9: ='Références Mécanisation'!$R14 -> > 95 | F9: ='Références Mécanisation'!$R15 -> > 50 | G9: ='Références Mécanisation'!$R16 -> > 70 | H9: ='Références Mécanisation'!$R17 -> > 5 | I9: ='Références Mécanisation'!$R19 -> ND | J9: ='Références Mécanisation'!$R20 -> ND | K9: ='Références Mécanisation'!$R21 -> ND | L9: ='Références Mécanisation'!R22 -> ND | M9: ='Références Mécanisation'!$R23 -> ND | N9: ='Références Mécanisation'!$R24 -> 1 400 à 1 800 | O9: ='Références Mécanisation'!$R27 -> 120 à 180 | P9: ='Références Mécanisation'!$R30 -> < 30 | Q9: ='Références Mécanisation'!$R38 -> 2.8 | R9: ='Références Mécanisation'!R39 -> 2.3 | S9: ='Références Mécanisation'!$R43 -> 300 | T9: ='Références Mécanisation'!R44 -> 350 | U9: ='Références Mécanisation'!$R45 -> 6.5 | V9: ='Références Mécanisation'!R46 -> 5.5 | W9: ='Références Mécanisation'!$R56 -> 1.4 | X9: ='Références Mécanisation'!R57 -> 1.2 | Y9: ='Références Mécanisation'!$R63 -> 105 | Z9: ='Références Mécanisation'!R64 -> 95 | AA9: ='Références Mécanisation'!$R66 -> 105 | AB9: ='Références Mécanisation'!R67 -> 95 | AC9: ='Références Mécanisation'!$R77 -> 90 | AD9: ='Références Mécanisation'!R78 -> 80 | AE9: ='Références Mécanisation'!$R90 -> 285 | AF9: ='Références Mécanisation'!R91 -> 240 | AG9: ='Références Mécanisation'!$R96 -> 0.6 | AH9: ='Références Mécanisation'!R97 -> 0.5
A10: 5 | B10: ='Références Mécanisation'!Z7 -> Grandes cultures | C10: ='Références Mécanisation'!Z8 -> + cultures particulières | D10: ='Références Mécanisation'!Z9 -> (petits fruits, porte-graines, …) | E10: ='Références Mécanisation'!$AA14 -> > 90 | F10: ='Références Mécanisation'!$AA15 -> > 50 | G10: ='Références Mécanisation'!$AA16 -> < 70 | H10: ='Références Mécanisation'!$AA17 -> ND | I10: ='Références Mécanisation'!$AA19 -> ND | J10: ='Références Mécanisation'!$AA20 -> ND | K10: ='Références Mécanisation'!$AA21 -> ND | L10: ='Références Mécanisation'!AA22 -> ND | M10: ='Références Mécanisation'!$AA23 -> ND | N10: ='Références Mécanisation'!$AA24 -> 1 250 à 1 400 | O10: ='Références Mécanisation'!$AA27 -> 80 à 140 | P10: ='Références Mécanisation'!$AA30 -> 10 à 30 | Q10: ='Références Mécanisation'!$AA38 -> 2.4 | R10: ='Références Mécanisation'!AA39 -> 2 | S10: ='Références Mécanisation'!$AA43 -> 375 | T10: ='Références Mécanisation'!AA44 -> 425 | U10: ='Références Mécanisation'!$AA45 -> 7.2 | V10: ='Références Mécanisation'!AA46 -> 6 | W10: ='Références Mécanisation'!$AA56 -> 1.2 | X10: ='Références Mécanisation'!AA57 -> 1.1 | Y10: ='Références Mécanisation'!$AA63 -> 80 | Z10: ='Références Mécanisation'!AA64 -> 65 | AA10: ='Références Mécanisation'!$AA66 -> 80 | AB10: ='Références Mécanisation'!AA67 -> 65 | AC10: ='Références Mécanisation'!$AA77 -> 75 | AD10: ='Références Mécanisation'!AA78 -> 45 | AE10: ='Références Mécanisation'!$AA90 -> 200 | AF10: ='Références Mécanisation'!AA91 -> 170 | AG10: ='Références Mécanisation'!$AA96 -> 0.5 | AH10: ='Références Mécanisation'!AA97 -> 0.5
A11: 6 | B11: ='Références Mécanisation'!AC7 -> Grandes cultures | C11: ='Références Mécanisation'!AC8 -> + atelier hors-sol | D11: ='Références Mécanisation'!AC9 -> (porcs ou volailles) ou vigne | E11: ='Références Mécanisation'!$AD14 -> > 90 | F11: ='Références Mécanisation'!$AD15 -> > 50 | G11: ='Références Mécanisation'!$AD16 -> < 70 | H11: ='Références Mécanisation'!$AD17 -> ND | I11: ='Références Mécanisation'!$AD19 -> ND | J11: ='Références Mécanisation'!$AD20 -> ND | K11: ='Références Mécanisation'!$AD21 -> ND | L11: ='Références Mécanisation'!AD22 -> ND | M11: ='Références Mécanisation'!$AD23 -> 0 à 20 | N11: ='Références Mécanisation'!$AD24 -> 1 600 à 2 000 | O11: ='Références Mécanisation'!$AD27 -> 75 à 100 | P11: ='Références Mécanisation'!$AD30 -> 15 à 25 | Q11: ='Références Mécanisation'!$AD38 -> 3.1 | R11: ='Références Mécanisation'!AD39 -> 2.6 | S11: ='Références Mécanisation'!$AD43 -> 350 | T11: ='Références Mécanisation'!AD44 -> 400 | U11: ='Références Mécanisation'!$AD45 -> 7.6 | V11: ='Références Mécanisation'!AD46 -> 5.8 | W11: ='Références Mécanisation'!$AD56 -> 1.2 | X11: ='Références Mécanisation'!AD57 -> 1.1 | Y11: ='Références Mécanisation'!$AD63 -> 110 | Z11: ='Références Mécanisation'!AD64 -> 100 | AA11: ='Références Mécanisation'!$AD66 -> 110 | AB11: ='Références Mécanisation'!AD67 -> 100 | AC11: ='Références Mécanisation'!$AD77 -> 90 | AD11: ='Références Mécanisation'!AD78 -> 65 | AE11: ='Références Mécanisation'!$AD90 -> 190 | AF11: ='Références Mécanisation'!AD91 -> 170 | AG11: ='Références Mécanisation'!$AD96 -> 0.4 | AH11: ='Références Mécanisation'!AD97 -> 0.4
A12: 7 | B12: ='Références Mécanisation'!T7 -> Grandes cultures | C12: ='Références Mécanisation'!T8 -> + production laitière | D12: ='Références Mécanisation'!T9 -> 0 | E12: ='Références Mécanisation'!$U14 -> 70 à 95 | F12: ='Références Mécanisation'!$U15 -> > 50 | G12: ='Références Mécanisation'!$U16 -> ND | H12: ='Références Mécanisation'!$U17 -> ND | I12: ='Références Mécanisation'!$U19 -> 30 à 50 | J12: ='Références Mécanisation'!$U20 -> 5 à 40 | K12: ='Références Mécanisation'!$U21 -> 10 à 60 | L12: ='Références Mécanisation'!U22 -> > 7 000 | M12: ='Références Mécanisation'!$U23 -> 20 à 30 | N12: ='Références Mécanisation'!$U24 -> 1 900 à 2 500 | O12: ='Références Mécanisation'!$U27 -> 65 à 95 | P12: ='Références Mécanisation'!$U30 -> 25 à 50 | Q12: ='Références Mécanisation'!$U38 -> 3 | R12: ='Références Mécanisation'!U39 -> 2.8 | S12: ='Références Mécanisation'!$U43 -> 450 | T12: ='Références Mécanisation'!U44 -> 500 | U12: ='Références Mécanisation'!$U45 -> 14.5 | V12: ='Références Mécanisation'!U46 -> 11.5 | W12: ='Références Mécanisation'!$U56 -> 1.4 | X12: ='Références Mécanisation'!U57 -> 1.3 | Y12: ='Références Mécanisation'!$U63 -> 150 | Z12: ='Références Mécanisation'!U64 -> 130 | AA12: ='Références Mécanisation'!$U66 -> 150 | AB12: ='Références Mécanisation'!U67 -> 130 | AC12: ='Références Mécanisation'!$U77 -> 140 | AD12: ='Références Mécanisation'!U78 -> 105 | AE12: ='Références Mécanisation'!$U90 -> 310 | AF12: ='Références Mécanisation'!U91 -> 250 | AG12: ='Références Mécanisation'!$U96 -> 0.5 | AH12: ='Références Mécanisation'!U97 -> 0.4
A13: 8 | B13: ='Références Mécanisation'!W7 -> Grandes cultures | C13: ='Références Mécanisation'!W8 -> + bovins viande / ovins | D13: ='Références Mécanisation'!W9 -> 0 | E13: ='Références Mécanisation'!$X14 -> 60 à 85 | F13: ='Références Mécanisation'!$X15 -> 25 à 40 | G13: ='Références Mécanisation'!$X16 -> < 70 | H13: ='Références Mécanisation'!$X17 -> ND | I13: ='Références Mécanisation'!$X19 -> < 40 | J13: ='Références Mécanisation'!$X20 -> < 5 | K13: ='Références Mécanisation'!$X21 -> < 10 | L13: ='Références Mécanisation'!X22 -> ND | M13: ='Références Mécanisation'!$X23 -> 20 à 40 | N13: ='Références Mécanisation'!$X24 -> 1 150 à 1 400 | O13: ='Références Mécanisation'!$X27 -> 130 à 165 | P13: ='Références Mécanisation'!$X30 -> < 30 | Q13: ='Références Mécanisation'!$X38 -> 2.3 | R13: ='Références Mécanisation'!X39 -> 1.8 | S13: ='Références Mécanisation'!$X43 -> 400 | T13: ='Références Mécanisation'!X44 -> 500 | U13: ='Références Mécanisation'!$X45 -> 9 | V13: ='Références Mécanisation'!X46 -> 8 | W13: ='Références Mécanisation'!$X56 -> 1.2 | X13: ='Références Mécanisation'!X57 -> 1.1 | Y13: ='Références Mécanisation'!$X63 -> 85 | Z13: ='Références Mécanisation'!X64 -> 80 | AA13: ='Références Mécanisation'!$X66 -> 85 | AB13: ='Références Mécanisation'!X67 -> 80 | AC13: ='Références Mécanisation'!$X77 -> 90 | AD13: ='Références Mécanisation'!X78 -> 55 | AE13: ='Références Mécanisation'!$X90 -> 180 | AF13: ='Références Mécanisation'!X91 -> 140 | AG13: ='Références Mécanisation'!$X96 -> 0.5 | AH13: ='Références Mécanisation'!X97 -> 0.4
A14: 9 | B14: ='Références Mécanisation'!AF7 -> Production laitière dominante | C14: ='Références Mécanisation'!AF8 -> 0 | D14: ='Références Mécanisation'!AF9 -> Puisaye, Florentinois | E14: ='Références Mécanisation'!$AG14 -> 55 à 70 | F14: ='Références Mécanisation'!$AG15 -> ND | G14: ='Références Mécanisation'!$AG16 -> ND | H14: ='Références Mécanisation'!$AG17 -> ND | I14: ='Références Mécanisation'!$AG19 -> 55 à 75 | J14: ='Références Mécanisation'!$AG20 -> < 25 | K14: ='Références Mécanisation'!$AG21 -> < 55 | L14: ='Références Mécanisation'!AG22 -> < 7 000 | M14: ='Références Mécanisation'!$AG23 -> 50 à 60 | N14: ='Références Mécanisation'!$AG24 -> 1 800 à 2 300 | O14: ='Références Mécanisation'!$AG27 -> 65 à 90 | P14: ='Références Mécanisation'!$AG30 -> 20 à 55% | Q14: ='Références Mécanisation'!$AG38 -> 2.8 | R14: ='Références Mécanisation'!AG39 -> 2.4 | S14: ='Références Mécanisation'!$AG43 -> 475 | T14: ='Références Mécanisation'!AG44 -> 550 | U14: ='Références Mécanisation'!$AG45 -> 15.5 | V14: ='Références Mécanisation'!AG46 -> 13.4 | W14: ='Références Mécanisation'!$AG56 -> 1.4 | X14: ='Références Mécanisation'!AG57 -> 1.2 | Y14: ='Références Mécanisation'!$AG63 -> 135 | Z14: ='Références Mécanisation'!AG64 -> 120 | AA14: ='Références Mécanisation'!$AG66 -> 135 | AB14: ='Références Mécanisation'!AG67 -> 120 | AC14: ='Références Mécanisation'!$AG77 -> 145 | AD14: ='Références Mécanisation'!AG78 -> 105 | AE14: ='Références Mécanisation'!$AG90 -> 325 | AF14: ='Références Mécanisation'!AG91 -> 250 | AG14: ='Références Mécanisation'!$AG96 -> 0.6 | AH14: ='Références Mécanisation'!AG97 -> 0.4
A15: 10 | B15: ='Références Mécanisation'!AI7 -> Bovins viande / ovins | C15: ='Références Mécanisation'!AI8 -> + grandes cultures | D15: ='Références Mécanisation'!AI9 -> 0 | E15: ='Références Mécanisation'!$AJ14 -> 20 à 40 | F15: ='Références Mécanisation'!$AJ15 -> ND | G15: ='Références Mécanisation'!$AJ16 -> ND | H15: ='Références Mécanisation'!$AJ17 -> ND | I15: ='Références Mécanisation'!$AJ19 -> 85 à 95 | J15: ='Références Mécanisation'!$AJ20 -> < 10 | K15: ='Références Mécanisation'!$AJ21 -> 10 à 30 | L15: ='Références Mécanisation'!AJ22 -> ND | M15: ='Références Mécanisation'!$AJ23 -> 75 à 90 | N15: ='Références Mécanisation'!$AJ24 -> 1 500 à 1 900 | O15: ='Références Mécanisation'!$AJ27 -> 80 à 120 | P15: ='Références Mécanisation'!$AJ30 -> 20 à 35 | Q15: ='Références Mécanisation'!$AJ38 -> 2.3 | R15: ='Références Mécanisation'!AJ39 -> 1.8 | S15: ='Références Mécanisation'!$AJ43 -> 500 | T15: ='Références Mécanisation'!AJ44 -> 575 | U15: ='Références Mécanisation'!$AJ45 -> 12 | V15: ='Références Mécanisation'!AJ46 -> 10.5 | W15: ='Références Mécanisation'!$AJ56 -> 1.4 | X15: ='Références Mécanisation'!AJ57 -> 1.2 | Y15: ='Références Mécanisation'!$AJ63 -> 75 | Z15: ='Références Mécanisation'!AJ64 -> 65 | AA15: ='Références Mécanisation'!$AJ66 -> 75 | AB15: ='Références Mécanisation'!AJ67 -> 65 | AC15: ='Références Mécanisation'!$AJ77 -> 70 | AD15: ='Références Mécanisation'!AJ78 -> 40 | AE15: ='Références Mécanisation'!$AJ90 -> 220 | AF15: ='Références Mécanisation'!AJ91 -> 155 | AG15: ='Références Mécanisation'!$AJ96 -> 0.5 | AH15: ='Références Mécanisation'!AJ97 -> 0.3
A16: 11 | B16: ='Références Mécanisation'!AL7 -> Bovins viande / ovins / caprins | C16: ='Références Mécanisation'!AL8 -> en zone hérbagère | D16: ='Références Mécanisation'!AL9 -> Auxois, Morvan, Charolais | E16: ='Références Mécanisation'!$AM14 -> 25 à 40 | F16: ='Références Mécanisation'!$AM15 -> ND | G16: ='Références Mécanisation'!$AM16 -> ND | H16: ='Références Mécanisation'!$AM17 -> ND | I16: ='Références Mécanisation'!$AM19 -> > 90 | J16: ='Références Mécanisation'!$AM20 -> 0 | K16: ='Références Mécanisation'!$AM21 -> 20 à 30 | L16: ='Références Mécanisation'!AM22 -> ND | M16: ='Références Mécanisation'!$AM23 -> > 90 | N16: ='Références Mécanisation'!$AM24 -> 950 à 1 400 | O16: ='Références Mécanisation'!$AM27 -> 70 à 100 | P16: ='Références Mécanisation'!$AM30 -> 10 à 20 | Q16: ='Références Mécanisation'!$AM38 -> 2.2 | R16: ='Références Mécanisation'!AM39 -> 1.6 | S16: ='Références Mécanisation'!$AM43 -> 475 | T16: ='Références Mécanisation'!AM44 -> 525 | U16: ='Références Mécanisation'!$AM45 -> 11.8 | V16: ='Références Mécanisation'!AM46 -> 9.8 | W16: ='Références Mécanisation'!$AM56 -> 1.4 | X16: ='Références Mécanisation'!AM57 -> 1.2 | Y16: ='Références Mécanisation'!$AM63 -> 65 | Z16: ='Références Mécanisation'!AM64 -> 55 | AA16: ='Références Mécanisation'!$AM66 -> 65 | AB16: ='Références Mécanisation'!AM67 -> 55 | AC16: ='Références Mécanisation'!$AM77 -> 60 | AD16: ='Références Mécanisation'!AM78 -> 40 | AE16: ='Références Mécanisation'!$AM90 -> 140 | AF16: ='Références Mécanisation'!AM91 -> 100 | AG16: ='Références Mécanisation'!$AM96 -> 0.4 | AH16: ='Références Mécanisation'!AM97 -> 0.3
A17: 12 | B17: ='Références Mécanisation'!AO7 -> Bovins viande / ovins / caprins | C17: ='Références Mécanisation'!AO8 -> en zone herbagère / extensif | D17: ='Références Mécanisation'!AO9 -> Morvan, Charolais | E17: ='Références Mécanisation'!$AP14 -> 10 à 15 | F17: ='Références Mécanisation'!$AP15 -> ND | G17: ='Références Mécanisation'!$AP16 -> ND | H17: ='Références Mécanisation'!$AP17 -> ND | I17: ='Références Mécanisation'!$AP19 -> > 90 | J17: ='Références Mécanisation'!$AP20 -> 0 | K17: ='Références Mécanisation'!$AP21 -> < 10 | L17: ='Références Mécanisation'!AP22 -> ND | M17: ='Références Mécanisation'!$AP23 -> > 90 | N17: ='Références Mécanisation'!$AP24 -> 950 à 1 400 | O17: ='Références Mécanisation'!$AP27 -> 70 à 100 | P17: ='Références Mécanisation'!$AP30 -> 15 à 30 | Q17: ='Références Mécanisation'!$AP38 -> 2 | R17: ='Références Mécanisation'!AP39 -> 1.4 | S17: ='Références Mécanisation'!$AP43 -> 375 | T17: ='Références Mécanisation'!AP44 -> 425 | U17: ='Références Mécanisation'!$AP45 -> 9.2 | V17: ='Références Mécanisation'!AP46 -> 8.1 | W17: ='Références Mécanisation'!$AP56 -> 1.4 | X17: ='Références Mécanisation'!AP57 -> 1.2 | Y17: ='Références Mécanisation'!$AP63 -> 65 | Z17: ='Références Mécanisation'!AP64 -> 50 | AA17: ='Références Mécanisation'!$AP66 -> 65 | AB17: ='Références Mécanisation'!AP67 -> 50 | AC17: ='Références Mécanisation'!$AP77 -> 35 | AD17: ='Références Mécanisation'!AP78 -> 28 | AE17: ='Références Mécanisation'!$AP90 -> 130 | AF17: ='Références Mécanisation'!AP91 -> 95 | AG17: ='Références Mécanisation'!$AP96 -> 0.4 | AH17: ='Références Mécanisation'!AP97 -> 0.3
A18: 13 | B18: ='Références Mécanisation'!AU7 -> Production laitière (Lait à Comté) | C18: ='Références Mécanisation'!AU8 -> + céréales autoconsommées | D18: ='Références Mécanisation'!AU9 -> Doubs & Jura | E18: ='Références Mécanisation'!AV14 -> 10 à 20 | F18: ='Références Mécanisation'!AV15 -> ND | G18: ='Références Mécanisation'!AV16 -> ND | H18: ='Références Mécanisation'!AV17 -> ND | I18: ='Références Mécanisation'!AV19 -> 80 à 90 | J18: ='Références Mécanisation'!AV20 -> 0 | K18: ='Références Mécanisation'!AV21 -> 0 | L18: ='Références Mécanisation'!AV22 -> < 4 600 | M18: ='Références Mécanisation'!AV23 -> 80 à 90 | N18: ='Références Mécanisation'!AV24 -> 2 500 à 3 100 | O18: ='Références Mécanisation'!AV27 -> 55 à 85 | P18: ='Références Mécanisation'!AV30 -> 5 à 15% | Q18: ='Références Mécanisation'!AV38 -> 3.7 | R18: ='Références Mécanisation'!AV39 -> 3.3 | S18: ='Références Mécanisation'!AV43 -> 350 | T18: ='Références Mécanisation'!AV44 -> 400 | U18: ='Références Mécanisation'!AV45 -> 13.5 | V18: ='Références Mécanisation'!AV46 -> 13 | W18: ='Références Mécanisation'!AV56 -> 1.4 | X18: ='Références Mécanisation'!AV57 -> 1.2 | Y18: ='Références Mécanisation'!AV63 -> 115 | Z18: ='Références Mécanisation'!AV64 -> 100 | AA18: ='Références Mécanisation'!AV66 -> 115 | AB18: ='Références Mécanisation'!AV67 -> 100 | AC18: ='Références Mécanisation'!AV77 -> 165 | AD18: ='Références Mécanisation'!AV78 -> 145 | AE18: ='Références Mécanisation'!AV90 -> 500 | AF18: ='Références Mécanisation'!AV91 -> 400 | AG18: ='Références Mécanisation'!AV96 -> 0.6 | AH18: ='Références Mécanisation'!AV97 -> 0.5
A19: 14 | B19: ='Références Mécanisation'!AX7 -> Production laitière (Lait à Comté) | C19: ='Références Mécanisation'!AX8 -> "100% herbe" | D19: ='Références Mécanisation'!AX9 -> Doubs & Jura | E19: ='Références Mécanisation'!AY14 -> 0 | F19: ='Références Mécanisation'!AY15 -> ND | G19: ='Références Mécanisation'!AY16 -> ND | H19: ='Références Mécanisation'!AY17 -> ND | I19: ='Références Mécanisation'!AY19 -> 100 | J19: ='Références Mécanisation'!AY20 -> 0 | K19: ='Références Mécanisation'!AY21 -> 0 | L19: ='Références Mécanisation'!AY22 -> < 4 600 | M19: ='Références Mécanisation'!AY23 -> 100 | N19: ='Références Mécanisation'!AY24 -> 2750 à 3 200 | O19: ='Références Mécanisation'!AY27 -> 45 à 65 | P19: ='Références Mécanisation'!AY30 -> 10 à 40% | Q19: ='Références Mécanisation'!AY38 -> 3.2 | R19: ='Références Mécanisation'!AY39 -> 2.4 | S19: ='Références Mécanisation'!AY43 -> 350 | T19: ='Références Mécanisation'!AY44 -> 400 | U19: ='Références Mécanisation'!AY45 -> 11.7 | V19: ='Références Mécanisation'!AY46 -> 9.1 | W19: ='Références Mécanisation'!AY56 -> ND | X19: ='Références Mécanisation'!AY57 -> ND | Y19: ='Références Mécanisation'!AY63 -> 75 | Z19: ='Références Mécanisation'!AY64 -> 55 | AA19: ='Références Mécanisation'!AY66 -> 75 | AB19: ='Références Mécanisation'!AY67 -> 55 | AC19: ='Références Mécanisation'!AY77 -> 105 | AD19: ='Références Mécanisation'!AY78 -> 85 | AE19: ='Références Mécanisation'!AY90 -> 375 | AF19: ='Références Mécanisation'!AY91 -> 325 | AG19: ='Références Mécanisation'!AY96 -> 0.5 | AH19: ='Références Mécanisation'!AY97 -> 0.4
A20: 15 | B20: ='Références Mécanisation'!H7 -> Grandes cultures | C20: ='Références Mécanisation'!H8 -> & faible potentiel / en BIO | D20: ='Références Mécanisation'!H9 -> Plateaux de Bourgogne | E20: ='Références Mécanisation'!I14 -> > 95 | F20: ='Références Mécanisation'!I15 -> > 25 | G20: ='Références Mécanisation'!I16 -> < 30 | H20: ='Références Mécanisation'!I17 -> ND | I20: ='Références Mécanisation'!I19 -> ND | J20: ='Références Mécanisation'!I20 -> ND | K20: ='Références Mécanisation'!I21 -> ND | L20: ='Références Mécanisation'!I22 -> ND | M20: ='Références Mécanisation'!I23 -> ND | N20: ='Références Mécanisation'!I24 -> 1 150 à 1 500 | O20: ='Références Mécanisation'!I27 -> 130 à 160 | P20: ='Références Mécanisation'!I30 -> < 10 | Q20: ='Références Mécanisation'!I38 -> 2.2 | R20: ='Références Mécanisation'!I39 -> 1.8 | S20: ='Références Mécanisation'!I43 -> 325 | T20: ='Références Mécanisation'!I44 -> 375 | U20: ='Références Mécanisation'!I45 -> 7 | V20: ='Références Mécanisation'!I46 -> 5.5 | W20: ='Références Mécanisation'!I56 -> 1 | X20: ='Références Mécanisation'!I57 -> 0.9 | Y20: ='Références Mécanisation'!I63 -> 95 | Z20: ='Références Mécanisation'!I64 -> 85 | AA20: ='Références Mécanisation'!I66 -> 95 | AB20: ='Références Mécanisation'!I67 -> 85 | AC20: ='Références Mécanisation'!I77 -> 75 | AD20: ='Références Mécanisation'!I78 -> 55 | AE20: ='Références Mécanisation'!I90 -> 275 | AF20: ='Références Mécanisation'!I91 -> 225 | AG20: ='Références Mécanisation'!I96 -> 0.7 | AH20: ='Références Mécanisation'!I97 -> 0.6
A21: 16 | B21: ='Références Mécanisation'!N7 -> Grandes cultures | C21: ='Références Mécanisation'!N8 -> & fort potentiel / en BIO | D21: ='Références Mécanisation'!N9 -> Zones de Plaines, Vallées | E21: ='Références Mécanisation'!O14 -> > 95 | F21: ='Références Mécanisation'!O15 -> > 50 | G21: ='Références Mécanisation'!O16 -> > 30 | H21: ='Références Mécanisation'!O17 -> ND | I21: ='Références Mécanisation'!O19 -> ND | J21: ='Références Mécanisation'!O20 -> ND | K21: ='Références Mécanisation'!O21 -> ND | L21: ='Références Mécanisation'!O22 -> ND | M21: ='Références Mécanisation'!O23 -> ND | N21: ='Références Mécanisation'!O24 -> 1 350 à 2 000 | O21: ='Références Mécanisation'!O27 -> 90 à 140 | P21: ='Références Mécanisation'!O30 -> < 35 | Q21: ='Références Mécanisation'!O38 -> 3 | R21: ='Références Mécanisation'!O39 -> 2.5 | S21: ='Références Mécanisation'!O43 -> 350 | T21: ='Références Mécanisation'!O44 -> 400 | U21: ='Références Mécanisation'!O45 -> 7.5 | V21: ='Références Mécanisation'!O46 -> 6 | W21: ='Références Mécanisation'!O56 -> 1.2 | X21: ='Références Mécanisation'!O57 -> 1 | Y21: ='Références Mécanisation'!O63 -> 110 | Z21: ='Références Mécanisation'!O64 -> 100 | AA21: ='Références Mécanisation'!O66 -> 110 | AB21: ='Références Mécanisation'!O67 -> 100 | AC21: ='Références Mécanisation'!O77 -> 75 | AD21: ='Références Mécanisation'!O78 -> 50 | AE21: ='Références Mécanisation'!O90 -> 300 | AF21: ='Références Mécanisation'!O91 -> 240 | AG21: ='Références Mécanisation'!O96 -> 0.6 | AH21: ='Références Mécanisation'!O97 -> 0.5
A22: 17 | B22: ='Références Mécanisation'!AR7 -> Bovins viande / ovins / caprins | C22: ='Références Mécanisation'!AR8 -> en zone herbagère / extensif / en BIO | D22: ='Références Mécanisation'!AR9 -> Morvan, Charolais | E22: ='Références Mécanisation'!AS14 -> < 15 | F22: ='Références Mécanisation'!AS15 -> ND | G22: ='Références Mécanisation'!AS16 -> ND | H22: ='Références Mécanisation'!AS17 -> ND | I22: ='Références Mécanisation'!AS19 -> > 90 | J22: ='Références Mécanisation'!AS20 -> 0 | K22: ='Références Mécanisation'!AS21 -> 0 | L22: ='Références Mécanisation'!AS22 -> ND | M22: ='Références Mécanisation'!AS23 -> > 85 | N22: ='Références Mécanisation'!AS24 -> 900 à 1 400 | O22: ='Références Mécanisation'!AS27 -> 90 à 130 | P22: ='Références Mécanisation'!AS30 -> 10 à 25 | Q22: ='Références Mécanisation'!AS38 -> 2 | R22: ='Références Mécanisation'!AS39 -> 1.5 | S22: ='Références Mécanisation'!AS43 -> 375 | T22: ='Références Mécanisation'!AS44 -> 425 | U22: ='Références Mécanisation'!AS45 -> 10 | V22: ='Références Mécanisation'!AS46 -> 8 | W22: ='Références Mécanisation'!AS56 -> 1.4 | X22: ='Références Mécanisation'!AS57 -> 1.2 | Y22: ='Références Mécanisation'!AS63 -> 55 | Z22: ='Références Mécanisation'!AS64 -> 40 | AA22: ='Références Mécanisation'!AS66 -> 55 | AB22: ='Références Mécanisation'!AS67 -> 40 | AC22: ='Références Mécanisation'!AS77 -> 30 | AD22: ='Références Mécanisation'!AS78 -> 20 | AE22: ='Références Mécanisation'!AS90 -> 130 | AF22: ='Références Mécanisation'!AS91 -> 95 | AG22: ='Références Mécanisation'!AS96 -> 0.4 | AH22: ='Références Mécanisation'!AS97 -> 0.3

Sheet Classement EA
A1: Flash' Méca
A2: Références
A3: issues de l'Observatoire des Charges de Mécanisation en Bourgogne Franche-Comté
B4: ='Calcul FLASH''MECA'!T2 -> 0
B6: =VLOOKUP($B$4,'Typologie EA'!$A$5:$AG$22,2) -> #N/A
B7: =VLOOKUP($B$4,'Typologie EA'!$A$5:$AG$22,3) -> #N/A
B8: =VLOOKUP($B$4,'Typologie EA'!$A$5:$AG$22,4) -> #N/A
A10: Critères de "positionnement" de l'exploitation
A12: SAU
A13: Surface en cultures | C13: =VLOOKUP($B$4,'Typologie EA'!$A$5:$AG$22,5) -> #N/A
A14: Surface labourée | C14: =VLOOKUP($B$4,'Typologie EA'!$A$5:$AG$22,6) -> #N/A
A15: Rendement moyen en blé | C15: =VLOOKUP($B$4,'Typologie EA'!$A$5:$AG$22,7) -> #N/A
A16: % de cultures industrielles (Betteraves sucrières) /SAU | C16: =VLOOKUP($B$4,'Typologie EA'!$A$5:$AG$22,8) -> #N/A
A17: SFP | C17: =VLOOKUP($B$4,'Typologie EA'!$A$5:$AG$22,9) -> #N/A
A18: % de mäis ensilage /SFP | C18: =VLOOKUP($B$4,'Typologie EA'!$A$5:$AG$22,10) -> #N/A
A19: % de PT ensilage /SFP | C19: =VLOOKUP($B$4,'Typologie EA'!$A$5:$AG$22,11) -> #N/A
A20: Quota laitier /SFP | C20: =VLOOKUP($B$4,'Typologie EA'!$A$5:$AG$22,12) -> #N/A
A21: STH | C21: =VLOOKUP($B$4,'Typologie EA'!$A$5:$AG$22,13) -> #N/A
A22: Produit brut (année 2010) | C22: =VLOOKUP($B$4,'Typologie EA'!$A$5:$AG$22,14) -> #N/A
A23: Nombre d'hectare /Unité de main d'œuvre | C23: =VLOOKUP($B$4,'Typologie EA'!$A$5:$AG$22,15) -> #N/A
A24: Travaux par tiers | C24: =VLOOKUP($B$4,'Typologie EA'!$A$5:$AG$22,16) -> #N/A
A27: Poste "Traction" | C27: Q3 | D27: M
A29: Puissance de traction (ch /ha de SAU)
A30: Identification des tracteurs + automoteurs
A31: Age (Nombre d'heures /compteur)
A32: Puissance des tracteurs + 50% automoteurs | B32: < | C32: =VLOOKUP($B$4,'Typologie EA'!$A$5:$AH$22,17) -> #N/A | D32: =VLOOKUP($B$4,'Typologie EA'!$A$5:$AH$22,18) -> #N/A
A34: Utilisation annuelle tracteurs (Nbre d'heures /tracteur/an)
A35: Nombre de tracteurs
A36: Nombre d'heures effectuées à l'année /tracteur | B36: > | C36: =VLOOKUP($B$4,'Typologie EA'!$A$5:$AH$22,19) -> #N/A | D36: =VLOOKUP($B$4,'Typologie EA'!$A$5:$AH$22,20) -> #N/A
A37: Nombre d'heures effectuées à l'année /ha de SAU | B37: < | C37: =VLOOKUP($B$4,'Typologie EA'!$A$5:$AH$22,21) -> #N/A | D37: =VLOOKUP($B$4,'Typologie EA'!$A$5:$AH$22,22) -> #N/A
A40: Poste "Récolte"
A42: Puissance par ha moissonné (ch /ha récolté en été)
A43: Age de la MB (Nombre d'heures /compteur)
A44: Puissance de la MB
A45: Nombre d'heures effectuées à l'année
A46: Surface récoltée en "été"
B47: < | C47: =VLOOKUP($B$4,'Typologie EA'!$A$5:$AH$22,23) -> #N/A | D47: =VLOOKUP($B$4,'Typologie EA'!$A$5:$AH$22,24) -> #N/A
A50: Poste "Carburant"
A52: Frais de Carburant
A53: Facture annuelle de carburant | B53: < | C53: =VLOOKUP($B$4,'Typologie EA'!$A$5:$AH$22,25) -> #N/A | D53: =VLOOKUP($B$4,'Typologie EA'!$A$5:$AH$22,26) -> #N/A
...

Sheet Références Mécanisation
A1: Flash' Méca
A2: Références Mécanisation
A3: issues de l'Observatoire des Charges de Mécanisation en Bourgogne Franche-Comté
B4: 1 | E4: 2 | H4: 15 | K4: 3 | N4: 16 | Q4: 4 | T4: 6 | W4: 7 | Z4: 5 | AC4: 8 | AF4: 9 | AI4: 10 | AL4: 11 | AO4: 12 | AR4: 17 | AU4: 13 | AX4: 14
B6: F 1 | E6: F 1.1 | H6: F 1 BIO | K6: F3 | N6: F 3 BIO | Q6: F 7-8-9 | T6: F 28 | W6: F 20 | Z6: F 10 | AC6: F 17-18 | AF6: F 21 | AI6: F 22-23 | AL6: F 25 | AO6: F 26 | AR6: F 25-26 BIO | AU6: F 21.1 | AX6: F 21.2
B7: Grandes cultures | E7: Grandes cultures | H7: Grandes cultures | K7: Grandes cultures | N7: Grandes cultures | Q7: Grandes cultures | T7: Grandes cultures | W7: Grandes cultures | Z7: Grandes cultures | AC7: Grandes cultures | AF7: Production laitière dominante | AI7: Bovins viande / ovins | AL7: Bovins viande / ovins / caprins | AO7: Bovins viande / ovins / caprins | AR7: Bovins viande / ovins / caprins | AU7: Production laitière (Lait à Comté) | AX7: Production laitière (Lait à Comté)
B8: & faible potentiel / labour | E8: & faible potentiel / non-labour | H8: & faible potentiel / en BIO | K8: & fort potentiel | N8: & fort potentiel / en BIO | Q8: + BS / cultures industrielles | T8: + production laitière | W8: + bovins viande / ovins | Z8: + cultures particulières | AC8: + atelier hors-sol | AI8: + grandes cultures | AL8: en zone hérbagère | AO8: en zone herbagère / extensif | AR8: en zone herbagère / extensif / en BIO | AU8: + céréales autoconsommées | AX8: "100% herbe"
B9: Plateaux de Bourgogne | E9: Plateaux de Bourgogne | H9: Plateaux de Bourgogne | K9: Zones de Plaines, Vallées | N9: Zones de Plaines, Vallées | Q9: Zones de Plaines, Vallées | Z9: (petits fruits, porte-graines, …) | AC9: (porcs ou volailles) ou vigne | AF9: Puisaye, Florentinois | AL9: Auxois, Morvan, Charolais | AO9: Morvan, Charolais | AR9: Morvan, Charolais | AU9: Doubs & Jura | AX9: Doubs & Jura
B10: MAJ 2020-2021 | E10: MAJ 2020-2021 | H10: MAJ 2020-2021 | K10: MAJ 2016-2017 | N10: MAJ 2022-2023 | Q10: MAJ 2018 | T10: MAJ 2018 | W10: MAJ 2020-2021 | Z10: MAJ 2018 | AC10: MAJ 2018 | AF10: MAJ 2018 | AI10: MAJ 2022-2023 | AL10: MAJ 2018 | AO10: MAJ 2018 | AR10: MAJ 2019-2020 | AU10: MAJ 2018-2019 | AX10: MAJ 2018-2019
A11: Critères de "positionnement" de l'exploitation
A13: SAU
A14: Surface en cultures | C14: > 95 | D14: % | F14: > 95 | G14: % | I14: > 95 | J14: % | L14: > 95 | M14: % | O14: > 95 | P14: % | R14: > 95 | S14: % | U14: 70 à 95 | V14: % | X14: 60 à 85 | Y14: % | AA14: > 90 | AB14: % | AD14: > 90 | AE14: % | AG14: 55 à 70 | AH14: % | AJ14: 20 à 40 | AK14: % | AM14: 25 à 40 | AN14: % | AP14: 10 à 15 | AQ14: % | AS14: < 15 | AT14: % | AV14: 10 à 20 | AW14: % | AY14: 0 | AZ14: %
A15: Surface labourée | C15: 25 à 40 | D15: % | F15: < 25 | G15: % | I15: > 25 | J15: % | L15: > 50 | M15: % | O15: > 50 | P15: % | R15: > 50 | S15: % | U15: > 50 | V15: % | X15: 25 à 40 | Y15: % | AA15: > 50 | AB15: % | AD15: > 50 | AE15: % | AG15: ND | AH15: % | AJ15: ND | AK15: % | AM15: ND | AN15: % | AP15: ND | AQ15: % | AS15: ND | AT15: % | AV15: ND | AW15: % | AY15: ND | AZ15: %
A16: Rendement moyen en blé | C16: < 70 | D16: qx/ha | F16: < 60 | G16: qx/ha | I16: < 30 | J16: qx/ha | L16: > 70 | M16: qx/ha | O16: > 30 | P16: qx/ha | R16: > 70 | S16: qx/ha | U16: ND | V16: qx/ha | X16: < 70 | Y16: qx/ha | AA16: < 70 | AB16: qx/ha | AD16: < 70 | AE16: qx/ha | AG16: ND | AH16: qx/ha | AJ16: ND | AK16: qx/ha | AM16: ND | AN16: qx/ha | AP16: ND | AQ16: qx/ha | AS16: ND | AT16: qx/ha | AV16: ND | AW16: qx/ha | AY16: ND | AZ16: qx/ha
A17: % de cultures industrielles (Betteraves sucrières) /SAU | C17: ND | D17: % | F17: ND | G17: % | I17: ND | J17: % | L17: ND | M17: % | O17: ND | P17: % | R17: > 5 | S17: % | U17: ND | V17: % | X17: ND | Y17: % | AA17: ND | AB17: % | AD17: ND | AE17: % | AG17: ND | AH17: % | AJ17: ND | AK17: % | AM17: ND | AN17: % | AP17: ND | AQ17: % | AS17: ND | AT17: % | AV17: ND | AW17: % | AY17: ND | AZ17: %
A18: % de cultures de printemps | C18: < 20 | D18: % | F18: < 20 | G18: % | I18: < 40 | J18: % | L18: < 30 | M18: % | O18: < 50 | P18: % | R18: < 30 | S18: % | U18: 35 à 60 | V18: % | X18: < 30 | Y18: % | AA18: < 20 | AB18: % | AD18: < 20 | AE18: % | AG18: 45 à 80 | AH18: % | AJ18: ND | AK18: % | AM18: ND | AN18: % | AP18: ND | AQ18: % | AS18: ND | AT18: % | AV18: < 20 | AW18: % | AY18: ND | AZ18: %
A19: SFP | C19: ND | D19: % | F19: ND | G19: % | I19: ND | J19: % | L19: ND | M19: % | O19: ND | P19: % | R19: ND | S19: % | U19: 30 à 50 | V19: % | X19: < 40 | Y19: % | AA19: ND | AB19: % | AD19: ND | AE19: % | AG19: 55 à 75 | AH19: % | AJ19: 85 à 95 | AK19: % | AM19: > 90 | AN19: % | AP19: > 90 | AQ19: % | AS19: > 90 | AT19: % | AV19: 80 à 90 | AW19: % | AY19: 100 | AZ19: %
A20: % de mäis ensilage /SFP | C20: ND | D20: % | F20: ND | G20: % | I20: ND | J20: % | L20: ND | M20: % | O20: ND | P20: % | R20: ND | S20: % | U20: 5 à 40 | V20: % | X20: < 5 | Y20: % | AA20: ND | AB20: % | AD20: ND | AE20: % | AG20: < 25 | AH20: % | AJ20: < 10 | AK20: % | AM20: 0 | AN20: % | AP20: 0 | AQ20: % | AS20: 0 | AT20: % | AV20: 0 | AW20: % | AY20: 0 | AZ20: %
A21: % de PT ensilage /SFP | C21: ND | D21: % | F21: ND | G21: % | I21: ND | J21: % | L21: ND | M21: % | O21: ND | P21: % | R21: ND | S21: % | U21: 10 à 60 | V21: % | X21: < 10 | Y21: % | AA21: ND | AB21: % | AD21: ND | AE21: % | AG21: < 55 | AH21: % | AJ21: 10 à 30 | AK21: % | AM21: 20 à 30 | AN21: % | AP21: < 10 | AQ21: % | AS21: 0 | AT21: % | AV21: 0 | AW21: % | AY21: 0 | AZ21: %
A22: Quota laitier /SFP | C22: ND | D22: l /ha SFP | F22: ND | G22: l /ha SFP | I22: ND | J22: l /ha SFP | L22: ND | M22: l /ha SFP | O22: ND | P22: l /ha SFP | R22: ND | S22: l /ha SFP | U22: > 7 000 | V22: l /ha SFP | X22: ND | Y22: l /ha SFP | AA22: ND | AB22: l /ha SFP | AD22: ND | AE22: l /ha SFP | AG22: < 7 000 | AH22: l /ha SFP | AJ22: ND | AK22: l /ha SFP | AM22: ND | AN22: l /ha SFP | AP22: ND | AQ22: l /ha SFP | AS22: ND | AT22: l /ha SFP | AV22: < 4 600 | AW22: l /ha SFP | AY22: < 4 600 | AZ22: l /ha SFP
A23: STH | C23: ND | D23: % | F23: ND | G23: % | I23: ND | J23: % | L23: ND | M23: % | O23: ND | P23: % | R23: ND | S23: % | U23: 20 à 30 | V23: % | X23: 20 à 40 | Y23: % | AA23: ND | AB23: % | AD23: 0 à 20 | AE23: % | AG23: 50 à 60 | AH23: % | AJ23: 75 à 90 | AK23: % | AM23: > 90 | AN23: % | AP23: > 90 | AQ23: % | AS23: > 85 | AT23: % | AV23: 80 à 90 | AW23: % | AY23: 100 | AZ23: %
A24: Produit brut | C24: 1 000 à 1 300 | D24: €/ha SAU | F24: 1 000 à 1 200 | G24: €/ha SAU | I24: 1 150 à 1 500 | J24: €/ha SAU | L24: 1 200 à 1 650 | M24: €/ha SAU | O24: 1 350 à 2 000 | P24: €/ha SAU | R24: 1 400 à 1 800 | S24: €/ha SAU | U24: 1 900 à 2 500 | V24: €/ha SAU | X24: 1 150 à 1 400 | Y24: €/ha SAU | AA24: 1 250 à 1 400 | AB24: €/ha SAU | AD24: 1 600 à 2 000 | AE24: €/ha SAU | AG24: 1 800 à 2 300 | AH24: €/ha SAU | AJ24: 1 500 à 1 900 | AK24: €/ha SAU | AM24: 950 à 1 400 | AN24: €/ha SAU | AP24: 950 à 1 400 | AQ24: €/ha SAU | AS24: 900 à 1 400 | AT24: €/ha SAU | AV24: 2 500 à 3 100 | AW24: €/ha SAU | AY24: 2750 à 3 200 | AZ24: €/ha SAU
A25: Produit brut | C25: 1 000 à 1 425 | D25: €/ha SAU | G25: €/ha SAU | J25: €/ha SAU | L25: 1 290 à 1 840 | M25: €/ha SAU | O25: 1 340 à 1 970 | P25: €/ha SAU | S25: €/ha SAU | V25: €/ha SAU | X25: 1 185 à 1 575 | Y25: €/ha SAU | AA25: 1 200 à 1360 | AB25: €/ha SAU | AD25: 1 805 à 1 915 | AE25: €/ha SAU | AG25: 2 140 à 2 480 | AH25: €/ha SAU | AK25: €/ha SAU | AN25: €/ha SAU | AQ25: €/ha SAU | AT25: €/ha SAU | AW25: €/ha SAU | AZ25: €/ha SAU
A26: Produit brut | C26: 950 à 1 200 | D26: €/ha SAU | F26: 950 à 1 150 | G26: €/ha SAU | I26: 1 150 à 1 950 | J26: €/ha SAU | L26: 1 100 à 1 500 | M26: €/ha SAU | O26: 1 500 à 2 100 | P26: €/ha SAU | R26: 1 350 à 1 700 | S26: €/ha SAU | U26: 1 650 à 2 400 | V26: €/ha SAU | X26: 1 000 à 1 150 | Y26: €/ha SAU | AA26: 1 250 à 1 400 | AB26: €/ha SAU | AD26: 1 400 à 1 950 | AE26: €/ha SAU | AG26: 1 500 à 2 000 | AH26: €/ha SAU | AJ26: 1 400 à 1 750 | AK26: €/ha SAU | AM26: 860 à 1 250 | AN26: €/ha SAU | AP26: 860 à 1 250 | AQ26: €/ha SAU | AS26: 850 à 1 150 | AT26: €/ha SAU | AV26: 2 350 à 2 900 | AW26: €/ha SAU | AY26: 2 600 à 2 950 | AZ26: €/ha SAU
A27: Nombre d'hectare /Unité de main d'œuvre | C27: 145 à 200 | D27: ha/UMO | F27: 200 à 250 | G27: ha/UMO | I27: 130 à 160 | J27: ha/UMO | L27: 120 à 180 | M27: ha/UMO | O27: 90 à 140 | P27: ha/UMO | R27: 120 à 180 | S27: ha/UMO | U27: 65 à 95 | V27: ha/UMO | X27: 130 à 165 | Y27: ha/UMO | AA27: 80 à 140 | AB27: ha/UMO | AD27: 75 à 100 | AE27: ha/UMO | AG27: 65 à 90 | AH27: ha/UMO | AJ27: 80 à 120 | AK27: ha/UMO | AM27: 70 à 100 | AN27: ha/UMO | AP27: 70 à 100 | AQ27: ha/UMO | AS27: 90 à 130 | AT27: ha/UMO | AV27: 55 à 85 | AW27: ha/UMO | AY27: 45 à 65 | AZ27: ha/UMO
A28: Nombre d'hectare /Unité de main d'œuvre | C28: 135 à 195 | D28: ha/UMO | G28: ha/UMO | J28: ha/UMO | L28: 110 à 135 | M28: ha/UMO | O28: 50 à 85 | P28: ha/UMO | S28: ha/UMO | V28: ha/UMO | X28: 130 à 155 | Y28: ha/UMO | AA28: 130 à 140 | AB28: ha/UMO | AD28: 50 | AE28: ha/UMO | AG28: 65 à 90 | AH28: ha/UMO | AK28: ha/UMO | AN28: ha/UMO | AQ28: ha/UMO | AT28: ha/UMO | AW28: ha/UMO | AZ28: ha/UMO
A29: Nombre d'hectare /Unité de main d'œuvre | C29: 145 à 200 | D29: ha/UMO | F29: 200 à 250 | G29: ha/UMO | I29: 130 à 160 | J29: ha/UMO | L29: 120 à 180 | M29: ha/UMO | O29: 90 à 160 | P29: ha/UMO | R29: 120 à 180 | S29: ha/UMO | U29: 65 à 95 | V29: ha/UMO | X29: 135 à 165 | Y29: ha/UMO | AA29: 80 à 135 | AB29: ha/UMO | AD29: 75 à 100 | AE29: ha/UMO | AG29: 60 à 85 | AH29: ha/UMO | AJ29: 80 à 120 | AK29: ha/UMO | AM29: 70 à 90 | AN29: ha/UMO | AP29: 70 à 100 | AQ29: ha/UMO | AS29: 90 à 130 | AT29: ha/UMO | AV29: 55 à 85 | AW29: ha/UMO | AY29: 45 à 65 | AZ29: ha/UMO
A30: Travaux par tiers | C30: < 10 | D30: % | F30: < 10 | G30: % | I30: < 10 | J30: % | L30: < 30 | M30: % | O30: < 35 | P30: % | R30: < 30 | S30: % | U30: 25 à 50 | V30: % | X30: < 30 | Y30: % | AA30: 10 à 30 | AB30: % | AD30: 15 à 25 | AE30: % | AG30: 20 à 55% | AJ30: 20 à 35 | AK30: % | AM30: 10 à 20 | AN30: % | AP30: 15 à 30 | AQ30: % | AS30: 10 à 25 | AT30: % | AV30: 5 à 15% | AW30: % | AY30: 10 à 40% | AZ30: %
B32: 2018 | E32: 2020 | H32: 2020 | K32: 2015 | N32: 2021 | Q32: 2003 | T32: 2009 | W32: 2018 | Z32: 2007 | AC32: 2008 | AF32: 2009 | AI32: 2022 | AL32: 2007 | AO32: 2006 | AR32: 2018 | AU32: 2017 | AX32: 2017
A33: Poste "Traction"
A35: Puissance de traction (ch /ha de SAU)
A36: Identification des tracteurs + automoteurs
A37: Age (Nombre d'heures /compteur)
A38: Puissance des tracteurs + 50% automoteurs | B38: < | C38: 2.4 | D38: ch /ha SAU | E38: < | F38: 2 | G38: ch /ha SAU | H38: < | I38: 2.2 | J38: ch /ha SAU | K38: < | L38: 2.8 | M38: ch /ha SAU | N38: < | O38: 3 | P38: ch /ha SAU | Q38: < | R38: 2.8 | S38: ch /ha SAU | T38: < | U38: 3 | V38: ch /ha SAU | W38: < | X38: 2.3 | Y38: ch /ha SAU | Z38: < | AA38: 2.4 | AB38: ch /ha SAU | AC38: < | AD38: 3.1 | AE38: ch /ha SAU | AF38: < | AG38: 2.8 | AH38: ch /ha SAU | AI38: < | AJ38: 2.3 | AK38: ch /ha SAU | AL38: < | AM38: 2.2 | AN38: ch /ha SAU | AO38: < | AP38: 2 | AQ38: ch /ha SAU | AR38: < | AS38: 2 | AT38: ch /ha SAU | AU38: < | AV38: 3.7 | AW38: ch /ha SAU | AX38: < | AY38: 3.2 | AZ38: ch /ha SAU
B39: < | C39: 2 | D39: ch /ha SAU | E39: < | F39: 1.7 | G39: ch /ha SAU | H39: < | I39: 1.8 | J39: ch /ha SAU | K39: < | L39: 2.3 | M39: ch /ha SAU | N39: < | O39: 2.5 | P39: ch /ha SAU | Q39: < | R39: 2.3 | S39: ch /ha SAU | T39: < | U39: 2.8 | V39: ch /ha SAU | W39: < | X39: 1.8 | Y39: ch /ha SAU | Z39: < | AA39: 2 | AB39: ch /ha SAU | AC39: < | AD39: 2.6 | AE39: ch /ha SAU | AF39: < | AG39: 2.4 | AH39: ch /ha SAU | AI39: < | AJ39: 1.8 | AK39: ch /ha SAU | AL39: < | AM39: 1.6 | AN39: ch /ha SAU | AO39: < | AP39: 1.4 | AQ39: ch /ha SAU | AR39: < | AS39: 1.5 | AT39: ch /ha SAU | AU39: < | AV39: 3.3 | AW39: ch /ha SAU | AX39: < | AY39: 2.4 | AZ39: ch /ha SAU
A41: Utilisation annuelle tracteurs (Nbre d'heures /tracteur/an)
A42: Nombre de tracteurs | C42: =#REF! -> #REF! | F42: =#REF! -> #REF! | L42: =#REF! -> #REF! | R42: =#REF! -> #REF! | U42: =#REF! -> #REF! | X42: =#REF! -> #REF! | AA42: =#REF! -> #REF! | AD42: =#REF! -> #REF! | AG42: =#REF! -> #REF! | AJ42: =#REF! -> #REF! | AM42: =#REF! -> #REF! | AP42: =#REF! -> #REF! | AV42: =#REF! -> #REF! | AY42: =#REF! -> #REF!
A43: Nombre d'heures effectuées à l'année /tracteur | B43: > | C43: 300 | D43: heures | E43: > | F43: 275 | G43: heures | H43: > | I43: 325 | J43: heures | K43: > | L43: 300 | M43: heures | N43: > | O43: 350 | P43: heures | Q43: > | R43: 300 | S43: heures | T43: > | U43: 450 | V43: heures | W43: > | X43: 400 | Y43: heures | Z43: > | AA43: 375 | AB43: heures | AC43: > | AD43: 350 | AE43: heures | AF43: > | AG43: 475 | AH43: heures | AI43: > | AJ43: 500 | AK43: heures | AL43: > | AM43: 475 | AN43: heures | AO43: > | AP43: 375 | AQ43: heures | AR43: > | AS43: 375 | AT43: heures | AU43: > | AV43: 350 | AW43: heures | AX43: > | AY43: 350 | AZ43: heures
B44: > | C44: 350 | D44: heures | E44: > | F44: 325 | G44: heures | H44: > | I44: 375 | J44: heures | K44: > | L44: 350 | M44: heures | N44: > | O44: 400 | P44: heures | R44: 350 | S44: heures | U44: 500 | V44: heures | X44: 500 | Y44: heures | AA44: 425 | AB44: heures | AD44: 400 | AE44: heures | AG44: 550 | AH44: heures | AJ44: 575 | AK44: heures | AL44: > | AM44: 525 | AN44: heures | AO44: > | AP44: 425 | AQ44: heures | AR44: > | AS44: 425 | AT44: heures | AV44: 400 | AW44: heures | AY44: 400 | AZ44: heures
A45: Nombre d'heures effectuées à l'année /ha de SAU | B45: < | C45: 5.5 | D45: heures | E45: < | F45: 4.5 | G45: heures | H45: < | I45: 7 | J45: heures | K45: < | L45: 6.8 | M45: heures | N45: < | O45: 7.5 | P45: heures | Q45: < | R45: 6.5 | S45: heures | T45: < | U45: 14.5 | V45: heures | W45: < | X45: 9 | Y45: heures | Z45: < | AA45: 7.2 | AB45: heures | AC45: < | AD45: 7.6 | AE45: heures | AF45: < | AG45: 15.5 | AH45: heures | AI45: < | AJ45: 12 | AK45: heures | AL45: < | AM45: 11.8 | AN45: heures | AO45: < | AP45: 9.2 | AQ45: heures | AR45: < | AS45: 10 | AT45: heures | AU45: < | AV45: 13.5 | AW45: heures | AX45: < | AY45: 11.7 | AZ45: heures
...

Sheet Références Récolte Herbe
A1: Flash' Méca
A2: Références Récolte Herbe
A3: issues du Guide des Prix de revient 2023 et des Coûts Prévisionnels Indicatifs du matériel agricole 2023
C9: IVAN GPR | G9: PR GPR 2015 | K9: Coût chantier
A10: Opération | B10: Matériel | G10: Q1 | H10: m | I10: Q3 | K10: Q1 | O10: m | S10: Q3 | Z10: en € | AA10: en € | AB10: en % | AC10: en unité
AA11: actualisée
K12: Matériel | L12: + Traction | M12: + Carburant | N12: + Main d'œuvre | O12: Matériel | P12: + Traction | Q12: + Carburant | R12: + Main d'œuvre | S12: Matériel | T12: + Traction | U12: + Carburant | V12: + Main d'œuvre | Y12: Année d'achat | Z12: Valeur d'achat | AA12: Valeur d'achat | AB12: Taux de propriété | AC12: Utilisation
A13: Fauche | B13: F simple | C13: 71.179528 | D13: 107.84054 | E13: 134.99736 | F13: /ha | G13: 11.964577 | H13: 16.581782 | I13: 20.001998 | J13: /ha | K13: 11.964577 | L13: 19.373625 | M13: 24.565649 | N13: 35.451363 | O13: 16.581782 | P13: 23.99083 | Q13: 29.182854 | R13: 40.068568 | S13: 20.001998 | T13: 27.411046 | U13: 32.60307 | V13: 43.488784 | W13: /ha | Y13: ='Calcul FLASH''MECA'!B65 -> 0 | Z13: ='Calcul FLASH''MECA'!C65 -> 0 | AA13: =($C$73*Z13)/VLOOKUP(Y13,$A$27:$C$73,3) -> 0 | AB13: ='Calcul FLASH''MECA'!E65 -> 0 | AC13: ='Calcul FLASH''MECA'!H65 -> 0 | AD13: /ha
B14: F conditionneuse | C14: 110.38246 | D14: 160.44718 | E14: 204.8162 | F14: /ha | G14: 19.702143 | H14: 26.634974 | I14: 32.779081 | J14: /ha | K14: 19.702143 | L14: 28.230476 | M14: 34.650074 | N14: 44.400074 | O14: 26.634974 | P14: 35.163308 | Q14: 41.582906 | R14: 51.332906 | S14: 32.779081 | T14: 41.307414 | U14: 47.727013 | V14: 57.477013 | W14: /ha | Y14: ='Calcul FLASH''MECA'!B66 -> 0 | Z14: ='Calcul FLASH''MECA'!C66 -> 0 | AA14: =($C$73*Z14)/VLOOKUP(Y14,$A$27:$C$73,3) -> 0 | AB14: ='Calcul FLASH''MECA'!E66 -> 0 | AC14: ='Calcul FLASH''MECA'!H66 -> 0 | AD14: /ha
A15: Andainage | C15: 77.064258 | D15: 117.85813 | E15: 151.69773 | F15: /ha | G15: 9.4458813 | H15: 13.718193 | I15: 17.262189 | J15: /ha | K15: 9.4458813 | L15: 12.892346 | M15: 15.452831 | N15: 19.199584 | O15: 13.718193 | P15: 17.164657 | Q15: 19.725142 | R15: 23.471896 | S15: 17.262189 | T15: 20.708653 | U15: 23.269138 | V15: 27.015892 | W15: /ha | Y15: ='Calcul FLASH''MECA'!B67 -> 0 | Z15: ='Calcul FLASH''MECA'!C67 -> 0 | AA15: =($C$73*Z15)/VLOOKUP(Y15,$A$27:$C$73,3) -> 0 | AB15: ='Calcul FLASH''MECA'!E67 -> 0 | AC15: ='Calcul FLASH''MECA'!H67 -> 0 | AD15: /ha
A16: Fanage | C16: 63.045319 | D16: 96.89402 | E16: 127.61321 | F16: /ha | G16: 8.4360218 | H16: 11.980971 | I16: 15.198168 | J16: /ha | K16: 8.4360218 | L16: 12.972847 | M16: 16.294685 | N16: 22.118495 | O16: 11.980971 | P16: 16.517796 | Q16: 19.839634 | R16: 25.663444 | S16: 15.198168 | T16: 19.734993 | U16: 23.056831 | V16: 28.88064 | W16: /ha | Y16: ='Calcul FLASH''MECA'!B68 -> 0 | Z16: ='Calcul FLASH''MECA'!C68 -> 0 | AA16: =($C$73*Z16)/VLOOKUP(Y16,$A$27:$C$73,3) -> 0 | AB16: ='Calcul FLASH''MECA'!E68 -> 0 | AC16: ='Calcul FLASH''MECA'!H68 -> 0 | AD16: /ha
A17: Pressage | B17: P à balles rondes | C17: 13.519103 | D17: 20.299832 | E17: 27.829996 | F17: /ba | G17: 2.2658455 | H17: 2.975986 | I17: 3.7646143 | J17: /ba | K17: 2.9108455 | L17: 3.4302562 | M17: 3.800242 | N17: 4.3113134 | O17: 3.620986 | P17: 4.1403967 | Q17: 4.5103825 | R17: 5.021454 | S17: 4.4096143 | T17: 4.9290251 | U17: 5.2990108 | V17: 5.8100823 | W17: /ba | Y17: ='Calcul FLASH''MECA'!B69 -> 0 | Z17: ='Calcul FLASH''MECA'!C69 -> 0 | AA17: =($C$73*Z17)/VLOOKUP(Y17,$A$27:$C$73,3) -> 0 | AB17: ='Calcul FLASH''MECA'!E69 -> 0 | AC17: ='Calcul FLASH''MECA'!H69 -> 0 | AD17: /ba
B18: P à balles carrées | C18: 16.86665 | D18: 25.365389 | E18: 35.574756 | F18: /ba | G18: 3.1356497 | H18: 4.312533 | I18: 5.7262995 | J18: /ba | K18: 4.6156497 | L18: 5.2438164 | M18: 5.7533625 | N18: 6.3233625 | O18: 5.792533 | P18: 6.4206996 | Q18: 6.9302458 | R18: 7.5002458 | S18: 7.2062995 | T18: 7.8344661 | U18: 8.3440123 | V18: 8.9140123 | W18: /ba | Y18: ='Calcul FLASH''MECA'!B70 -> 0 | Z18: ='Calcul FLASH''MECA'!C70 -> 0 | AA18: =($C$73*Z18)/VLOOKUP(Y18,$A$27:$C$73,3) -> 0 | AB18: ='Calcul FLASH''MECA'!E70 -> 0 | AC18: ='Calcul FLASH''MECA'!H70 -> 0 | AD18: /ba
A19: Pressage-enrubannage | C19: 17.354314 | D19: 32.551596 | E19: 41.571581 | G19: 3.3131801 | H19: 5.4176602 | I19: 6.6667242 | J19: /ba | K19: 7.6731801 | L19: 8.2181801 | M19: 8.6905793 | N19: 9.1405793 | O19: 9.7776602 | P19: 10.32266 | Q19: 10.795059 | R19: 11.245059 | S19: 11.026724 | T19: 11.571724 | U19: 12.044123 | V19: 12.494123 | W19: /ba | Y19: ='Calcul FLASH''MECA'!B71 -> 0 | Z19: ='Calcul FLASH''MECA'!C71 -> 0 | AA19: =($C$73*Z19)/VLOOKUP(Y19,$A$27:$C$73,3) -> 0 | AB19: ='Calcul FLASH''MECA'!E71 -> 0 | AC19: ='Calcul FLASH''MECA'!H71 -> 0 | AD19: /ba
A20: Enrubannage | C20: 7.9242502 | D20: 12.990354 | E20: 16.572134 | F20: /ba | G20: 1.3460054 | H20: 1.9840467 | I20: 2.4351475 | J20: /ba | K20: 5.2560054 | L20: 6.7993387 | M20: 7.9305259 | N20: 9.7305259 | O20: 5.8940467 | P20: 7.43738 | Q20: 8.5685672 | R20: 10.368567 | S20: 6.3451475 | T20: 7.8884809 | U20: 9.0196681 | V20: 10.819668 | W20: /ba | Y20: ='Calcul FLASH''MECA'!B72 -> 0 | Z20: ='Calcul FLASH''MECA'!C72 -> 0 | AA20: =($C$73*Z20)/VLOOKUP(Y20,$A$27:$C$73,3) -> 0 | AB20: ='Calcul FLASH''MECA'!E72 -> 0 | AC20: ='Calcul FLASH''MECA'!H72 -> 0 | AD20: /ba
A21: Récolte | B21: Autochargeuse | C21: 405.09445 | D21: 583.26813 | E21: 705.91189 | F21: /ha | G21: 46.875234 | H21: 65.535229 | I21: 78.379617 | J21: /ha | K21: 46.875234 | L21: 64.124044 | M21: 77.345562 | N21: 91.76699 | O21: 65.535229 | P21: 82.784039 | Q21: 96.005556 | R21: 110.42699 | S21: 78.379617 | T21: 95.628426 | U21: 108.84994 | V21: 123.27137 | W21: /ha | Y21: ='Calcul FLASH''MECA'!B73 -> 0 | Z21: ='Calcul FLASH''MECA'!C73 -> 0 | AA21: =($C$73*Z21)/VLOOKUP(Y21,$A$27:$C$73,3) -> 0 | AB21: ='Calcul FLASH''MECA'!E73 -> 0 | AC21: ='Calcul FLASH''MECA'!H73 -> 0 | AD21: /ha
B22: Ensileuse | C22: 580.37146 | D22: 686.82235 | E22: 813.1787 | F22: /ha | G22: 104.54761 | H22: 118.69954 | I22: 135.49775 | J22: /ha | K22: 104.54761 | L22: 104.54761 | M22: 135.89698 | N22: 144.15916 | O22: 118.69954 | P22: 118.69954 | Q22: 150.0489 | R22: 158.31108 | S22: 135.49775 | T22: 135.49775 | U22: 166.84711 | V22: 175.1093 | W22: /ha | Y22: ='Calcul FLASH''MECA'!B74 -> 0 | Z22: ='Calcul FLASH''MECA'!C74 -> 0 | AA22: =($C$73*Z22)/VLOOKUP(Y22,$A$27:$C$73,3) -> 0 | AB22: ='Calcul FLASH''MECA'!E74 -> 0 | AC22: ='Calcul FLASH''MECA'!H74 -> 0 | AD22: /ha
H25: Indice mensuel des prix d'achat des moyens de production agricole (IPAMPA) - Matériel - Série arrêtée
A26: Indice IPAMPA Biens d'investissement / matériels agricoles | B26: Base 100 en 2005 | D26: Base 100 en 2010 | F26: Base 100 en 2015 | H26: Base 100 en 2015
A27: année | D27: en % | E27: coef. | F27: en % | G27: coef. | H27: en % | I27: coef.
A28: 0 | C28: 1
A29: 1980 | C29: 35.8
A30: 1981 | B30: =(C30-C29)/C29 -> 0.13407821 | C30: 40.6
A31: 1982 | B31: =(C31-C30)/C30 -> 0.14039409 | C31: 46.3
A32: 1983 | B32: =(C32-C31)/C31 -> 0.097192225 | C32: 50.8
A33: 1984 | B33: =(C33-C32)/C32 -> 0.070866142 | C33: 54.4
A34: 1985 | B34: =(C34-C33)/C33 -> 0.053308824 | C34: 57.3
A35: 1986 | B35: =(C35-C34)/C34 -> 0.052356021 | C35: 60.3
A36: 1987 | B36: =(C36-C35)/C35 -> 0.053067993 | C36: 63.5
A37: 1988 | B37: =(C37-C36)/C36 -> 0.042519685 | C37: 66.2
A38: 1989 | B38: =(C38-C37)/C37 -> 0.045317221 | C38: 69.2
A39: 1990 | B39: =(C39-C38)/C38 -> 0.040462428 | C39: 72
A40: 1991 | B40: =(C40-C39)/C39 -> 0.040277778 | C40: 74.9
A41: 1992 | B41: =(C41-C40)/C40 -> 0.024032043 | C41: 76.7
... A50: 2001 | B50: =(C50-C49)/C49 -> 0.016091954 | C50: 88.4
A51: 2002 | B51: =(C51-C50)/C50 -> 0.021493213 | C51: 90.3 | AA51: 1.0975093
A52: 2003 | B52: =(C52-C51)/C51 -> 0.021040975 | C52: 92.2 | AA52: 9.2592777
A53: 2004 | B53: =(C53-C52)/C52 -> 0.050976139 | C53: 96.9
A54: 2005 | B54: =(C54-C53)/C53 -> 0.031991744 | C54: 100 | E54: 87.39102 | G54: 82.2 | I54: 82.225 | Z54: 82 | AA54: =Z54*AA$51+AA$52 -> 99.255041
A55: 2006 | B55: =(C55-C54)/C54 -> 0.013 | C55: 101.3 | D55: 0.011699217 | E55: 88.560942 | G55: 83.2 | I55: 83.191667 | Z55: 84.3 | AA55: =Z55*AA$51+AA$52 -> 101.77931
...

Sheet Références Récolte COP
A1: Flash' Méca
A2: Références Récolte COP
A3: issues du Guide des Prix de revient 2023 et des Coûts Prévisionnels Indicatifs du matériel agricole 2023
C9: IVAN GPR | G9: PR GPR 2015 | K9: Coût chantier
A10: Opération | B10: Matériel | G10: Q1 | H10: m | I10: Q3 | K10: Q1 | O10: m | S10: Q3 | Z10: en € | AA10: en € | AB10: en % | AC10: en unité
AA11: actualisée
K12: Matériel | L12: + Traction | M12: + Carburant | N12: + Main d'œuvre | O12: Matériel | P12: + Traction | Q12: + Carburant | R12: + Main d'œuvre | S12: Matériel | T12: + Traction | U12: + Carburant | V12: + Main d'œuvre | Y12: Année d'achat | Z12: Valeur d'achat | AA12: Valeur d'achat | AB12: Taux de propriété | AC12: Utilisation
A13: Récolte | B13: COP | C13: 568.45158 | D13: 750.71424 | E13: 946.91996 | F13: /ha | G13: 64.452447 | H13: 79.783804 | I13: 96.288007 | J13: /ha | K13: 64.452447 | L13: 64.452447 | M13: 84.0945 | N13: 91.624704 | O13: 79.783804 | P13: 79.783804 | Q13: 99.425857 | R13: 106.95606 | S13: 96.288007 | T13: 96.288007 | U13: 115.93006 | V13: 123.46026 | W13: /ha | Y13: ='Calcul FLASH''MECA'!B65 -> 0 | Z13: ='Calcul FLASH''MECA'!C65 -> 0 | AA13: =($C$76*Z13)/VLOOKUP(Y13,$A$20:$C$76,3) -> 0 | AB13: ='Calcul FLASH''MECA'!E65 -> 0 | AC13: ='Calcul FLASH''MECA'!H65 -> 0 | AD13: /ha
F14: /ha | J14: /ha | W14: /ha | Y14: ='Calcul FLASH''MECA'!B73 -> 0 | Z14: ='Calcul FLASH''MECA'!C73 -> 0 | AA14: =($C$76*Z14)/VLOOKUP(Y14,$A$20:$C$76,3) -> 0 | AB14: ='Calcul FLASH''MECA'!E73 -> 0 | AC14: ='Calcul FLASH''MECA'!H73 -> 0 | AD14: /ha
F15: /ha | J15: /ha | W15: /ha | Y15: ='Calcul FLASH''MECA'!B74 -> 0 | Z15: ='Calcul FLASH''MECA'!C74 -> 0 | AA15: =($C$76*Z15)/VLOOKUP(Y15,$A$20:$C$76,3) -> 0 | AB15: ='Calcul FLASH''MECA'!E74 -> 0 | AC15: ='Calcul FLASH''MECA'!H74 -> 0 | AD15: /ha
A19: Indice IPAMPA Biens d'investissement / matériels agricoles | B19: Base 100 en 2005 | D19: Base 100 en 2010 | F19: Base 100 en 2015
A20: année | D20: en % | E20: coef. | F20: en % | G20: coef.
A21: 0 | C21: 1
A22: 1970 | C22: =C23-R$32 -> 35.8
A23: 1971 | C23: =C24-R$32 -> 35.8
A24: 1972 | C24: =C25-R$32 -> 35.8
A25: 1973 | C25: =C26-R$32 -> 35.8
A26: 1974 | C26: =C27-R$32 -> 35.8
A27: 1975 | C27: =C28-R$32 -> 35.8
A28: 1976 | C28: =C29-R$32 -> 35.8
A29: 1977 | C29: =C30-R$32 -> 35.8
A30: 1978 | C30: =C31-R$32 -> 35.8
A31: 1979 | C31: =C32-R$32 -> 35.8
A32: 1980 | C32: 35.8
A33: 1981 | B33: =(C33-C32)/C32 -> 0.13407821 | C33: 40.6
A34: 1982 | B34: =(C34-C33)/C33 -> 0.14039409 | C34: 46.3
A35: 1983 | B35: =(C35-C34)/C34 -> 0.097192225 | C35: 50.8
A36: 1984 | B36: =(C36-C35)/C35 -> 0.070866142 | C36: 54.4
A37: 1985 | B37: =(C37-C36)/C36 -> 0.053308824 | C37: 57.3
A38: 1986 | B38: =(C38-C37)/C37 -> 0.052356021 | C38: 60.3
A39: 1987 | B39: =(C39-C38)/C38 -> 0.053067993 | C39: 63.5
A40: 1988 | B40: =(C40-C39)/C39 -> 0.042519685 | C40: 66.2
A41: 1989 | B41: =(C41-C40)/C40 -> 0.045317221 | C41: 69.2
A42: 1990 | B42: =(C42-C41)/C41 -> 0.040462428 | C42: 72
A43: 1991 | B43: =(C43-C42)/C42 -> 0.040277778 | C43: 74.9
A44: 1992 | B44: =(C44-C43)/C43 -> 0.024032043 | C44: 76.7
... A46: 1994 | B46: =(C46-C45)/C45 -> 0.02173913 | C46: 79.9
A47: 1995 | B47: =(C47-C46)/C46 -> 0.02252816 | C47: 81.7 | G47: 82.2
A48: 1996 | B48: =(C48-C47)/C47 -> 0.022031824 | C48: 83.5 | G48: 83.2
A49: 1997 | B49: =(C49-C48)/C48 -> 0.011976048 | C49: 84.5 | G49: 85.2
...

Sheet Calcul FLASH'MECA
A1: Diagnostic FLASH'MECA / Quelques repères pour situer votre niveau de charges de mécanisation
U2: Type d'EA
A3: Légende de positionnement du ratio calculé (voir colonne Résultats)
A4: valeur inférieure à la moyenne observée pour la population de référence | B4: < 50%
A6: valeur comprise entre la moyenne et le quartile supérieur | B6: 50 à 75% | T6: Exploitation grandes cultures
A7: valeur relevée parmi les 25% les plus élevées | B7: > 75% | E7: "jaune" / Cellule à renseigner | T7: 1 | U7: Grandes cultures | V7: conventionnel | W7: & faible potentiel / labour | X7: Plateaux de Bourgogne | AA7: MAJ 2020-2021
T8: 2 | U8: Grandes cultures | V8: conventionnel | W8: & faible potentiel / non-labour | X8: Plateaux de Bourgogne | AA8: MAJ 2020-2021
P9: OCMECA BFC | T9: 15 | U9: Grandes cultures | V9: BIO | W9: & faible potentiel | X9: Plateaux de Bourgogne | AA9: MAJ 2020-2021
B10: Données | N10: Résultats | P10: Références | T10: 3 | U10: Grandes cultures | V10: conventionnel | W10: & fort potentiel | X10: Zones de Plaines, Vallées | AA10: MAJ 2016-2017
P11: ='Classement EA'!$B$6 -> #N/A | T11: 16 | U11: Grandes cultures | V11: BIO | W11: & fort potentiel | X11: Zones de Plaines, Vallées | AA11: MAJ 2022-2023
P12: ='Classement EA'!$B$7 -> #N/A | T12: 4 | U12: Grandes cultures | V12: conventionnel | W12: + BS / cultures industrielles | X12: Zones de Plaines, Vallées | AA12: MAJ 2018
P13: ='Classement EA'!$B$8 -> #N/A | T13: 5 | U13: Grandes cultures | V13: conventionnel | W13: + cultures particulières | X13: (petits fruits, porte-graines, …) | AA13: MAJ 2018
A15: Critères de "positionnement" de l'exploitation
A17: SAU | M17: ha | T17: Exploitation polyculture - élevage
A18: Surface en cultures | M18: ha | N18: =L18/L17*100 -> #DIV/0! | O18: % | Q18: ='Classement EA'!C13 -> #N/A | R18: % | T18: 6 | U18: Grandes cultures | V18: conventionnel | W18: + atelier hors-sol | X18: (porcs ou volailles) ou vigne | AA18: MAJ 2018
A19: Surface labourée | M19: ha | N19: =L19/L18*100 -> #DIV/0! | O19: % | Q19: ='Classement EA'!C14 -> #N/A | R19: % | T19: 7 | U19: Grandes cultures | V19: conventionnel | W19: + production laitière | X19: Saône & Loire | AA19: MAJ 2018
A20: Rendement moyen en blé | M20: qx/ha | N20: =L20 -> 0 | O20: qx/ha | Q20: ='Classement EA'!C15 -> #N/A | R20: qx/ha | T20: 8 | U20: Grandes cultures | V20: conventionnel | W20: + bovins viande / ovins | X20: Puisaye | AA20: MAJ 2020-2021
A21: Cultures industrielles (Betteraves sucrières, oignons, ...) | M21: ha | N21: =L21/L17*100 -> #DIV/0! | O21: % | Q21: ='Classement EA'!C16 -> #N/A | R21: % | T21: 9 | U21: Production laitière dominante | V21: conventionnel | W21: + grandes cultures | X21: Saône & Loire | AA21: MAJ 2018
A22: SFP | M22: ha | N22: =L22/L17*100 -> #DIV/0! | O22: % | Q22: ='Classement EA'!C17 -> #N/A | R22: % | T22: 10 | U22: Bovins viande / ovins | V22: conventionnel | W22: + grandes cultures | X22: Puisaye | AA22: MAJ 2022-2023
A23: Surface en maïs ensilage | M23: ha | N23: =IF(L22=0,0,((L23/L22)*100)) -> 0 | O23: % | Q23: ='Classement EA'!C18 -> #N/A | R23: % | T23: 11 | U23: Bovins viande / ovins / caprins | V23: conventionnel | W23: en zone hérbagère | X23: Auxois, Morvan, Charolais | AA23: MAJ 2018
A24: Surface en prairie temporaire | M24: ha | N24: =IF(L22=0,0,((L24/L22)*100)) -> 0 | O24: % | Q24: ='Classement EA'!C19 -> #N/A | R24: % | T24: 12 | U24: Bovins viande / ovins / caprins | V24: conventionnel | W24: en zone herbagère / extensif | X24: Morvan, Charolais | AA24: MAJ 2018
