Workbook
Name ________mb1: #REF!
Name ________mb2: #REF!
Name ________mb3: #REF!
Name ________mb4: #REF!
Name ________mb5: #REF!
Name ________mb6: #REF!
Name ________mb7: #REF!
Name ________mb8: #REF!
Name ________mb9: #REF!
Name _______mb1: #REF!
Name _______mb2: #REF!
Name _______mb3: #REF!
Name _______mb4: #REF!
Name _______mb5: #REF!
Name _______mb6: #REF!
Name _______mb7: #REF!
Name _______mb8: #REF!
Name _______mb9: #REF!
Name ______mb1: #REF!
Name ______mb2: #REF!
Name ______mb3: #REF!
Name ______mb4: #REF!
Name ______mb5: #REF!
Name ______mb6: #REF!
Name ______mb7: #REF!
Name ______mb8: #REF!
Name ______mb9: #REF!
Name _____mb1: #REF!
Name _____mb2: #REF!
Name _____mb3: #REF!
Name _____mb4: #REF!
Name _____mb5: #REF!
Name _____mb6: #REF!
Name _____mb7: #REF!
Name _____mb8: #REF!
Name _____mb9: #REF!
Name ____mb1: #REF!
Name ____mb2: #REF!
Name ____mb3: #REF!
Name ____mb4: #REF!
Name ____mb5: #REF!
Name ____mb6: #REF!
Name ____mb7: #REF!
Name ____mb8: #REF!
Name ____mb9: #REF!
Name ___mb1: #REF!
Name ___mb2: #REF!
Name ___mb3: #REF!
Name ___mb4: #REF!
Name ___mb5: #REF!
Name ___mb6: #REF!
Name ___mb7: #REF!
Name ___mb8: #REF!
Name ___mb9: #REF!
Name __mb1: #REF!
Name __mb1: #REF!
Name __mb1: #REF!
Name __mb2: #REF!
Name __mb2: #REF!
Name __mb2: #REF!

Sheet Exploitation
A1: INFORMATIONS GENERALES | D1: DESCRIPTION DE L'EXPLOITATION | J1: INFORMATIONS COÛT DE PRODUCTION
A2: Campagne | B2: 2023 | J2: Type atelier ovin viande
A3: Exploitation | J3: Type autre atelier animal
A4: Exploitant | J4: Type grande culture
A5: Adresse | J5: Type culture fourragère
A6: Code postal | J6: UGB autre atelier animal
A7: Commune | J7: Part surface céréale ovin | L7: =K8+K7+K9 -> 0
A8: Mail | J8: Part surface céréale de vente
A9: Téléphone | J9: Part surface céréale autre atelier animal
A10: N° Pacage | J10: Part surface culture fourragère ovin | L10: =K11+K10+K12 -> 0
A11: N° EDE | J11: Part surface fourragère vente
A12: Système | J12: Part surface culture fourragère autre atelier animal
A13: Agriculture bio | J13: Coût de production céréale (€/t)
A15: UMO TOTAL | B15: =B17+B19+B21 -> 0 | D15: ASSOLEMENT
A16: dont ovine | B16: =B18+B20+B22 -> 0 | D16: SAU | E16: =E17+E22+E27+E28+E33 -> 0 | F16: Dont ovine | G16: Fumure
A17: UMO exploitant | D17: Culture fourragère | E17: 0 | F17: =SUM(F18:F21) -> 0 | H17: réalisé par:
A18: dont ovine | H18: En avril 2025 | K18: Avec les financements de:
A19: UMO salarié
A20: dont ovine
A21: UMO bénévole
A22: dont ovine | D22: Prairie temporaire | E22: =SUM(E23:E26) -> 0 | F22: =SUM(F23:F26) -> 0 | H22: Dans le cadre de:
A24: TROUPEAU OVIN
A25: Effectif brebis | B25: =' Elevage'!P3 -> 0
A26: Race brebis
A27: Effectif bélier | B27: =' Elevage'!P5 -> 0 | D27: Prairie permanente
A28: Race bélier | D28: Grande culture | E28: =SUM(E29:F32) -> 0
A29: Conduite raciale
A30: Objectif de finition des agneaux
A31: Objectif de reproduction
A33: GROUPEMENT PASTORAL | D33: Culture perrenne
A34: Estive collective | D34: Surface pastorale
A35: Date estive
A36: Nombre d'animaux GP
A37: Nombre d'animaux exploitation

Sheet  Elevage
C2: janvier | D2: février | E2: mars | F2: avril | G2: mai | H2: juin | I2: juillet | J2: août | K2: septembre | L2: octobre | M2: novembre | N2: décembre | O2: janvier | P2: TOTAL | S2: Cohérence
B3: Effectif brebis | D3: =C3+C5+C6-C7-C9 -> 0 | E3: =D3+D4+D5+D6-D7-D9 -> 0 | F3: =E3+E4+E5+E6-E7-E9 -> 0 | G3: =F3+F4+F5+F6-F7-F9 -> 0 | H3: =G3+G4+G5+G6-G7-G9 -> 0 | I3: =H3+H4+H5+H6-H7-H9 -> 0 | J3: =I3+I4+I5+I6-I7-I9 -> 0 | K3: =J3+J4+J5+J6-J7-J9 -> 0 | L3: =K3+K4+K5+K6-K7-K9 -> 0 | ... O3: =N3+N4+N5+N6-N7-N9 -> 0 | P3: =AVERAGE(C3:N3) -> 0 | Q3: EMP | S3: Achat reproductrice | U3: =P5-'Charges ovin'!C30-'Charges ovin'!C32 -> 0
B4: dont agnelles | S4: Vente brebis | U4: =P9-Calcule!I39-Calcule!I42 -> 0
B5: Achats | P5: =SUM(C5:O5) -> 0 | S5: Renouvellement | U5: =R12+P6-K12-K20 -> 0
B6: Agnelles autorenouvellement | P6: =SUM(C6:O6) -> 0 | S6: Part femelle mise à la repro | U6: =IF(C3=0,"",E20/C3)
B7: Mortes | P7: =SUM(C7:O7) -> 0 | S7: Taux de mortalité agneau | U7: =IF(G20=0,"",H20/G20)
B8: Dont prédation | S8: Prolificité | U8: =IF(F20=0,"",G20/F20)
B9: Réformées | P9: =SUM(C9:O9) -> 0
C11: Date agnelage | E11: Stock début | H11: Morts | I11: Vendus | K11: Gardés | L11: Autoconso | M11: Stock fin | P11: Stock début | Q11: + Achats | R11: + Auto-renouv | S11: - Ventes | T11: - Morts | U11: = Stock fin
B12: Agneaux stock | H12: =E12-L12-K12-M12-I12 -> 0 | I12: =Calcule!U14+Calcule!U15 -> 0 | L12: =Calcule!U13 -> 0 | N12: =AVERAGE(C12,D12) -> #DIV/0! | O12: Béliers | Q12: ='Charges ovin'!C34 -> 0 | S12: =Calcule!I33+Calcule!I36 -> 0 | U12: =P12+Q12+R12-S12-T12 -> 0
C14: Bilan agnelage
C15: Date agnelage | E15: Nombre femelles | F15: Mise bas | G15: Nés | H15: Morts | I15: Agneaux produits | J15: Vendus | K15: Gardés | L15: Autoconso | M15: Stock fin
B16: Hiver | H16: =G16-I16 -> 0 | I16: =SUM(J16:M16) -> 0 | J16: =Calcule!Q14+Calcule!Q15 -> 0 | L16: =Calcule!Q13 -> 0 | N16: =AVERAGE(C16,D16) -> #DIV/0!
B17: Printemps | H17: =G17-I17 -> 0 | I17: =SUM(J17:M17) -> 0 | J17: =Calcule!R14+Calcule!R15 -> 0 | L17: =Calcule!R13 -> 0 | N17: =AVERAGE(C17,D17) -> #DIV/0!
B18: Eté | H18: =G18-I18 -> 0 | I18: =SUM(J18:M18) -> 0 | J18: =Calcule!S14+Calcule!S15 -> 0 | L18: =Calcule!S13 -> 0 | N18: =AVERAGE(C18,D18) -> #DIV/0!
B19: Automne | H19: =G19-I19 -> 0 | I19: =SUM(J19:M19) -> 0 | J19: =Calcule!T14+Calcule!T15 -> 0 | L19: =Calcule!T13 -> 0 | N19: =AVERAGE(C19,D19) -> #DIV/0!
B20: TOTAL | E20: =SUM(E16:E19) -> 0 | F20: =SUM(F16:F19) -> 0 | G20: =SUM(G16:G19) -> 0 | H20: =SUM(H16:H19) -> 0 | I20: =SUM(I16:I19) -> 0 | J20: =SUM(J16:J19) -> 0 | K20: =SUM(K16:K19) -> 0 | L20: =SUM(L16:L19) -> 0 | M20: =SUM(M16:M19) -> 0

Sheet Produit ovin
A2: VENTE ANIMAUX | M2: PRODUITS ANIMAUX
A3: Date | B3: Agnelage | C3: Commercialisation | D3: Type animaux | E3: Nombre | F3: Poids carcasse | G3: Montant | H3: Poids moyen | I3: Montant/poids | J3: Montant individu | K3: Age moyen | M3: Viande | N3: Montant | O3: =Calcule!I47 -> 0
H4: =IF(F4=0,"",F4/E4) | I4: =IF(F4=0,"",G4/F4) | J4: =IF(E4=0,"",G4/E4) | K4: =IF(B4="Printemps",_xlfn.DAYS(A4,' Elevage'!N$17),IF(B4="Eté",_xlfn.DAYS(A4,' Elevage'!N$18),IF(B4="Automne",_xlfn.DAYS(A4,' Elevage'!N$19),IF(B4="Hiver",_xlfn.DAYS(A4,' Elevage'!N$16),IF(B4="Stock",_xlfn.DAYS(A4,' Elevage'!N$12),""))))) | M4: Laine | N4: Montant | O4: =SUM(P4:X4) -> 0
H5: =IF(F5=0,"",F5/E5) | I5: =IF(F5=0,"",G5/F5) | J5: =IF(E5=0,"",G5/E5) | K5: =IF(B5="Printemps",_xlfn.DAYS(A5,' Elevage'!N$17),IF(B5="Eté",_xlfn.DAYS(A5,' Elevage'!N$18),IF(B5="Automne",_xlfn.DAYS(A5,' Elevage'!N$19),IF(B5="Hiver",_xlfn.DAYS(A5,' Elevage'!N$16),IF(B5="Stock",_xlfn.DAYS(A5,' Elevage'!N$12),""))))) | N5: Quantité (t) | O5: =SUM(P5:X5) -> 0
H6: =IF(F6=0,"",F6/E6) | I6: =IF(F6=0,"",G6/F6) | J6: =IF(E6=0,"",G6/E6) | K6: =IF(B6="Printemps",_xlfn.DAYS(A6,' Elevage'!N$17),IF(B6="Eté",_xlfn.DAYS(A6,' Elevage'!N$18),IF(B6="Automne",_xlfn.DAYS(A6,' Elevage'!N$19),IF(B6="Hiver",_xlfn.DAYS(A6,' Elevage'!N$16),IF(B6="Stock",_xlfn.DAYS(A6,' Elevage'!N$12),""))))) | M6: Fumier | N6: Montant | O6: =SUM(P6:X6) -> 0
H7: =IF(F7=0,"",F7/E7) | I7: =IF(F7=0,"",G7/F7) | J7: =IF(E7=0,"",G7/E7) | K7: =IF(B7="Printemps",_xlfn.DAYS(A7,' Elevage'!N$17),IF(B7="Eté",_xlfn.DAYS(A7,' Elevage'!N$18),IF(B7="Automne",_xlfn.DAYS(A7,' Elevage'!N$19),IF(B7="Hiver",_xlfn.DAYS(A7,' Elevage'!N$16),IF(B7="Stock",_xlfn.DAYS(A7,' Elevage'!N$12),""))))) | N7: Quantité (t) | O7: =SUM(P7:X7) -> 0
H8: =IF(F8=0,"",F8/E8) | I8: =IF(F8=0,"",G8/F8) | J8: =IF(E8=0,"",G8/E8) | K8: =IF(B8="Printemps",_xlfn.DAYS(A8,' Elevage'!N$17),IF(B8="Eté",_xlfn.DAYS(A8,' Elevage'!N$18),IF(B8="Automne",_xlfn.DAYS(A8,' Elevage'!N$19),IF(B8="Hiver",_xlfn.DAYS(A8,' Elevage'!N$16),IF(B8="Stock",_xlfn.DAYS(A8,' Elevage'!N$12),""))))) | M8: Autres produits | N8: Montant | O8: =SUM(P8:X8) -> 0
H9: =IF(F9=0,"",F9/E9) | I9: =IF(F9=0,"",G9/F9) | J9: =IF(E9=0,"",G9/E9) | K9: =IF(B9="Printemps",_xlfn.DAYS(A9,' Elevage'!N$17),IF(B9="Eté",_xlfn.DAYS(A9,' Elevage'!N$18),IF(B9="Automne",_xlfn.DAYS(A9,' Elevage'!N$19),IF(B9="Hiver",_xlfn.DAYS(A9,' Elevage'!N$16),IF(B9="Stock",_xlfn.DAYS(A9,' Elevage'!N$12),""))))) | M9: Indémnité | N9: Montant | O9: =SUM(P9:X9) -> 0
H10: =IF(F10=0,"",F10/E10) | I10: =IF(F10=0,"",G10/F10) | J10: =IF(E10=0,"",G10/E10) | K10: =IF(B10="Printemps",_xlfn.DAYS(A10,' Elevage'!N$17),IF(B10="Eté",_xlfn.DAYS(A10,' Elevage'!N$18),IF(B10="Automne",_xlfn.DAYS(A10,' Elevage'!N$19),IF(B10="Hiver",_xlfn.DAYS(A10,' Elevage'!N$16),IF(B10="Stock",_xlfn.DAYS(A10,' Elevage'!N$12),""))))) | M10: PRODUITS SFP
H11: =IF(F11=0,"",F11/E11) | I11: =IF(F11=0,"",G11/F11) | J11: =IF(E11=0,"",G11/E11) | K11: =IF(B11="Printemps",_xlfn.DAYS(A11,' Elevage'!N$17),IF(B11="Eté",_xlfn.DAYS(A11,' Elevage'!N$18),IF(B11="Automne",_xlfn.DAYS(A11,' Elevage'!N$19),IF(B11="Hiver",_xlfn.DAYS(A11,' Elevage'!N$16),IF(B11="Stock",_xlfn.DAYS(A11,' Elevage'!N$12),""))))) | M11: Fourrage vendu | N11: Montant | O11: =SUM(P11:X11) -> 0
H12: =IF(F12=0,"",F12/E12) | I12: =IF(F12=0,"",G12/F12) | J12: =IF(E12=0,"",G12/E12) | K12: =IF(B12="Printemps",_xlfn.DAYS(A12,' Elevage'!N$17),IF(B12="Eté",_xlfn.DAYS(A12,' Elevage'!N$18),IF(B12="Automne",_xlfn.DAYS(A12,' Elevage'!N$19),IF(B12="Hiver",_xlfn.DAYS(A12,' Elevage'!N$16),IF(B12="Stock",_xlfn.DAYS(A12,' Elevage'!N$12),""))))) | N12: Quantité (t) | O12: =SUM(P12:X12) -> 0
H13: =IF(F13=0,"",F13/E13) | I13: =IF(F13=0,"",G13/F13) | J13: =IF(E13=0,"",G13/E13) | K13: =IF(B13="Printemps",_xlfn.DAYS(A13,' Elevage'!N$17),IF(B13="Eté",_xlfn.DAYS(A13,' Elevage'!N$18),IF(B13="Automne",_xlfn.DAYS(A13,' Elevage'!N$19),IF(B13="Hiver",_xlfn.DAYS(A13,' Elevage'!N$16),IF(B13="Stock",_xlfn.DAYS(A13,' Elevage'!N$12),""))))) | M13: TOTAL | O13: =O4+O6+O7+O9+O3+O11+O8 -> 0
H14: =IF(F14=0,"",F14/E14) | I14: =IF(F14=0,"",G14/F14) | J14: =IF(E14=0,"",G14/E14) | K14: =IF(B14="Printemps",_xlfn.DAYS(A14,' Elevage'!N$17),IF(B14="Eté",_xlfn.DAYS(A14,' Elevage'!N$18),IF(B14="Automne",_xlfn.DAYS(A14,' Elevage'!N$19),IF(B14="Hiver",_xlfn.DAYS(A14,' Elevage'!N$16),IF(B14="Stock",_xlfn.DAYS(A14,' Elevage'!N$12),"")))))
H15: =IF(F15=0,"",F15/E15) | I15: =IF(F15=0,"",G15/F15) | J15: =IF(E15=0,"",G15/E15) | K15: =IF(B15="Printemps",_xlfn.DAYS(A15,' Elevage'!N$17),IF(B15="Eté",_xlfn.DAYS(A15,' Elevage'!N$18),IF(B15="Automne",_xlfn.DAYS(A15,' Elevage'!N$19),IF(B15="Hiver",_xlfn.DAYS(A15,' Elevage'!N$16),IF(B15="Stock",_xlfn.DAYS(A15,' Elevage'!N$12),"")))))
H16: =IF(F16=0,"",F16/E16) | I16: =IF(F16=0,"",G16/F16) | J16: =IF(E16=0,"",G16/E16) | K16: =IF(B16="Printemps",_xlfn.DAYS(A16,' Elevage'!N$17),IF(B16="Eté",_xlfn.DAYS(A16,' Elevage'!N$18),IF(B16="Automne",_xlfn.DAYS(A16,' Elevage'!N$19),IF(B16="Hiver",_xlfn.DAYS(A16,' Elevage'!N$16),IF(B16="Stock",_xlfn.DAYS(A16,' Elevage'!N$12),"")))))
H17: =IF(F17=0,"",F17/E17) | I17: =IF(F17=0,"",G17/F17) | J17: =IF(E17=0,"",G17/E17) | K17: =IF(B17="Printemps",_xlfn.DAYS(A17,' Elevage'!N$17),IF(B17="Eté",_xlfn.DAYS(A17,' Elevage'!N$18),IF(B17="Automne",_xlfn.DAYS(A17,' Elevage'!N$19),IF(B17="Hiver",_xlfn.DAYS(A17,' Elevage'!N$16),IF(B17="Stock",_xlfn.DAYS(A17,' Elevage'!N$12),"")))))
H18: =IF(F18=0,"",F18/E18) | I18: =IF(F18=0,"",G18/F18) | J18: =IF(E18=0,"",G18/E18) | K18: =IF(B18="Printemps",_xlfn.DAYS(A18,' Elevage'!N$17),IF(B18="Eté",_xlfn.DAYS(A18,' Elevage'!N$18),IF(B18="Automne",_xlfn.DAYS(A18,' Elevage'!N$19),IF(B18="Hiver",_xlfn.DAYS(A18,' Elevage'!N$16),IF(B18="Stock",_xlfn.DAYS(A18,' Elevage'!N$12),"")))))
H19: =IF(F19=0,"",F19/E19) | I19: =IF(F19=0,"",G19/F19) | J19: =IF(E19=0,"",G19/E19) | K19: =IF(B19="Printemps",_xlfn.DAYS(A19,' Elevage'!N$17),IF(B19="Eté",_xlfn.DAYS(A19,' Elevage'!N$18),IF(B19="Automne",_xlfn.DAYS(A19,' Elevage'!N$19),IF(B19="Hiver",_xlfn.DAYS(A19,' Elevage'!N$16),IF(B19="Stock",_xlfn.DAYS(A19,' Elevage'!N$12),"")))))
H20: =IF(F20=0,"",F20/E20) | I20: =IF(F20=0,"",G20/F20) | J20: =IF(E20=0,"",G20/E20) | K20: =IF(B20="Printemps",_xlfn.DAYS(A20,' Elevage'!N$17),IF(B20="Eté",_xlfn.DAYS(A20,' Elevage'!N$18),IF(B20="Automne",_xlfn.DAYS(A20,' Elevage'!N$19),IF(B20="Hiver",_xlfn.DAYS(A20,' Elevage'!N$16),IF(B20="Stock",_xlfn.DAYS(A20,' Elevage'!N$12),"")))))
H21: =IF(F21=0,"",F21/E21) | I21: =IF(F21=0,"",G21/F21) | J21: =IF(E21=0,"",G21/E21) | K21: =IF(B21="Printemps",_xlfn.DAYS(A21,' Elevage'!N$17),IF(B21="Eté",_xlfn.DAYS(A21,' Elevage'!N$18),IF(B21="Automne",_xlfn.DAYS(A21,' Elevage'!N$19),IF(B21="Hiver",_xlfn.DAYS(A21,' Elevage'!N$16),IF(B21="Stock",_xlfn.DAYS(A21,' Elevage'!N$12),""))))) | M21: Poids carcasse de référence
H22: =IF(F22=0,"",F22/E22) | I22: =IF(F22=0,"",G22/F22) | J22: =IF(E22=0,"",G22/E22) | K22: =IF(B22="Printemps",_xlfn.DAYS(A22,' Elevage'!N$17),IF(B22="Eté",_xlfn.DAYS(A22,' Elevage'!N$18),IF(B22="Automne",_xlfn.DAYS(A22,' Elevage'!N$19),IF(B22="Hiver",_xlfn.DAYS(A22,' Elevage'!N$16),IF(B22="Stock",_xlfn.DAYS(A22,' Elevage'!N$12),""))))) | M22: Agneaux lourds label | N22: =Références!N2 -> 16.5
H23: =IF(F23=0,"",F23/E23) | I23: =IF(F23=0,"",G23/F23) | J23: =IF(E23=0,"",G23/E23) | K23: =IF(B23="Printemps",_xlfn.DAYS(A23,' Elevage'!N$17),IF(B23="Eté",_xlfn.DAYS(A23,' Elevage'!N$18),IF(B23="Automne",_xlfn.DAYS(A23,' Elevage'!N$19),IF(B23="Hiver",_xlfn.DAYS(A23,' Elevage'!N$16),IF(B23="Stock",_xlfn.DAYS(A23,' Elevage'!N$12),""))))) | M23: Agneaux lourds bio | N23: =Références!N3 -> 16.5
H24: =IF(F24=0,"",F24/E24) | I24: =IF(F24=0,"",G24/F24) | J24: =IF(E24=0,"",G24/E24) | K24: =IF(B24="Printemps",_xlfn.DAYS(A24,' Elevage'!N$17),IF(B24="Eté",_xlfn.DAYS(A24,' Elevage'!N$18),IF(B24="Automne",_xlfn.DAYS(A24,' Elevage'!N$19),IF(B24="Hiver",_xlfn.DAYS(A24,' Elevage'!N$16),IF(B24="Stock",_xlfn.DAYS(A24,' Elevage'!N$12),""))))) | M24: Agneaux lourds standards | N24: =Références!N4 -> 17
H25: =IF(F25=0,"",F25/E25) | I25: =IF(F25=0,"",G25/F25) | J25: =IF(E25=0,"",G25/E25) | K25: =IF(B25="Printemps",_xlfn.DAYS(A25,' Elevage'!N$17),IF(B25="Eté",_xlfn.DAYS(A25,' Elevage'!N$18),IF(B25="Automne",_xlfn.DAYS(A25,' Elevage'!N$19),IF(B25="Hiver",_xlfn.DAYS(A25,' Elevage'!N$16),IF(B25="Stock",_xlfn.DAYS(A25,' Elevage'!N$12),""))))) | M25: Agneaux lourd adret | N25: =Références!N5 -> 17
H26: =IF(F26=0,"",F26/E26) | I26: =IF(F26=0,"",G26/F26) | J26: =IF(E26=0,"",G26/E26) | K26: =IF(B26="Printemps",_xlfn.DAYS(A26,' Elevage'!N$17),IF(B26="Eté",_xlfn.DAYS(A26,' Elevage'!N$18),IF(B26="Automne",_xlfn.DAYS(A26,' Elevage'!N$19),IF(B26="Hiver",_xlfn.DAYS(A26,' Elevage'!N$16),IF(B26="Stock",_xlfn.DAYS(A26,' Elevage'!N$12),""))))) | M26: Tardons maigres | N26: =Références!N6 -> 11.5
H27: =IF(F27=0,"",F27/E27) | I27: =IF(F27=0,"",G27/F27) | J27: =IF(E27=0,"",G27/E27) | K27: =IF(B27="Printemps",_xlfn.DAYS(A27,' Elevage'!N$17),IF(B27="Eté",_xlfn.DAYS(A27,' Elevage'!N$18),IF(B27="Automne",_xlfn.DAYS(A27,' Elevage'!N$19),IF(B27="Hiver",_xlfn.DAYS(A27,' Elevage'!N$16),IF(B27="Stock",_xlfn.DAYS(A27,' Elevage'!N$12),""))))) | M27: Tardons finis | N27: =Références!N7 -> 16.5
H28: =IF(F28=0,"",F28/E28) | I28: =IF(F28=0,"",G28/F28) | J28: =IF(E28=0,"",G28/E28) | K28: =IF(B28="Printemps",_xlfn.DAYS(A28,' Elevage'!N$17),IF(B28="Eté",_xlfn.DAYS(A28,' Elevage'!N$18),IF(B28="Automne",_xlfn.DAYS(A28,' Elevage'!N$19),IF(B28="Hiver",_xlfn.DAYS(A28,' Elevage'!N$16),IF(B28="Stock",_xlfn.DAYS(A28,' Elevage'!N$12),""))))) | M28: Agneaux maigres | N28: =Références!N8 -> 11.5
H29: =IF(F29=0,"",F29/E29) | I29: =IF(F29=0,"",G29/F29) | J29: =IF(E29=0,"",G29/E29) | K29: =IF(B29="Printemps",_xlfn.DAYS(A29,' Elevage'!N$17),IF(B29="Eté",_xlfn.DAYS(A29,' Elevage'!N$18),IF(B29="Automne",_xlfn.DAYS(A29,' Elevage'!N$19),IF(B29="Hiver",_xlfn.DAYS(A29,' Elevage'!N$16),IF(B29="Stock",_xlfn.DAYS(A29,' Elevage'!N$12),""))))) | M29: Agneaux légers | N29: =Références!N9 -> 10
H30: =IF(F30=0,"",F30/E30) | I30: =IF(F30=0,"",G30/F30) | J30: =IF(E30=0,"",G30/E30) | K30: =IF(B30="Printemps",_xlfn.DAYS(A30,' Elevage'!N$17),IF(B30="Eté",_xlfn.DAYS(A30,' Elevage'!N$18),IF(B30="Automne",_xlfn.DAYS(A30,' Elevage'!N$19),IF(B30="Hiver",_xlfn.DAYS(A30,' Elevage'!N$16),IF(B30="Stock",_xlfn.DAYS(A30,' Elevage'!N$12),""))))) | M30: Jeunes femelles reproduction | N30: =Références!N10 -> 20
H31: =IF(F31=0,"",F31/E31) | I31: =IF(F31=0,"",G31/F31) | J31: =IF(E31=0,"",G31/E31) | K31: =IF(B31="Printemps",_xlfn.DAYS(A31,' Elevage'!N$17),IF(B31="Eté",_xlfn.DAYS(A31,' Elevage'!N$18),IF(B31="Automne",_xlfn.DAYS(A31,' Elevage'!N$19),IF(B31="Hiver",_xlfn.DAYS(A31,' Elevage'!N$16),IF(B31="Stock",_xlfn.DAYS(A31,' Elevage'!N$12),""))))) | M31: Jeunes males reproduction | N31: =Références!N11 -> 25
H32: =IF(F32=0,"",F32/E32) | I32: =IF(F32=0,"",G32/F32) | J32: =IF(E32=0,"",G32/E32) | K32: =IF(B32="Printemps",_xlfn.DAYS(A32,' Elevage'!N$17),IF(B32="Eté",_xlfn.DAYS(A32,' Elevage'!N$18),IF(B32="Automne",_xlfn.DAYS(A32,' Elevage'!N$19),IF(B32="Hiver",_xlfn.DAYS(A32,' Elevage'!N$16),IF(B32="Stock",_xlfn.DAYS(A32,' Elevage'!N$12),"")))))
H33: =IF(F33=0,"",F33/E33) | I33: =IF(F33=0,"",G33/F33) | J33: =IF(E33=0,"",G33/E33) | K33: =IF(B33="Printemps",_xlfn.DAYS(A33,' Elevage'!N$17),IF(B33="Eté",_xlfn.DAYS(A33,' Elevage'!N$18),IF(B33="Automne",_xlfn.DAYS(A33,' Elevage'!N$19),IF(B33="Hiver",_xlfn.DAYS(A33,' Elevage'!N$16),IF(B33="Stock",_xlfn.DAYS(A33,' Elevage'!N$12),"")))))
H34: =IF(F34=0,"",F34/E34) | I34: =IF(F34=0,"",G34/F34) | J34: =IF(E34=0,"",G34/E34) | K34: =IF(B34="Printemps",_xlfn.DAYS(A34,' Elevage'!N$17),IF(B34="Eté",_xlfn.DAYS(A34,' Elevage'!N$18),IF(B34="Automne",_xlfn.DAYS(A34,' Elevage'!N$19),IF(B34="Hiver",_xlfn.DAYS(A34,' Elevage'!N$16),IF(B34="Stock",_xlfn.DAYS(A34,' Elevage'!N$12),"")))))
H35: =IF(F35=0,"",F35/E35) | I35: =IF(F35=0,"",G35/F35) | J35: =IF(E35=0,"",G35/E35) | K35: =IF(B35="Printemps",_xlfn.DAYS(A35,' Elevage'!N$17),IF(B35="Eté",_xlfn.DAYS(A35,' Elevage'!N$18),IF(B35="Automne",_xlfn.DAYS(A35,' Elevage'!N$19),IF(B35="Hiver",_xlfn.DAYS(A35,' Elevage'!N$16),IF(B35="Stock",_xlfn.DAYS(A35,' Elevage'!N$12),"")))))
H36: =IF(F36=0,"",F36/E36) | I36: =IF(F36=0,"",G36/F36) | J36: =IF(E36=0,"",G36/E36) | K36: =IF(B36="Printemps",_xlfn.DAYS(A36,' Elevage'!N$17),IF(B36="Eté",_xlfn.DAYS(A36,' Elevage'!N$18),IF(B36="Automne",_xlfn.DAYS(A36,' Elevage'!N$19),IF(B36="Hiver",_xlfn.DAYS(A36,' Elevage'!N$16),IF(B36="Stock",_xlfn.DAYS(A36,' Elevage'!N$12),"")))))
H37: =IF(F37=0,"",F37/E37) | I37: =IF(F37=0,"",G37/F37) | J37: =IF(E37=0,"",G37/E37) | K37: =IF(B37="Printemps",_xlfn.DAYS(A37,' Elevage'!N$17),IF(B37="Eté",_xlfn.DAYS(A37,' Elevage'!N$18),IF(B37="Automne",_xlfn.DAYS(A37,' Elevage'!N$19),IF(B37="Hiver",_xlfn.DAYS(A37,' Elevage'!N$16),IF(B37="Stock",_xlfn.DAYS(A37,' Elevage'!N$12),"")))))
H38: =IF(F38=0,"",F38/E38) | I38: =IF(F38=0,"",G38/F38) | J38: =IF(E38=0,"",G38/E38) | K38: =IF(B38="Printemps",_xlfn.DAYS(A38,' Elevage'!N$17),IF(B38="Eté",_xlfn.DAYS(A38,' Elevage'!N$18),IF(B38="Automne",_xlfn.DAYS(A38,' Elevage'!N$19),IF(B38="Hiver",_xlfn.DAYS(A38,' Elevage'!N$16),IF(B38="Stock",_xlfn.DAYS(A38,' Elevage'!N$12),"")))))
H39: =IF(F39=0,"",F39/E39) | I39: =IF(F39=0,"",G39/F39) | J39: =IF(E39=0,"",G39/E39) | K39: =IF(B39="Printemps",_xlfn.DAYS(A39,' Elevage'!N$17),IF(B39="Eté",_xlfn.DAYS(A39,' Elevage'!N$18),IF(B39="Automne",_xlfn.DAYS(A39,' Elevage'!N$19),IF(B39="Hiver",_xlfn.DAYS(A39,' Elevage'!N$16),IF(B39="Stock",_xlfn.DAYS(A39,' Elevage'!N$12),"")))))
H40: =IF(F40=0,"",F40/E40) | I40: =IF(F40=0,"",G40/F40) | J40: =IF(E40=0,"",G40/E40) | K40: =IF(B40="Printemps",_xlfn.DAYS(A40,' Elevage'!N$17),IF(B40="Eté",_xlfn.DAYS(A40,' Elevage'!N$18),IF(B40="Automne",_xlfn.DAYS(A40,' Elevage'!N$19),IF(B40="Hiver",_xlfn.DAYS(A40,' Elevage'!N$16),IF(B40="Stock",_xlfn.DAYS(A40,' Elevage'!N$12),"")))))
H41: =IF(F41=0,"",F41/E41) | I41: =IF(F41=0,"",G41/F41) | J41: =IF(E41=0,"",G41/E41) | K41: =IF(B41="Printemps",_xlfn.DAYS(A41,' Elevage'!N$17),IF(B41="Eté",_xlfn.DAYS(A41,' Elevage'!N$18),IF(B41="Automne",_xlfn.DAYS(A41,' Elevage'!N$19),IF(B41="Hiver",_xlfn.DAYS(A41,' Elevage'!N$16),IF(B41="Stock",_xlfn.DAYS(A41,' Elevage'!N$12),"")))))
...

Sheet Charges ovin
A2: FRAIS D'ALIMENTATION | C2: =C4+C9+C11+C13+C15+C17+C19+C20+C6 -> 0
A3: Céréales | B3: Nature
B4: Montant | C4: =SUM(D4:AL4) -> 0
B5: Quantité (t) | C5: =SUM(D5:AL5) -> 0
A6: Céréales cession interne | B6: Montant | C6: =Références!K6*C7 -> 0
A7: Céréales cession interne | B7: Quantité (t) | C7: ='Stock et ration '!H5-'Stock et ration '!D5 -> 0
A8: Concentrés | B8: Nature | D8: complet | R8: Total | S8: complémentaire | AL8: Total
B9: Montant | C9: =SUM(D9:AL9)-R9-AL9 -> 0 | AL9: =SUM(S9:AK9) -> 0
B10: Quantité (t) | C10: =SUM(D10:AL10)-R10-AL10 -> 0 | AL10: =SUM(S10:AK10) -> 0
A11: CMV | B11: Montant | C11: =SUM(D11:AL11) -> 0
B12: Quantité (t) | C12: =SUM(D12:AL12) -> 0
A13: Lait en poudre | B13: Montant | C13: =SUM(D13:AL13) -> 0
B14: Quantité (t) | C14: =SUM(D14:AL14) -> 0
A15: Foin | B15: Montant | C15: =SUM(D15:AL15) -> 0
B16: Quantité (t) | C16: =SUM(D16:AL16) -> 0
A17: Paille | B17: Montant | C17: =SUM(D17:AL17) -> 0
B18: Quantité (t) | C18: =SUM(D18:AL18) -> 0
A19: Herbe sur pied | B19: Montant | C19: =SUM(D19:AL19) -> 0
A20: Estive / Hivernage | B20: Montant | C20: =SUM(D20:AM20) -> 0
A21: FRAIS D'ELEVAGE | C21: =C22+C23+C24+C25 -> 0
A22: Frais de reproduction | B22: Montant | C22: =SUM(D22:AL22) -> 0
A23: Identification, GDS, cotisations (coop, ciel d'azur, fdo…) | B23: Montant | C23: =SUM(D23:AL23) -> 0 | D23: GDS | F23: EDER | H23: CVO
A24: Chien conduite | B24: Montant | C24: =SUM(D24:AL24) -> 0
A25: Frais divers élevage | B25: Montant | C25: =SUM(D25:AL25) -> 0 | D25: Boucle
A26: FRAIS DE VETERINAIRE | C26: =C27 -> 0
A27: Frais de vétérinaire | B27: Montant | C27: =SUM(D27:AL27) -> 0
A28: ACHATS D'ANIMAUX | C28: =C29+C31+C33 -> 0
A29: Brebis | B29: Montant | C29: =SUM(D29:AL29) -> 0
B30: Nombre | C30: =SUM(D30:AL30) -> 0
A31: Agnelles | B31: Montant | C31: =SUM(D31:AL31) -> 0
B32: Nombre | C32: =SUM(D32:AL32) -> 0
A33: Bélier | B33: Montant | C33: =SUM(D33:AL33) -> 0
B34: Nombre | C34: =SUM(D34:AL34) -> 0
A35: AUTRES | C35: =SUM(C36:C42) -> 0
A36: Taxe animale | B36: Montant | C36: =SUM(E36:AL36) -> 0 | D36: Interbev | E36: =0.014*Calcule!AU52+0.28*(' Elevage'!P9+' Elevage'!S12) -> 0
A37: Traveaux par tiers (tonte, parage..) | B37: Montant | C37: =SUM(D37:AL37) -> 0
A38: Dates d'abattage
A39: Nombre d'agneaux | B39: Nombre | C39: =SUM(D39:AL39) -> 0
A40: Poids carcasse | B40: Quantité(kg) | C40: =SUM(D40:AL40) -> 0
A41: Frais de transformation (abattage, découpe..) | B41: Montant | C41: =SUM(D41:AL41) -> 0
...

Sheet Stock et ration 
B2: Stock début | C2: Produits | D2: Achats | E2: Ventes | F2: Consommation hors ovin | G2: Stock fin | H2: Consommation Ovin | I2: Consommation par EMP | K2: Autonomie massique
A3: Foin (t) | D3: ='Charges ovin'!C16 -> 0 | H3: =B3+C3+D3-E3-F3-G3 -> 0 | I3: =IF(' Elevage'!P3=0,0,(H3/' Elevage'!P3)*1000) -> 0 | K3: Fourrage | L3: =IF(F3+H3=0,"",C3/(F3+H3))
A4: Paille (t) | D4: ='Charges ovin'!C18 -> 0 | H4: =B4+C4+D4-E4-F4-G4 -> 0 | I4: =IF(' Elevage'!P3=0,0,(H4/' Elevage'!P3)*1000) -> 0 | K4: Paille | L4: =IF((F4+H4)=0,"",C4/(F4+H4))
A5: Grain (t) | D5: ='Charges ovin'!C5 -> 0 | H5: =B5+C5+D5-E5-F5-G5 -> 0 | I5: =IF(' Elevage'!P3=0,0,(H5/' Elevage'!P3)*1000) -> 0 | K5: Céréale et aliment | L5: =IF(F5+H5+F6+H6=0,"",(C5+C6)/(F5+H5+F6+H6))
A6: Aliment (t) | D6: ='Charges ovin'!C10 -> 0 | H6: =B6+C6+D6-E6-F6-G6 -> 0 | I6: =IF(' Elevage'!P3=0,0,(H6/' Elevage'!P3)*1000) -> 0
A8: Description des rations | F8: Répartition des concentrés | I8: reste à répartir
F9: Quantité aliment (t) Agneaux | I9: =H6-H9-H10 -> 0
F10: Quantité aliment (t) Brebis
F11: Quantité céréale (t) Agneaux | I11: =H5-H11-H12 -> 0
F12: Quantité céréale (t) Brebis

Sheet Autres atelier
A2: Atelier | I2: Atelier | Q2: Atelier | Y2: Atelier | AG2: Atelier
A5: Charge | I5: Charge | Q5: Charge | Y5: Charge | AG5: Charge
B6: Montant | C6: =SUM(D6:H6) -> 0 | J6: Montant | K6: =SUM(L6:P6) -> 0 | R6: Montant | S6: =SUM(T6:X6) -> 0 | Z6: Montant | AA6: =SUM(AB6:AF6) -> 0 | AH6: Montant | AI6: =SUM(AJ6:AN6) -> 0
B7: Montant | C7: =SUM(D7:H7) -> 0 | J7: Montant | K7: =SUM(L7:P7) -> 0 | R7: Montant | S7: =SUM(T7:X7) -> 0 | Z7: Montant | AA7: =SUM(AB7:AF7) -> 0 | AH7: Montant | AI7: =SUM(AJ7:AN7) -> 0
B8: Montant | C8: =SUM(D8:H8) -> 0 | J8: Montant | K8: =SUM(L8:P8) -> 0 | R8: Montant | S8: =SUM(T8:X8) -> 0 | Z8: Montant | AA8: =SUM(AB8:AF8) -> 0 | AH8: Montant | AI8: =SUM(AJ8:AN8) -> 0
B9: Montant | C9: =SUM(D9:H9) -> 0 | J9: Montant | K9: =SUM(L9:P9) -> 0 | R9: Montant | S9: =SUM(T9:X9) -> 0 | Z9: Montant | AA9: =SUM(AB9:AF9) -> 0 | AH9: Montant | AI9: =SUM(AJ9:AN9) -> 0
B10: Montant | C10: =SUM(D10:H10) -> 0 | J10: Montant | K10: =SUM(L10:P10) -> 0 | R10: Montant | S10: =SUM(T10:X10) -> 0 | Z10: Montant | AA10: =SUM(AB10:AF10) -> 0 | AH10: Montant | AI10: =SUM(AJ10:AN10) -> 0
B11: Montant | C11: =SUM(D11:H11) -> 0 | J11: Montant | K11: =SUM(L11:P11) -> 0 | R11: Montant | S11: =SUM(T11:X11) -> 0 | Z11: Montant | AA11: =SUM(AB11:AF11) -> 0 | AH11: Montant | AI11: =SUM(AJ11:AN11) -> 0
B12: Montant | C12: =SUM(D12:H12) -> 0 | J12: Montant | K12: =SUM(L12:P12) -> 0 | R12: Montant | S12: =SUM(T12:X12) -> 0 | Z12: Montant | AA12: =SUM(AB12:AF12) -> 0 | AH12: Montant | AI12: =SUM(AJ12:AN12) -> 0
B13: Montant | C13: =SUM(D13:H13) -> 0 | J13: Montant | K13: =SUM(L13:P13) -> 0 | R13: Montant | S13: =SUM(T13:X13) -> 0 | Z13: Montant | AA13: =SUM(AB13:AF13) -> 0 | AH13: Montant | AI13: =SUM(AJ13:AN13) -> 0
A14: TOTAL | C14: =SUM(C6:C13) -> 0 | I14: TOTAL | K14: =SUM(K6:K13) -> 0 | Q14: TOTAL | S14: =SUM(S6:S13) -> 0 | Y14: TOTAL | AA14: =SUM(AA6:AA13) -> 0 | AG14: TOTAL | AI14: =SUM(AI6:AI13) -> 0
A16: Produit | I16: Produit | Q16: Produit | Y16: Produit | AG16: Produit
B17: Montant | C17: =SUM(D17:H17) -> 0 | J17: Montant | K17: =SUM(L17:P17) -> 0 | R17: Montant | S17: =SUM(T17:X17) -> 0 | Z17: Montant | AA17: =SUM(AB17:AF17) -> 0 | AH17: Montant | AI17: =SUM(AJ17:AN17) -> 0
B18: Montant | C18: =SUM(D18:H18) -> 0 | J18: Montant | K18: =SUM(L18:P18) -> 0 | R18: Montant | S18: =SUM(T18:X18) -> 0 | Z18: Montant | AA18: =SUM(AB18:AF18) -> 0 | AH18: Montant | AI18: =SUM(AJ18:AN18) -> 0
B19: Montant | C19: =SUM(D19:H19) -> 0 | J19: Montant | K19: =SUM(L19:P19) -> 0 | R19: Montant | S19: =SUM(T19:X19) -> 0 | Z19: Montant | AA19: =SUM(AB19:AF19) -> 0 | AH19: Montant | AI19: =SUM(AJ19:AN19) -> 0
B20: Montant | C20: =SUM(D20:H20) -> 0 | J20: Montant | K20: =SUM(L20:P20) -> 0 | R20: Montant | S20: =SUM(T20:X20) -> 0 | Z20: Montant | AA20: =SUM(AB20:AF20) -> 0 | AH20: Montant | AI20: =SUM(AJ20:AN20) -> 0
B21: Montant | C21: =SUM(D21:H21) -> 0 | J21: Montant | K21: =SUM(L21:P21) -> 0 | R21: Montant | S21: =SUM(T21:X21) -> 0 | Z21: Montant | AA21: =SUM(AB21:AF21) -> 0 | AH21: Montant | AI21: =SUM(AJ21:AN21) -> 0
B22: Montant | C22: =SUM(D22:H22) -> 0 | J22: Montant | K22: =SUM(L22:P22) -> 0 | R22: Montant | S22: =SUM(T22:X22) -> 0 | Z22: Montant | AA22: =SUM(AB22:AF22) -> 0 | AH22: Montant | AI22: =SUM(AJ22:AN22) -> 0
B23: Montant | C23: =SUM(D23:H23) -> 0 | J23: Montant | K23: =SUM(L23:P23) -> 0 | R23: Montant | S23: =SUM(T23:X23) -> 0 | Z23: Montant | AA23: =SUM(AB23:AF23) -> 0 | AH23: Montant | AI23: =SUM(AJ23:AN23) -> 0
B24: Montant | C24: =SUM(D24:H24) -> 0 | J24: Montant | K24: =SUM(L24:P24) -> 0 | R24: Montant | S24: =SUM(T24:X24) -> 0 | Z24: Montant | AA24: =SUM(AB24:AF24) -> 0 | AH24: Montant | AI24: =SUM(AJ24:AN24) -> 0
B25: Montant | C25: =SUM(D25:H25) -> 0 | J25: Montant | K25: =SUM(L25:P25) -> 0 | R25: Montant | S25: =SUM(T25:X25) -> 0 | Z25: Montant | AA25: =SUM(AB25:AF25) -> 0 | AH25: Montant | AI25: =SUM(AJ25:AN25) -> 0
A26: TOTAL | C26: =SUM(C17:C25) -> 0 | I26: TOTAL | K26: =SUM(K17:K25) -> 0 | Q26: TOTAL | S26: =SUM(S17:S25) -> 0 | Y26: TOTAL | AA26: =SUM(AA17:AA25) -> 0 | AG26: TOTAL | AI26: =SUM(AI17:AI25) -> 0
A28: Marge brute de l'atelier | C28: =C26-C14 -> 0 | I28: Marge brute de l'atelier | K28: =K26-K14 -> 0 | Q28: Marge brute de l'atelier | S28: =S26-S14 -> 0 | Y28: Marge brute de l'atelier | AA28: =AA26-AA14 -> 0 | AG28: Marge brute de l'atelier | AI28: =AI26-AI14 -> 0

Sheet Grandes cultures
A2: Culture | I2: Culture | Q2: Culture | Y2: Culture | AG2: Culture | AO2: Culture | AW2: Culture | BE2: Culture
A3: Surface | C3: Production (t) | E3: =D27+D28+D29 -> 0 | F3: Rendement (qtx/ha) | H3: =IF(B3=0,0,(E3*10)/B3) -> 0 | I3: Surface | K3: Production (t) | M3: =L27+L28+L29 -> 0 | N3: Rendement (qtx/ha) | P3: =IF(J3=0,0,(M3*10)/J3) -> 0 | Q3: Surface | S3: Production (t) | U3: =T27+T28+T29 -> 0 | V3: Rendement (qtx/ha) | X3: =IF(R3=0,0,(U3*10)/R3) -> 0 | Y3: Surface | AA3: Production (t) | AC3: =AB27+AB28+AB29 -> 0 | AD3: Rendement (qtx/ha) | AF3: =IF(Z3=0,0,(AC3*10)/Z3) -> 0 | AG3: Surface | AI3: Production (t) | AK3: =AJ27+AJ28+AJ29 -> 0 | AL3: Rendement (qtx/ha) | AN3: =IF(AH3=0,0,(AK3*10)/AH3) -> 0 | AO3: Surface | AQ3: Production (t) | AS3: =AR27+AR28+AR29 -> 0 | AT3: Rendement (qtx/ha) | AV3: =IF(AP3=0,0,(AS3*10)/AP3) -> 0 | AW3: Surface | AY3: Production (t) | BA3: =AZ27+AZ28+AZ29 -> 0 | BB3: Rendement (qtx/ha) | BD3: =IF(AX3=0,0,(BA3*10)/AX3) -> 0 | BE3: Surface | BG3: Production (t) | BI3: =BH27+BH28+BH29 -> 0 | BJ3: Rendement (qtx/ha) | BL3: =IF(BF3=0,0,(BI3*10)/BF3) -> 0
A5: CHARGES | D5: QUANTITE | E5: PRIX/UNITE | F5: TOTAL | H5: TOTAL/HA | I5: CHARGES | L5: QUANTITE | M5: PRIX/UNITE | N5: TOTAL | P5: TOTAL/HA | Q5: CHARGES | T5: QUANTITE | U5: PRIX/UNITE | V5: TOTAL | X5: TOTAL/HA | Y5: CHARGES | AB5: QUANTITE | AC5: PRIX/UNITE | AD5: TOTAL | AF5: TOTAL/HA | AG5: CHARGES | AJ5: QUANTITE | AK5: PRIX/UNITE | AL5: TOTAL | AN5: TOTAL/HA | AO5: CHARGES | AR5: QUANTITE | AS5: PRIX/UNITE | AT5: TOTAL | AV5: TOTAL/HA | AW5: CHARGES | AZ5: QUANTITE | BA5: PRIX/UNITE | BB5: TOTAL | BD5: TOTAL/HA | BE5: CHARGES | BH5: QUANTITE | BI5: PRIX/UNITE | BJ5: TOTAL | BL5: TOTAL/HA
A6: FERTILISATION | F6: =F7+F8+F9 -> 0 | H6: =IF(B$3=0,"",F6/B$3) | I6: FERTILISATION | N6: =N7+N8+N9 -> 0 | P6: =IF(J$3=0,"",N6/J$3) | Q6: FERTILISATION | V6: =V7+V8+V9 -> 0 | X6: =IF(R$3=0,"",V6/R$3) | Y6: FERTILISATION | AD6: =AD7+AD8+AD9 -> 0 | AF6: =IF(Z$3=0,"",AD6/Z$3) | AG6: FERTILISATION | AL6: =AL7+AL8+AL9 -> 0 | AN6: =IF(AH$3=0,"",AL6/AH$3) | AO6: FERTILISATION | AT6: =AT7+AT8+AT9 -> 0 | AV6: =IF(AP$3=0,"",AT6/AP$3) | AW6: FERTILISATION | BB6: =BB7+BB8+BB9 -> 0 | BD6: =IF(AX$3=0,"",BB6/AX$3) | BE6: FERTILISATION | BJ6: =BJ7+BJ8+BJ9 -> 0 | BL6: =IF(BF$3=0,"",BJ6/BF$3)
A7: Minérale | E7: =IF(D7=0,"",F7/D7) | H7: =IF(B$3=0,"",F7/B$3) | I7: Minérale | M7: =IF(L7=0,"",N7/L7) | P7: =IF(J$3=0,"",N7/J$3) | Q7: Minérale | U7: =IF(T7=0,"",V7/T7) | X7: =IF(R$3=0,"",V7/R$3) | Y7: Minérale | AC7: =IF(AB7=0,"",AD7/AB7) | AF7: =IF(Z$3=0,"",AD7/Z$3) | AG7: Minérale | AK7: =IF(AJ7=0,"",AL7/AJ7) | AN7: =IF(AH$3=0,"",AL7/AH$3) | AO7: Minérale | AS7: =IF(AR7=0,"",AT7/AR7) | AV7: =IF(AP$3=0,"",AT7/AP$3) | AW7: Minérale | BA7: =IF(AZ7=0,"",BB7/AZ7) | BD7: =IF(AX$3=0,"",BB7/AX$3) | BE7: Minérale | BI7: =IF(BH7=0,"",BJ7/BH7) | BL7: =IF(BF$3=0,"",BJ7/BF$3)
A8: Organique | E8: =IF(D8=0,"",F8/D8) | H8: =IF(B$3=0,"",F8/B$3) | I8: Organique | M8: =IF(L8=0,"",N8/L8) | P8: =IF(J$3=0,"",N8/J$3) | Q8: Organique | U8: =IF(T8=0,"",V8/T8) | X8: =IF(R$3=0,"",V8/R$3) | Y8: Organique | AC8: =IF(AB8=0,"",AD8/AB8) | AF8: =IF(Z$3=0,"",AD8/Z$3) | AG8: Organique | AK8: =IF(AJ8=0,"",AL8/AJ8) | AN8: =IF(AH$3=0,"",AL8/AH$3) | AO8: Organique | AS8: =IF(AR8=0,"",AT8/AR8) | AV8: =IF(AP$3=0,"",AT8/AP$3) | AW8: Organique | BA8: =IF(AZ8=0,"",BB8/AZ8) | BD8: =IF(AX$3=0,"",BB8/AX$3) | BE8: Organique | BI8: =IF(BH8=0,"",BJ8/BH8) | BL8: =IF(BF$3=0,"",BJ8/BF$3)
A9: Autre | E9: =IF(D9=0,"",F9/D9) | H9: =IF(B$3=0,"",F9/B$3) | I9: Autre | M9: =IF(L9=0,"",N9/L9) | P9: =IF(J$3=0,"",N9/J$3) | Q9: Autre | U9: =IF(T9=0,"",V9/T9) | X9: =IF(R$3=0,"",V9/R$3) | Y9: Autre | AC9: =IF(AB9=0,"",AD9/AB9) | AF9: =IF(Z$3=0,"",AD9/Z$3) | AG9: Autre | AK9: =IF(AJ9=0,"",AL9/AJ9) | AN9: =IF(AH$3=0,"",AL9/AH$3) | AO9: Autre | AS9: =IF(AR9=0,"",AT9/AR9) | AV9: =IF(AP$3=0,"",AT9/AP$3) | AW9: Autre | BA9: =IF(AZ9=0,"",BB9/AZ9) | BD9: =IF(AX$3=0,"",BB9/AX$3) | BE9: Autre | BI9: =IF(BH9=0,"",BJ9/BH9) | BL9: =IF(BF$3=0,"",BJ9/BF$3)
A10: SEMENCE | F10: =F11 -> 0 | H10: =IF(B$3=0,"",F10/B$3) | I10: SEMENCE | N10: =N11 -> 0 | P10: =IF(J$3=0,"",N10/J$3) | Q10: SEMENCE | V10: =V11 -> 0 | X10: =IF(R$3=0,"",V10/R$3) | Y10: SEMENCE | AD10: =AD11 -> 0 | AF10: =IF(Z$3=0,"",AD10/Z$3) | AG10: SEMENCE | AL10: =AL11 -> 0 | AN10: =IF(AH$3=0,"",AL10/AH$3) | AO10: SEMENCE | AT10: =AT11 -> 0 | AV10: =IF(AP$3=0,"",AT10/AP$3) | AW10: SEMENCE | BB10: =BB11 -> 0 | BD10: =IF(AX$3=0,"",BB10/AX$3) | BE10: SEMENCE | BJ10: =BJ11 -> 0 | BL10: =IF(BF$3=0,"",BJ10/BF$3)
A11: Semence | E11: =IF(D11=0,"",F11/D11) | H11: =IF(B$3=0,"",F11/B$3) | I11: Semence | M11: =IF(L11=0,"",N11/L11) | P11: =IF(J$3=0,"",N11/J$3) | Q11: Semence | U11: =IF(T11=0,"",V11/T11) | X11: =IF(R$3=0,"",V11/R$3) | Y11: Semence | AC11: =IF(AB11=0,"",AD11/AB11) | AF11: =IF(Z$3=0,"",AD11/Z$3) | AG11: Semence | AK11: =IF(AJ11=0,"",AL11/AJ11) | AN11: =IF(AH$3=0,"",AL11/AH$3) | AO11: Semence | AS11: =IF(AR11=0,"",AT11/AR11) | AV11: =IF(AP$3=0,"",AT11/AP$3) | AW11: Semence | BA11: =IF(AZ11=0,"",BB11/AZ11) | BD11: =IF(AX$3=0,"",BB11/AX$3) | BE11: Semence | BI11: =IF(BH11=0,"",BJ11/BH11) | BL11: =IF(BF$3=0,"",BJ11/BF$3)
A12: TRAITEMENTS | F12: =F13+F14 -> 0 | H12: =IF(B$3=0,"",F12/B$3) | I12: TRAITEMENTS | N12: =N13+N14 -> 0 | P12: =IF(J$3=0,"",N12/J$3) | Q12: TRAITEMENTS | V12: =V13+V14 -> 0 | X12: =IF(R$3=0,"",V12/R$3) | Y12: TRAITEMENTS | AD12: =AD13+AD14 -> 0 | AF12: =IF(Z$3=0,"",AD12/Z$3) | AG12: TRAITEMENTS | AL12: =AL13+AL14 -> 0 | AN12: =IF(AH$3=0,"",AL12/AH$3) | AO12: TRAITEMENTS | AT12: =AT13+AT14 -> 0 | AV12: =IF(AP$3=0,"",AT12/AP$3) | AW12: TRAITEMENTS | BB12: =BB13+BB14 -> 0 | BD12: =IF(AX$3=0,"",BB12/AX$3) | BE12: TRAITEMENTS | BJ12: =BJ13+BJ14 -> 0 | BL12: =IF(BF$3=0,"",BJ12/BF$3)
A13: Herbicide | E13: =IF(D13=0,"",F13/D13) | H13: =IF(B$3=0,"",F13/B$3) | I13: Herbicide | M13: =IF(L13=0,"",N13/L13) | P13: =IF(J$3=0,"",N13/J$3) | Q13: Herbicide | U13: =IF(T13=0,"",V13/T13) | X13: =IF(R$3=0,"",V13/R$3) | Y13: Herbicide | AC13: =IF(AB13=0,"",AD13/AB13) | AF13: =IF(Z$3=0,"",AD13/Z$3) | AG13: Herbicide | AK13: =IF(AJ13=0,"",AL13/AJ13) | AN13: =IF(AH$3=0,"",AL13/AH$3) | AO13: Herbicide | AS13: =IF(AR13=0,"",AT13/AR13) | AV13: =IF(AP$3=0,"",AT13/AP$3) | AW13: Herbicide | BA13: =IF(AZ13=0,"",BB13/AZ13) | BD13: =IF(AX$3=0,"",BB13/AX$3) | BE13: Herbicide | BI13: =IF(BH13=0,"",BJ13/BH13) | BL13: =IF(BF$3=0,"",BJ13/BF$3)
A14: Fongicide | E14: =IF(D14=0,"",F14/D14) | H14: =IF(B$3=0,"",F14/B$3) | I14: Fongicide | M14: =IF(L14=0,"",N14/L14) | P14: =IF(J$3=0,"",N14/J$3) | Q14: Fongicide | U14: =IF(T14=0,"",V14/T14) | X14: =IF(R$3=0,"",V14/R$3) | Y14: Fongicide | AC14: =IF(AB14=0,"",AD14/AB14) | AF14: =IF(Z$3=0,"",AD14/Z$3) | AG14: Fongicide | AK14: =IF(AJ14=0,"",AL14/AJ14) | AN14: =IF(AH$3=0,"",AL14/AH$3) | AO14: Fongicide | AS14: =IF(AR14=0,"",AT14/AR14) | AV14: =IF(AP$3=0,"",AT14/AP$3) | AW14: Fongicide | BA14: =IF(AZ14=0,"",BB14/AZ14) | BD14: =IF(AX$3=0,"",BB14/AX$3) | BE14: Fongicide | BI14: =IF(BH14=0,"",BJ14/BH14) | BL14: =IF(BF$3=0,"",BJ14/BF$3)
A15: Traitement semence | E15: =IF(D15=0,"",F15/D15) | H15: =IF(B$3=0,"",F15/B$3) | I15: Traitement semence | M15: =IF(L15=0,"",N15/L15) | P15: =IF(J$3=0,"",N15/J$3) | Q15: Traitement semence | U15: =IF(T15=0,"",V15/T15) | X15: =IF(R$3=0,"",V15/R$3) | Y15: Traitement semence | AC15: =IF(AB15=0,"",AD15/AB15) | AF15: =IF(Z$3=0,"",AD15/Z$3) | AG15: Traitement semence | AK15: =IF(AJ15=0,"",AL15/AJ15) | AN15: =IF(AH$3=0,"",AL15/AH$3) | AO15: Traitement semence | AS15: =IF(AR15=0,"",AT15/AR15) | AV15: =IF(AP$3=0,"",AT15/AP$3) | AW15: Traitement semence | BA15: =IF(AZ15=0,"",BB15/AZ15) | BD15: =IF(AX$3=0,"",BB15/AX$3) | BE15: Traitement semence | BI15: =IF(BH15=0,"",BJ15/BH15) | BL15: =IF(BF$3=0,"",BJ15/BF$3)
A16: IRRIGATION | F16: =F17 -> 0 | H16: =IF(B$3=0,"",F16/B$3) | I16: IRRIGATION | N16: =N17 -> 0 | P16: =IF(J$3=0,"",N16/J$3) | Q16: IRRIGATION | V16: =V17 -> 0 | X16: =IF(R$3=0,"",V16/R$3) | Y16: IRRIGATION | AD16: =AD17 -> 0 | AF16: =IF(Z$3=0,"",AD16/Z$3) | AG16: IRRIGATION | AL16: =AL17 -> 0 | AN16: =IF(AH$3=0,"",AL16/AH$3) | AO16: IRRIGATION | AT16: =AT17 -> 0 | AV16: =IF(AP$3=0,"",AT16/AP$3) | AW16: IRRIGATION | BB16: =BB17 -> 0 | BD16: =IF(AX$3=0,"",BB16/AX$3) | BE16: IRRIGATION | BJ16: =BJ17 -> 0 | BL16: =IF(BF$3=0,"",BJ16/BF$3)
A17: Irrigation | E17: =IF(D17=0,"",F17/D17) | H17: =IF(B$3=0,"",F17/B$3) | I17: Irrigation | M17: =IF(L17=0,"",N17/L17) | P17: =IF(J$3=0,"",N17/J$3) | Q17: Irrigation | U17: =IF(T17=0,"",V17/T17) | X17: =IF(R$3=0,"",V17/R$3) | Y17: Irrigation | AC17: =IF(AB17=0,"",AD17/AB17) | AF17: =IF(Z$3=0,"",AD17/Z$3) | AG17: Irrigation | AK17: =IF(AJ17=0,"",AL17/AJ17) | AN17: =IF(AH$3=0,"",AL17/AH$3) | AO17: Irrigation | AS17: =IF(AR17=0,"",AT17/AR17) | AV17: =IF(AP$3=0,"",AT17/AP$3) | AW17: Irrigation | BA17: =IF(AZ17=0,"",BB17/AZ17) | BD17: =IF(AX$3=0,"",BB17/AX$3) | BE17: Irrigation | BI17: =IF(BH17=0,"",BJ17/BH17) | BL17: =IF(BF$3=0,"",BJ17/BF$3)
A18: RECOLTE & DIVERS | F18: =F19+F20+F21+F22+F23 -> 0 | H18: =IF(B$3=0,"",F18/B$3) | I18: RECOLTE & DIVERS | N18: =N19+N20+N21+N22+N23 -> 0 | P18: =IF(J$3=0,"",N18/J$3) | Q18: RECOLTE & DIVERS | V18: =V19+V20+V21+V22+V23 -> 0 | X18: =IF(R$3=0,"",V18/R$3) | Y18: RECOLTE & DIVERS | AD18: =AD19+AD20+AD21+AD22+AD23 -> 0 | AF18: =IF(Z$3=0,"",AD18/Z$3) | AG18: RECOLTE & DIVERS | AL18: =AL19+AL20+AL21+AL22+AL23 -> 0 | AN18: =IF(AH$3=0,"",AL18/AH$3) | AO18: RECOLTE & DIVERS | AT18: =AT19+AT20+AT21+AT22+AT23 -> 0 | AV18: =IF(AP$3=0,"",AT18/AP$3) | AW18: RECOLTE & DIVERS | BB18: =BB19+BB20+BB21+BB22+BB23 -> 0 | BD18: =IF(AX$3=0,"",BB18/AX$3) | BE18: RECOLTE & DIVERS | BJ18: =BJ19+BJ20+BJ21+BJ22+BJ23 -> 0 | BL18: =IF(BF$3=0,"",BJ18/BF$3)
A19: Travaux par tiers | E19: =IF(D19=0,"",F19/D19) | H19: =IF(B$3=0,"",F19/B$3) | I19: Travaux par tiers | M19: =IF(L19=0,"",N19/L19) | P19: =IF(J$3=0,"",N19/J$3) | Q19: Travaux par tiers | U19: =IF(T19=0,"",V19/T19) | X19: =IF(R$3=0,"",V19/R$3) | Y19: Travaux par tiers | AC19: =IF(AB19=0,"",AD19/AB19) | AF19: =IF(Z$3=0,"",AD19/Z$3) | AG19: Travaux par tiers | AK19: =IF(AJ19=0,"",AL19/AJ19) | AN19: =IF(AH$3=0,"",AL19/AH$3) | AO19: Travaux par tiers | AS19: =IF(AR19=0,"",AT19/AR19) | AV19: =IF(AP$3=0,"",AT19/AP$3) | AW19: Travaux par tiers | BA19: =IF(AZ19=0,"",BB19/AZ19) | BD19: =IF(AX$3=0,"",BB19/AX$3) | BE19: Travaux par tiers | BI19: =IF(BH19=0,"",BJ19/BH19) | BL19: =IF(BF$3=0,"",BJ19/BF$3)
A20: Cuma | E20: =IF(D20=0,"",F20/D20) | H20: =IF(B$3=0,"",F20/B$3) | I20: Cuma | M20: =IF(L20=0,"",N20/L20) | P20: =IF(J$3=0,"",N20/J$3) | Q20: Cuma | U20: =IF(T20=0,"",V20/T20) | X20: =IF(R$3=0,"",V20/R$3) | Y20: Cuma | AC20: =IF(AB20=0,"",AD20/AB20) | AF20: =IF(Z$3=0,"",AD20/Z$3) | AG20: Cuma | AK20: =IF(AJ20=0,"",AL20/AJ20) | AN20: =IF(AH$3=0,"",AL20/AH$3) | AO20: Cuma | AS20: =IF(AR20=0,"",AT20/AR20) | AV20: =IF(AP$3=0,"",AT20/AP$3) | AW20: Cuma | BA20: =IF(AZ20=0,"",BB20/AZ20) | BD20: =IF(AX$3=0,"",BB20/AX$3) | BE20: Cuma | BI20: =IF(BH20=0,"",BJ20/BH20) | BL20: =IF(BF$3=0,"",BJ20/BF$3)
A21: Ficelles | E21: =IF(D21=0,"",F21/D21) | H21: =IF(B$3=0,"",F21/B$3) | I21: Ficelles | M21: =IF(L21=0,"",N21/L21) | P21: =IF(J$3=0,"",N21/J$3) | Q21: Ficelles | U21: =IF(T21=0,"",V21/T21) | X21: =IF(R$3=0,"",V21/R$3) | Y21: Ficelles | AC21: =IF(AB21=0,"",AD21/AB21) | AF21: =IF(Z$3=0,"",AD21/Z$3) | AG21: Ficelles | AK21: =IF(AJ21=0,"",AL21/AJ21) | AN21: =IF(AH$3=0,"",AL21/AH$3) | AO21: Ficelles | AS21: =IF(AR21=0,"",AT21/AR21) | AV21: =IF(AP$3=0,"",AT21/AP$3) | AW21: Ficelles | BA21: =IF(AZ21=0,"",BB21/AZ21) | BD21: =IF(AX$3=0,"",BB21/AX$3) | BE21: Ficelles | BI21: =IF(BH21=0,"",BJ21/BH21) | BL21: =IF(BF$3=0,"",BJ21/BF$3)
A22: Stokage | E22: =IF(D22=0,"",F22/D22) | H22: =IF(B$3=0,"",F22/B$3) | I22: Stokage | M22: =IF(L22=0,"",N22/L22) | P22: =IF(J$3=0,"",N22/J$3) | Q22: Stokage | U22: =IF(T22=0,"",V22/T22) | X22: =IF(R$3=0,"",V22/R$3) | Y22: Stokage | AC22: =IF(AB22=0,"",AD22/AB22) | AF22: =IF(Z$3=0,"",AD22/Z$3) | AG22: Stokage | AK22: =IF(AJ22=0,"",AL22/AJ22) | AN22: =IF(AH$3=0,"",AL22/AH$3) | AO22: Stokage | AS22: =IF(AR22=0,"",AT22/AR22) | AV22: =IF(AP$3=0,"",AT22/AP$3) | AW22: Stokage | BA22: =IF(AZ22=0,"",BB22/AZ22) | BD22: =IF(AX$3=0,"",BB22/AX$3) | BE22: Stokage | BI22: =IF(BH22=0,"",BJ22/BH22) | BL22: =IF(BF$3=0,"",BJ22/BF$3)
A23: Autres | E23: =IF(D23=0,"",F23/D23) | H23: =IF(B$3=0,"",F23/B$3) | I23: Autres | M23: =IF(L23=0,"",N23/L23) | P23: =IF(J$3=0,"",N23/J$3) | Q23: Autres | U23: =IF(T23=0,"",V23/T23) | X23: =IF(R$3=0,"",V23/R$3) | Y23: Autres | AC23: =IF(AB23=0,"",AD23/AB23) | AF23: =IF(Z$3=0,"",AD23/Z$3) | AG23: Autres | AK23: =IF(AJ23=0,"",AL23/AJ23) | AN23: =IF(AH$3=0,"",AL23/AH$3) | AO23: Autres | AS23: =IF(AR23=0,"",AT23/AR23) | AV23: =IF(AP$3=0,"",AT23/AP$3) | AW23: Autres | BA23: =IF(AZ23=0,"",BB23/AZ23) | BD23: =IF(AX$3=0,"",BB23/AX$3) | BE23: Autres | BI23: =IF(BH23=0,"",BJ23/BH23) | BL23: =IF(BF$3=0,"",BJ23/BF$3)
A24: TOTAL | F24: =F6+F10+F12+F16+F18 -> 0 | H24: =IF(B$3=0,"",F24/B$3) | I24: TOTAL | N24: =N6+N10+N12+N16+N18 -> 0 | P24: =IF(J$3=0,"",N24/J$3) | Q24: TOTAL | V24: =V6+V10+V12+V16+V18 -> 0 | X24: =IF(R$3=0,"",V24/R$3) | Y24: TOTAL | AD24: =AD6+AD10+AD12+AD16+AD18 -> 0 | AF24: =IF(Z$3=0,"",AD24/Z$3) | AG24: TOTAL | AL24: =AL6+AL10+AL12+AL16+AL18 -> 0 | AN24: =IF(AH$3=0,"",AL24/AH$3) | AO24: TOTAL | AT24: =AT6+AT10+AT12+AT16+AT18 -> 0 | AV24: =IF(AP$3=0,"",AT24/AP$3) | AW24: TOTAL | BB24: =BB6+BB10+BB12+BB16+BB18 -> 0 | BD24: =IF(AX$3=0,"",BB24/AX$3) | BE24: TOTAL | BJ24: =BJ6+BJ10+BJ12+BJ16+BJ18 -> 0 | BL24: =IF(BF$3=0,"",BJ24/BF$3)
A26: PRODUITS | D26: QUANTITE | E26: PRIX/UNITE | F26: TOTAL | H26: TOTAL/HA | I26: PRODUITS | L26: QUANTITE | M26: PRIX/UNITE | N26: TOTAL | P26: TOTAL/HA | Q26: PRODUITS | T26: QUANTITE | U26: PRIX/UNITE | V26: TOTAL | X26: TOTAL/HA | Y26: PRODUITS | AB26: QUANTITE | AC26: PRIX/UNITE | AD26: TOTAL | AF26: TOTAL/HA | AG26: PRODUITS | AJ26: QUANTITE | AK26: PRIX/UNITE | AL26: TOTAL | AN26: TOTAL/HA | AO26: PRODUITS | AR26: QUANTITE | AS26: PRIX/UNITE | AT26: TOTAL | AV26: TOTAL/HA | AW26: PRODUITS | AZ26: QUANTITE | BA26: PRIX/UNITE | BB26: TOTAL | BD26: TOTAL/HA | BE26: PRODUITS | BH26: QUANTITE | BI26: PRIX/UNITE | BJ26: TOTAL | BL26: TOTAL/HA
A27: Grain autoconsommé (t) | E27: =Références!K6 -> 185 | F27: =D27*E27 -> 0 | H27: =IF(B$3=0,"",F27/B$3) | I27: Grain autoconsommé (t) | M27: =Références!K6 -> 185 | N27: =L27*M27 -> 0 | P27: =IF(J$3=0,"",N27/J$3) | Q27: Grain autoconsommé (t) | U27: =Références!K6 -> 185 | V27: =T27*U27 -> 0 | X27: =IF(R$3=0,"",V27/R$3) | Y27: Grain autoconsommé (t) | AC27: =Références!K6 -> 185 | AD27: =AB27*AC27 -> 0 | AF27: =IF(Z$3=0,"",AD27/Z$3) | AG27: Grain autoconsommé (t) | AK27: =Références!K6 -> 185 | AL27: =AJ27*AK27 -> 0 | AN27: =IF(AH$3=0,"",AL27/AH$3) | AO27: Grain autoconsommé (t) | AS27: =Références!K6 -> 185 | AT27: =AR27*AS27 -> 0 | AV27: =IF(AP$3=0,"",AT27/AP$3) | AW27: Grain autoconsommé (t) | BA27: =Références!K6 -> 185 | BB27: =AZ27*BA27 -> 0 | BD27: =IF(AX$3=0,"",BB27/AX$3) | BE27: Grain autoconsommé (t) | BI27: =Références!K6 -> 185 | BJ27: =BH27*BI27 -> 0 | BL27: =IF(BF$3=0,"",BJ27/BF$3)
A28: Grain vendu (t) | E28: =IF(D28=0,"",F28/D28) | H28: =IF(B$3=0,"",F28/B$3) | I28: Grain vendu (t) | M28: =IF(L28=0,"",N28/L28) | P28: =IF(J$3=0,"",N28/J$3) | Q28: Grain vendu (t) | U28: =IF(T28=0,"",V28/T28) | X28: =IF(R$3=0,"",V28/R$3) | Y28: Grain vendu (t) | AC28: =IF(AB28=0,"",AD28/AB28) | AF28: =IF(Z$3=0,"",AD28/Z$3) | AG28: Grain vendu (t) | AK28: =IF(AJ28=0,"",AL28/AJ28) | AN28: =IF(AH$3=0,"",AL28/AH$3) | AO28: Grain vendu (t) | AS28: =IF(AR28=0,"",AT28/AR28) | AV28: =IF(AP$3=0,"",AT28/AP$3) | AW28: Grain vendu (t) | BA28: =IF(AZ28=0,"",BB28/AZ28) | BD28: =IF(AX$3=0,"",BB28/AX$3) | BE28: Grain vendu (t) | BI28: =IF(BH28=0,"",BJ28/BH28) | BL28: =IF(BF$3=0,"",BJ28/BF$3)
A29: Semence fermière | E29: =IF(D29=0,"",F29/D29) | H29: =IF(B$3=0,"",F29/B$3) | I29: Semence fermière | M29: =IF(L29=0,"",N29/L29) | P29: =IF(J$3=0,"",N29/J$3) | Q29: Semence fermière | U29: =IF(T29=0,"",V29/T29) | X29: =IF(R$3=0,"",V29/R$3) | Y29: Semence fermière | AC29: =IF(AB29=0,"",AD29/AB29) | AF29: =IF(Z$3=0,"",AD29/Z$3) | AG29: Semence fermière | AK29: =IF(AJ29=0,"",AL29/AJ29) | AN29: =IF(AH$3=0,"",AL29/AH$3) | AO29: Semence fermière | AS29: =IF(AR29=0,"",AT29/AR29) | AV29: =IF(AP$3=0,"",AT29/AP$3) | AW29: Semence fermière | BA29: =IF(AZ29=0,"",BB29/AZ29) | BD29: =IF(AX$3=0,"",BB29/AX$3) | BE29: Semence fermière | BI29: =IF(BH29=0,"",BJ29/BH29) | BL29: =IF(BF$3=0,"",BJ29/BF$3)
A30: Paille autoconsommé (t) | E30: =Références!K7 -> 90 | F30: =D30*E30 -> 0 | H30: =IF(B$3=0,"",F30/B$3) | I30: Paille autoconsommé (t) | M30: =Références!K7 -> 90 | N30: =L30*M30 -> 0 | P30: =IF(J$3=0,"",N30/J$3) | Q30: Paille autoconsommé (t) | U30: =Références!K7 -> 90 | V30: =T30*U30 -> 0 | X30: =IF(R$3=0,"",V30/R$3) | Y30: Paille autoconsommé (t) | AC30: =Références!K7 -> 90 | AD30: =AB30*AC30 -> 0 | AF30: =IF(Z$3=0,"",AD30/Z$3) | AG30: Paille autoconsommé (t) | AK30: =Références!K7 -> 90 | AL30: =AJ30*AK30 -> 0 | AN30: =IF(AH$3=0,"",AL30/AH$3) | AO30: Paille autoconsommé (t) | AS30: =Références!K7 -> 90 | AT30: =AR30*AS30 -> 0 | AV30: =IF(AP$3=0,"",AT30/AP$3) | AW30: Paille autoconsommé (t) | BA30: =Références!K7 -> 90 | BB30: =AZ30*BA30 -> 0 | BD30: =IF(AX$3=0,"",BB30/AX$3) | BE30: Paille autoconsommé (t) | BI30: =Références!K7 -> 90 | BJ30: =BH30*BI30 -> 0 | BL30: =IF(BF$3=0,"",BJ30/BF$3)
A31: Paille vendu (t) | E31: =IF(D31=0,"",F31/D31) | H31: =IF(B$3=0,"",F31/B$3) | I31: Paille vendu (t) | M31: =IF(L31=0,"",N31/L31) | P31: =IF(J$3=0,"",N31/J$3) | Q31: Paille vendu (t) | U31: =IF(T31=0,"",V31/T31) | X31: =IF(R$3=0,"",V31/R$3) | Y31: Paille vendu (t) | AC31: =IF(AB31=0,"",AD31/AB31) | AF31: =IF(Z$3=0,"",AD31/Z$3) | AG31: Paille vendu (t) | AK31: =IF(AJ31=0,"",AL31/AJ31) | AN31: =IF(AH$3=0,"",AL31/AH$3) | AO31: Paille vendu (t) | AS31: =IF(AR31=0,"",AT31/AR31) | AV31: =IF(AP$3=0,"",AT31/AP$3) | AW31: Paille vendu (t) | BA31: =IF(AZ31=0,"",BB31/AZ31) | BD31: =IF(AX$3=0,"",BB31/AX$3) | BE31: Paille vendu (t) | BI31: =IF(BH31=0,"",BJ31/BH31) | BL31: =IF(BF$3=0,"",BJ31/BF$3)
A32: Aides couplées | E32: =IF(D32=0,"",F32/D32) | H32: =IF(B$3=0,"",F32/B$3) | I32: Aides couplées | M32: =IF(L32=0,"",N32/L32) | P32: =IF(J$3=0,"",N32/J$3) | Q32: Aides couplées | U32: =IF(T32=0,"",V32/T32) | X32: =IF(R$3=0,"",V32/R$3) | Y32: Aides couplées | AC32: =IF(AB32=0,"",AD32/AB32) | AF32: =IF(Z$3=0,"",AD32/Z$3) | AG32: Aides couplées | AK32: =IF(AJ32=0,"",AL32/AJ32) | AN32: =IF(AH$3=0,"",AL32/AH$3) | AO32: Aides couplées | AS32: =IF(AR32=0,"",AT32/AR32) | AV32: =IF(AP$3=0,"",AT32/AP$3) | AW32: Aides couplées | BA32: =IF(AZ32=0,"",BB32/AZ32) | BD32: =IF(AX$3=0,"",BB32/AX$3) | BE32: Aides couplées | BI32: =IF(BH32=0,"",BJ32/BH32) | BL32: =IF(BF$3=0,"",BJ32/BF$3)
A33: TOTAL | F33: =F27+F28+F29+F30+F31+F32 -> 0 | H33: =IF(B$3=0,"",F33/B$3) | I33: TOTAL | N33: =N27+N28+N29+N30+N31+N32 -> 0 | P33: =IF(J$3=0,"",N33/J$3) | Q33: TOTAL | V33: =V27+V28+V29+V30+V31+V32 -> 0 | X33: =IF(R$3=0,"",V33/R$3) | Y33: TOTAL | AD33: =AD27+AD28+AD29+AD30+AD31+AD32 -> 0 | AF33: =IF(Z$3=0,"",AD33/Z$3) | AG33: TOTAL | AL33: =AL27+AL28+AL29+AL30+AL31+AL32 -> 0 | AN33: =IF(AH$3=0,"",AL33/AH$3) | AO33: TOTAL | AT33: =AT27+AT28+AT29+AT30+AT31+AT32 -> 0 | AV33: =IF(AP$3=0,"",AT33/AP$3) | AW33: TOTAL | BB33: =BB27+BB28+BB29+BB30+BB31+BB32 -> 0 | BD33: =IF(AX$3=0,"",BB33/AX$3) | BE33: TOTAL | BJ33: =BJ27+BJ28+BJ29+BJ30+BJ31+BJ32 -> 0 | BL33: =IF(BF$3=0,"",BJ33/BF$3)
A35: MARGE BRUTE hors prime | F35: =SUM(F27:G31)-F24 -> 0 | H35: =IF(B$3=0,"",F35/B$3) | I35: MARGE BRUTE hors prime | N35: =SUM(N27:O31)-N24 -> 0 | P35: =IF(J$3=0,"",N35/J$3) | Q35: MARGE BRUTE hors prime | V35: =SUM(V27:W31)-V24 -> 0 | X35: =IF(R$3=0,"",V35/R$3) | Y35: MARGE BRUTE hors prime | AD35: =SUM(AD27:AE31)-AD24 -> 0 | AF35: =IF(Z$3=0,"",AD35/Z$3) | AG35: MARGE BRUTE hors prime | AL35: =SUM(AL27:AM31)-AL24 -> 0 | AN35: =IF(AH$3=0,"",AL35/AH$3) | AO35: MARGE BRUTE hors prime | AT35: =SUM(AT27:AU31)-AT24 -> 0 | AV35: =IF(AP$3=0,"",AT35/AP$3) | AW35: MARGE BRUTE hors prime | BB35: =SUM(BB27:BC31)-BB24 -> 0 | BD35: =IF(AX$3=0,"",BB35/AX$3) | BE35: MARGE BRUTE hors prime | BJ35: =SUM(BJ27:BK31)-BJ24 -> 0 | BL35: =IF(BF$3=0,"",BJ35/BF$3)
A37: MARGE BRUTE TOTAL | F37: =F33-F24 -> 0 | H37: =IF(B$3=0,"",F37/B$3) | I37: MARGE BRUTE TOTAL | N37: =N33-N24 -> 0 | P37: =IF(J$3=0,"",N37/J$3) | Q37: MARGE BRUTE TOTAL | V37: =V33-V24 -> 0 | X37: =IF(R$3=0,"",V37/R$3) | Y37: MARGE BRUTE TOTAL | AD37: =AD33-AD24 -> 0 | AF37: =IF(Z$3=0,"",AD37/Z$3) | AG37: MARGE BRUTE TOTAL | AL37: =AL33-AL24 -> 0 | AN37: =IF(AH$3=0,"",AL37/AH$3) | AO37: MARGE BRUTE TOTAL | AT37: =AT33-AT24 -> 0 | AV37: =IF(AP$3=0,"",AT37/AP$3) | AW37: MARGE BRUTE TOTAL | BB37: =BB33-BB24 -> 0 | BD37: =IF(AX$3=0,"",BB37/AX$3) | BE37: MARGE BRUTE TOTAL | BJ37: =BJ33-BJ24 -> 0 | BL37: =IF(BF$3=0,"",BJ37/BF$3)

Sheet Charges de structure
A2: Charges foncières | C2: =SUM(C3:C5) -> 0
A3: Fermage | B3: Montant | C3: =SUM(D3:AL3) -> 0
A4: Entretien du foncier | B4: Montant | C4: =SUM(D4:AL4) -> 0
A5: Impôt foncier | B5: Montant | C5: =SUM(D5:AL5) -> 0
A6: Charges matériel | C6: =C7+C8+C9+C11+C15+C13+C10 -> 0
A7: Entretien matériel | B7: Montant | C7: =SUM(D7:AL7) -> 0
A8: Petit matériel | B8: Montant | C8: =SUM(D8:AL8) -> 0
A9: Crédit bail | B9: Montant | C9: =SUM(D9:AL9) -> 0
A10: Traveaux par tier, frais de CUMA | B10: Montant | C10: =SUM(D10:AL10) -> 0
A11: Carburant voiture | B11: Montant | C11: =SUM(D11:AL11) -> 0
B12: Quantité (L) | C12: =SUM(D12:AL12) -> 0
A13: Carburant tracteur | B13: Montant | C13: =SUM(D13:AL13) -> 0
B14: Quantité (L) | C14: =SUM(D14:AL14) -> 0
A15: Lubrifiant | B15: Montant | C15: =SUM(D15:AL15) -> 0
B16: Quantité (L) | C16: =SUM(D16:AL16) -> 0
A17: Charges batiment | C17: =C18+C19 -> 0
A18: Entretien bâtiment | B18: Montant | C18: =SUM(D18:AL18) -> 0
A19: Location bâtiment | B19: Montant | C19: =SUM(D19:AL19) -> 0
A20: Assurance | C20: =C21+C22 -> 0
A21: Assurance matériel/batiment | B21: Montant | C21: =SUM(D21:AL21) -> 0
A22: Assurance emprunt | B22: Montant | C22: =SUM(D22:AL22) -> 0
A23: Charges main d'œuvre | C23: =C24+C25 -> 0
A24: Charge sociale exploitant | B24: Montant | C24: =SUM(D24:AL24) -> 0
A25: Salaire+charge sociale employé | B25: Montant | C25: =SUM(D25:AL25) -> 0
A26: Charges protection | C26: =C27+C28+C29 -> 0
A27: Chien de protection | B27: Montant | C27: =SUM(D27:AL27) -> 0 | D27: Alimentation | S27: Autres
A28: Matériel protection | B28: Montant | C28: =SUM(D28:AL28) -> 0
A29: Gardiennage protection | B29: Montant | C29: =SUM(D29:AL29) -> 0
A30: Charge diverses | C30: =C31+C33+C34+C36+C32+C38 -> 0
A31: Divers | B31: Montant | C31: =SUM(D31:AL31) -> 0
A32: Frais de gestion | B32: Montant | C32: =SUM(D32:AL32) -> 0
A33: Déplacement | B33: Montant | C33: =SUM(D33:AL33) -> 0
A34: Eau | B34: Montant | C34: =SUM(D34:AL34) -> 0
B35: Quantité (L) | C35: =SUM(D35:AL35) -> 0
A36: Electricité | B36: Montant | C36: =SUM(D36:AL36) -> 0
B37: Quantité (KWh) | C37: =SUM(D37:AL37) -> 0
A38: Taxe et impôt | B38: Montant | C38: =SUM(D38:AL38) -> 0 | D38: ADAR | E38: =90*Exploitation!B17+0.0019*'Bilan complet'!FY9 -> 0
A39: TOTAL CHARGE DE STUCUTURE (hors ammortissement) | C39: =C30+C26+C23+C17+C6+C2+C20+C46 -> 0
A40: Amortissement matériel | C40: =Amortissements!F26 -> 0
A41: Ammortissement bâtiment | C41: =Amortissements!N26 -> 0
...

Sheet Amortissements
A2: Amortissement matériel | B2: Valeur d'achat | C2: Anné d'achat | D2: Duré d'amortissement | E2: Année de fin | F2: Montant annuel | I2: Amortissement batiment/installation | J2: Valeur d'achat | K2: anné d'achat | L2: Duré d'amortissement | M2: Année de fin | N2: Montant annuel
E4: =C4+D4 -> 0 | F4: =IF(E4>=Exploitation!B$2,B4/D4,0) -> 0 | M4: =K4+L4 -> 0 | N4: =IF(M4>=Exploitation!B$2,J4/L4,0) -> 0
E5: =C5+D5 -> 0 | F5: =IF(E5>=Exploitation!B$2,B5/D5,0) -> 0 | M5: =K5+L5 -> 0 | N5: =IF(M5>=Exploitation!B$2,J5/L5,0) -> 0
E6: =C6+D6 -> 0 | F6: =IF(E6>=Exploitation!B$2,B6/D6,0) -> 0 | M6: =K6+L6 -> 0 | N6: =IF(M6>=Exploitation!B$2,J6/L6,0) -> 0
E7: =C7+D7 -> 0 | F7: =IF(E7>=Exploitation!B$2,B7/D7,0) -> 0 | M7: =K7+L7 -> 0 | N7: =IF(M7>=Exploitation!B$2,J7/L7,0) -> 0
E8: =C8+D8 -> 0 | F8: =IF(E8>=Exploitation!B$2,B8/D8,0) -> 0 | M8: =K8+L8 -> 0 | N8: =IF(M8>=Exploitation!B$2,J8/L8,0) -> 0
E9: =C9+D9 -> 0 | F9: =IF(E9>=Exploitation!B$2,B9/D9,0) -> 0 | M9: =K9+L9 -> 0 | N9: =IF(M9>=Exploitation!B$2,J9/L9,0) -> 0
E10: =C10+D10 -> 0 | F10: =IF(E10>=Exploitation!B$2,B10/D10,0) -> 0 | M10: =K10+L10 -> 0 | N10: =IF(M10>=Exploitation!B$2,J10/L10,0) -> 0
E11: =C11+D11 -> 0 | F11: =IF(E11>=Exploitation!B$2,B11/D11,0) -> 0 | M11: =K11+L11 -> 0 | N11: =IF(M11>=Exploitation!B$2,J11/L11,0) -> 0
E12: =C12+D12 -> 0 | F12: =IF(E12>=Exploitation!B$2,B12/D12,0) -> 0 | M12: =K12+L12 -> 0 | N12: =IF(M12>=Exploitation!B$2,J12/L12,0) -> 0
E13: =C13+D13 -> 0 | F13: =IF(E13>=Exploitation!B$2,B13/D13,0) -> 0 | M13: =K13+L13 -> 0 | N13: =IF(M13>=Exploitation!B$2,J13/L13,0) -> 0
E14: =C14+D14 -> 0 | F14: =IF(E14>=Exploitation!B$2,B14/D14,0) -> 0 | M14: =K14+L14 -> 0 | N14: =IF(M14>=Exploitation!B$2,J14/L14,0) -> 0
E15: =C15+D15 -> 0 | F15: =IF(E15>=Exploitation!B$2,B15/D15,0) -> 0 | M15: =K15+L15 -> 0 | N15: =IF(M15>=Exploitation!B$2,J15/L15,0) -> 0
... E25: =C25+D25 -> 0 | F25: =IF(E25>=Exploitation!B$2,B25/D25,0) -> 0 | M25: =K25+L25 -> 0 | N25: =IF(M25>=Exploitation!B$2,J25/L25,0) -> 0
A26: TOTAL | F26: =SUM(F4:F25) -> 0 | I26: TOTAL | N26: =SUM(N4:N25) -> 0

Sheet Aides
A2: Aides découplés | B2: Nombre | C2: Prix moyen | D2: Montants | F2: Aides couplés atelier ovin | H2: Nombre | I2: Prix moyen | J2: Montants
A3: Paiement de base | C3: =D3/B3 -> #DIV/0! | F3: Aides couplées ovine | I3: =J3/H3 -> #DIV/0!
A4: Paiement redistributif | C4: =D4/B4 -> #DIV/0! | F4: Aides légumineuses | I4: =J4/H4 -> #DIV/0!
A5: Ecorégime | C5: =D5/B5 -> #DIV/0!
A6: JA
A7: Total | D7: =SUM(D3:D6) -> 0
A9: ICHN
A11: Mesure loup
A13: MAEC / Bio
A15: Autre

Sheet Extraction chambre
A1: Données brute | B1: EXPLOITATION | X1: EFFECTIF | AG1: BILAN AGNELAGE | AQ1: STOCK ET CONSOMMATION | BI1: PRODUIT OVIN | BS1: CHARGE OP. OVINE | CA1: MARGE BRUTE | CE1: CHARGES DE STRUCTURES | CQ1: AIDE DECOUPLE | CY1: RESULTATS ECO | DG1: COMMERCIALISATION | EW1: COUT DE PRODUCTION | GM1: PRODUIT OVIN | GW1: CHARGE OP. OVINE
