Workbook

Sheet LISEZ-MOI
A1: Présentation de l'outil de planification des couverts végétaux
A3: Ce document est un outil visant à faciliter la planification des couverts végétaux (et plus largement des cultures maraîchères en général). Cet outil est composé de 4 étapes et vise au final à définir les créneaux disponibles pour intégrer des couverts végétaux dans sa planification. Cet outil n'a donc pas de prime abord vocation à identifier pour vous la composition, la densité du couvert ou le type de couvert à réaliser (ces réponses doivent provenir de vous à l'aide des fiches techniques et arbres de décisions répondant à ces questions), mais a pour objectif de vous faire poser les bonnes questions, le plus en amont possible, pour maximiser les chances de réussite de vos couverts végétaux.
A6: Pour toute questions ou difficultés lors de l'utilisation de cet outil, n'hésitez pas à contacter MSV Normandie : msv.normandie.idf@gmail.com

Sheet ETAPE 1
A1: ETAPE 1 : Définition des blocs culturaux (Explications)
A4: La première étape de la planification des couverts est, dans un premier temps, de définir les cultures maraîchères qui seront implantées dans l’année. Dans un second temps, il est nécessaire de réunir les cultures maraîchères sélectionnées par blocs culturaux. Un bloc cultural correspond à un ensemble de cultures présentant les mêmes périodes d’occupation des planches et des itinéraires techniques relativement identiques. Ainsi, un bloc doit pouvoir être considéré comme une unité culturale à part entière. Par exemple, un bloc peut correspondre à : - une famille de plantes (ex : Alliacées) - une seule culture correspondant à une seule espèce ou un groupe restreint (ex: courges, poireaux,...) - un ensemble de cultures regroupées pour leur saisonnalité (primeurs/frais de printemps, frais d'été...) Toutes les cultures maraîchères doivent pouvoir appartenir à un bloc. À la fin de l’exercice, on peut attribuer à chaque bloc une période de début et une période de fin et une modalité culturale (cultures semées, plantées, bâchées, paillées, etc.).
A6: Comment utiliser le document pour cette étape
A7: Les fichiers nécessaires à la planification pour l'étape 1 sont les 3 premiers fichiers (2 en orange et 1 en gris). Les deux fichiers en orange permettent de définir les blocs culturaux en pleins champs (PC) ou sous abris (SA). Le fichier en gris permet d'ajouter de nouvelles modalités d'implantation et de cultures si besoin. Vous allez donc principalement utiliser les fichiers oranges. -Dans un premier temps vous allez définir les noms des différents blocs culturaux que vous souhaitez faire dans la COLONNE A (Rappel : un bloc cultural correspond à un ensemble de cultures avec des itinéaires techniques relativement identiques et une même période d'occupation du sol). -Une fois les noms ajoutés dans la COLONNE A, vous pouvez affilier les espèces souhaitées à chaque bloc grâce au tableau situé sur les COLONNES G et H. -Enfin, pour chaque bloc, vous pouvez ajouter dans les COLONNES B à D un numéro de semaine de début de culture, un numéro de fin de culture, ainsi que les modalités d'implantation et de cultures (nécessaire pour le cahier des charges des couvets en étape 3). Vous pouvez répéter le même procédé pour définir les blocs culturaux sous abri, si nécessaire.
A9: Une fois toutes les données ajoutées, vous allez voir le calendrier à partir de la COLONNE J se remplir. A partir de ce calendrier, vous pouvez déterminer vos successions en fonction des dates de début et de fin de chaque bloc culturale. (Allez à l'ETAPE 2)

Sheet Définition des blocs culturaux 
A1: Plein champ | G1: Plein champ | K1: Janvier | P1: Février | T1: Mars | X1: Avril | AB1: Mai | AG1: Juin | AK1: Juillet | AP1: Août | AT1: Septembre | AX1: Octobre | BC1: Novembre | BG1: Décembre
A2: Nom des blocs | B2: Date début du bloc (n° de semaine) | C2: Date de fin du bloc (n° semaine) | D2: Modalité d'implantation (cultures semées ou plantées) | E2: Modalité de culture (compost fin, paille, bâche) | G2: Nom des espèces | H2: Nom du bloc associé | K2: 1 | L2: 2 | M2: 3 | N2: 4 | O2: 5 | P2: 6 | Q2: 7 | R2: 8 | S2: 9 | T2: 10 | U2: 11 | V2: 12 | W2: 13 | X2: 14 | Y2: 15 | Z2: 16 | AA2: 17 | AB2: 18 | AC2: 19 | AD2: 20 | AE2: 21 | AF2: 22 | AG2: 23 | AH2: 24 | AI2: 25 | AJ2: 26 | AK2: 27 | AL2: 28 | AM2: 29 | AN2: 30 | AO2: 31 | AP2: 32 | AQ2: 33 | AR2: 34 | AS2: 35 | AT2: 36 | AU2: 37 | AV2: 38 | AW2: 39 | AX2: 40 | AY2: 41 | AZ2: 42 | BA2: 43 | BB2: 44 | BC2: 45 | BD2: 46 | BE2: 47 | BF2: 48 | BG2: 49 | BH2: 50 | BI2: 51 | BJ2: 52
A3: Courges | B3: 20 | C3: 42 | D3: Plantation | E3: Bâche | G3: Ail | J3: =A3 -> Courges
G4: Artichaut | J4: =A4
G5: Aubergine | J5: =A5
G6: Betterave botte | J6: =A6
G7: Betterave conservation | J7: =A7
G8: Blettes | J8: =A8
G9: Brocoli | J9: =A9
G10: Carotte botte primeur | J10: =A10
G11: Carotte conservation | J11: =A11
G12: Cebette | J12: =A12
G13: Céleri branche | J13: =A13
G14: Céleri rave | J14: =A14
G15: Chou chinois | J15: =A15
... G21: Choux pommés d'hiver | J21: =A21
A22: Hors planification | G22: Concombre | J22: =A22 -> Hors planification
G23: Courge | H23: Courges
G24: Courgette
G25: Echalion
G26: Echalote botte
G27: Echalote conservation
G28: Epinard
G29: Fenouil
G30: Fraises
G31: Haricot nain
G32: Haricot rames
G33: Mâche
G34: Melon
G35: Mesclun
... G52: Tomate

Sheet Feuille 10
A1: Sous Abri | G1: Sous Abri | K1: Janvier 2025 | P1: Février 2025 | T1: Mars 2025 | X1: Avril 2025 | AB1: Mai 2025 | AG1: Juin 2025 | AK1: Juillet 2025 | AP1: Août 2025 | AT1: Septembre 2025 | AX1: Octobre 2025 | BC1: Novembre 2025 | BG1: Décembre 2025
A2: Nom des blocs | B2: Date début du bloc (n° de semaine) | C2: Date de fin du bloc (n° semaine) | D2: Modalité d'implantation (cultures semées ou plantées) | E2: Modalité de culture (compost fin, paille, bâche) | G2: Nom des espèces | H2: Nom du bloc associé | K2: 1 | L2: 2 | M2: 3 | N2: 4 | O2: 5 | P2: 6 | Q2: 7 | R2: 8 | S2: 9 | T2: 10 | U2: 11 | V2: 12 | W2: 13 | X2: 14 | Y2: 15 | Z2: 16 | AA2: 17 | AB2: 18 | AC2: 19 | AD2: 20 | AE2: 21 | AF2: 22 | AG2: 23 | AH2: 24 | AI2: 25 | AJ2: 26 | AK2: 27 | AL2: 28 | AM2: 29 | AN2: 30 | AO2: 31 | AP2: 32 | AQ2: 33 | AR2: 34 | AS2: 35 | AT2: 36 | AU2: 37 | AV2: 38 | AW2: 39 | AX2: 40 | AY2: 41 | AZ2: 42 | BA2: 43 | BB2: 44 | BC2: 45 | BD2: 46 | BE2: 47 | BF2: 48 | BG2: 49 | BH2: 50 | BI2: 51 | BJ2: 52
G3: Ail | J3: =A3
G4: Artichaut | J4: =A4
G5: Aubergine | J5: =A5
G6: Betterave botte | J6: =A6
G7: Betterave conservation | J7: =A7
G8: Blettes | J8: =A8
G9: Brocoli | J9: =A9
G10: Carotte botte primeur | J10: =A10
G11: Carotte conservation | J11: =A11
G12: Cebette | J12: =A12
G13: Céleri branche | J13: =A13
G14: Céleri rave | J14: =A14
... G21: Choux pommés d'hiver | J21: =A21
A22: Hors planification | G22: Concombre | J22: =A22 -> Hors planification
G23: Courge
G24: Courgette
G25: Echalion
G26: Echalote botte
G27: Echalote conservation
G28: Epinard
G29: Fenouil
G30: Fraises
G31: Haricot nain
G32: Haricot rames
G33: Mâche
G34: Melon
... G52: Tomate

Sheet Sélection de données pré-rempli
A1: Plein champ | D1: Sous Abri
A2: Modalité d'implantation (cultures semées ou plantées) | B2: Modalité de culture (compost fin, paille, bâche) | D2: Modalité d'implantation (cultures semées ou plantées) | E2: Modalité de culture (compost fin, paille, bâche)
A3: Plantation | B3: Paille +15 cm | D3: Plantation | E3: Paille +15 cm
A4: Semis | B4: Paille -15 cm | D4: Semis | E4: Paille -15 cm
B5: Bâche | E5: Bâche
B6: Bâche + paille | E6: Bâche + paille
B7: Compost | E7: Compost
B8: Sol nu | E8: Sol nu

Sheet ETAPES 2, 3 & 4
A1: ETAPE 2 : Planification de la succession des blocs (Explications)
A4: Une fois les blocs déterminés, la deuxième étape consiste à définir la rotation entre ces blocs sur chacun des jardins. Pour ce faire, sur chaque planche, vous allez déterminer quel bloc cultural vous allez implanter, puis quel bloc suivra après le premier et ainsi de suite. La planification de cette succession peut se faire sur plusieurs années, permettant notamment de créer une boucle de rotation culturale pour chaque jardin. Enfin, on relève les différentes périodes qui peuvent accueillir des couverts végétaux. Ces périodes correspondent aux temps disponibles entre deux blocs culturaux. Certains blocs peuvent se succéder trop rapidement pour pouvoir intégrer un couvert végétal. Ainsi, il peut ne pas être possible d’installer un couvert à cet emplacement (à moins de les espacer à plus d’une année d’intervalle).
A6: Comment utiliser le document pour cette étape
A7: Les fichiers nécessaires à la planification pour l'étape 2 sont les 2 fichiers en vert qui permettent de planifier les successions des blocs en pleins champs (PC) ou sous abris (SA). Dans ce fichier, vous allez simplement ajuster les rotations entre vos blocs à partir des numéros de semaines intégrés lors de l'ETAPE 1. Le tableau que vous avez rempli lors de l'ETAPE 1 est aussi présent sur les onglets de l'ETAPE 2. Ainsi vous pouvez retrouver les numéros de semaines ajoutés précédemment. Pour une meilleure visibilité des enchaînements, vous pouvez aussi regarder le calendrier rempli de l'ETAPE 1. Pour remplir ce calendrier, il suffit de colorer les cases correspondantes à la période d'occupation du bloc en question (selectionner les cases et utiliser le petit seau de peinture "outil de remplissage"). Ensuite, pour une meilleure visibilité, notez dans la première case le nom du bloc. Ce calendrier peut être fait sur plusieurs années, permettant de faire une boucle de rotation cultural. Ce calendrier est fait sur 3 ans, mais vous pouvez ajouter autant d'années que souhaité. Pareil vous pouvez ajouter autant de jardin que souhaité en ajoutant des lignes.
A9: Une fois toutes les données ajoutées, à partir de ce calendrier vous pouvez identifier les créneaux sur lesquels ajouter les couverts végétaux (Allez aux ETAPES 3 & 4).
A12: ETAPE 3 & 4 : Définition du cahier des charges des couverts végétaux et intégration dans la rotation
A14: Etape 3 :
A15: Lors de l’implantation de ses couverts, le maraîcher doit tenir compte des cultures qui précèdent et suivent le couvert, afin de permettre à ce dernier de se développer correctement et d’assurer ses fonctions (structuration du sol, production de biomasse suffisante, atteinte d’un stade phénologique approprié au moment de la destruction). Ainsi, à partir des créneaux de disponibilité de la planche et du précédent et suivant cultural défini dans l’étape 2, il est maintenant possible de définir un cahier des charges pour l’installation du couvert végétal. Ainsi, comme ce couvert est intercalé entre deux cultures, la modalité d’implantation du couvert végétal est dépendante de la modalité de culture du bloc précédent (culture paillée, bâchée, présence de débris végétaux, etc.) et la modalité de destruction du couvert végétal est déterminée en fonction de la modalité d’implantation du bloc cultural suivant (culture semée ou plantée). Par exemple, on sait que le bloc 1 se termine début août de l’année n et que le bloc 2 commence début mai de l’année n+1. La parcelle est propre après le bloc 1 car il s’agit d’une culture longue bâchée. Par contre, le bloc 2 correspondant à des cultures semées, le couvert végétal doit être complètement décomposé pour début mai. Ainsi, à partir de ces informations on sait que le couvert doit être un couvert d’hiver qui peut être semé assez tôt (fin août/ mi-septembre), sans besoin d’une préparation du sol au préalable. De plus, ce couvert devra être détruit en avril pour permettre une bonne incorporation de la biomasse dans le sol et permettre d’avoir un sol sans trop de débris pour le semis. Ainsi, après une culture de courges sur bâches (ou courgettes) ou une culture d’oignons sur paille, un couvert d’hiver est généralement mis en place. En effet, la fin de ces cultures coïncide avec une période propice au semis des couverts d’hiver. De plus, dans le cas de la culture de courges sur bâches, cette culture laisse un sol propre avec peu de résidu, permettant une implantation des couverts facile, notamment en semis à la volée.
A17: Etape 4 :
A18: Une fois que l’on a défini un cahier des charges pour créneau disponible dans la rotation, on peut y associer un mélange particulier qui répondra aux différents critères recherchés et à l’objectif souhaité. La méthode d’implantation et la méthode de destruction devront aussi être explicitées en fonction du cahier des charges obtenu à l’étape 3 et des résultats attendus. A ce stade, le choix des espèces (et variétés !) de couverts végétaux (en monospécifique ou en mélange) constitue le principal questionnement. Ce choix doit être déterminé par : -la saison de la disponibilité de la planche (printemps, été, hiver pour espèces et variétés de printemps ou d’hiver) -la durée de disponibilité de la planche -les objectifs souhaités du couvert (décompaction du sol, accueil de la biodiversité, apport de matière organique, gestion des adventices…) -le précédent et suivant cultural -la présence de résidus sur le sol après destruction du couvert -le temps de croissance du couvert
A20: Comment utiliser le document pour cette étape
A21: Les fichiers nécessaires à la planification pour les étapes 3 & 4 sont les mêmes fichiers qu'utilisés précédemment. Maintenant, vous allez pouvoir ajouter les couverts végétaux sur les créneaux disponibles. Pour ce faire, vous allez devoir prendre en compte le temps disponible du créneau, le précédent cultural pour identifier le type de semis et le suivant cultural pour identifier le type de destruction (et le temps nécessaire pour la dégradation du couvert). En fonction de la période de disponibilité de la planche, vous allez opter pour des couverts différents (une longue période de disponibilité en hiver = couvert d'hiver, si la période de disponibilité en hiver est plus courte due à une utilisation précoce de la planche = couvert gélif...) et une composition de ces couverts différents. A partir de ce constat, il est nécessaire de se renseigner sur le type de couvert et les espèces à utiliser qui correspondent à la période de disponibilité de la planche. Concernant la méthode de semis, en fonction du niveau de propreté de la planche à l'issue de la culture précédente, vous devrez adapter la méthode de semis, ainsi que la densité. Enfin, en fonction du niveau de propreté du sol nécessaire pour l'implantation de la culture suivante, le type de destruction et le temps de bâchage changeront aussi. Une fois le type de couvert identifié, ainsi que la période d'occupation et les caractéristiques d'implantation et de destruction. Vous pouvez les ajouter dans le tableau vert en dessous "Couverts Programmés"
... A34: Jardins de la Mésangère

Sheet Planification de la succession 
A1: ='Définition des blocs culturaux '!A1 -> Plein champ | I1: Jardin N°1 /Boucle N°1 | K1: Janvier | P1: Février | T1: Mars | X1: Avril | AB1: Mai | AG1: Juin | AK1: Juillet | AP1: Août | AT1: Septembre | AX1: Octobre | BC1: Novembre | BG1: Décembre
A2: ='Définition des blocs culturaux '!A2 -> Nom des blocs | B2: ='Définition des blocs culturaux '!B2 -> Date début du bloc (n° de semaine) | C2: ='Définition des blocs culturaux '!C2 -> Date de fin du bloc (n° semaine) | D2: ='Définition des blocs culturaux '!D2 -> Modalité d'implantation (cultures semées ou plantées) | E2: ='Définition des blocs culturaux '!E2 -> Modalité de culture (compost fin, paille, bâche) | K2: 1 | L2: 2 | M2: 3 | N2: 4 | O2: 5 | P2: 6 | Q2: 7 | R2: 8 | S2: 9 | T2: 10 | U2: 11 | V2: 12 | W2: 13 | X2: 14 | Y2: 15 | Z2: 16 | AA2: 17 | AB2: 18 | AC2: 19 | AD2: 20 | AE2: 21 | AF2: 22 | AG2: 23 | AH2: 24 | AI2: 25 | AJ2: 26 | AK2: 27 | AL2: 28 | AM2: 29 | AN2: 30 | AO2: 31 | AP2: 32 | AQ2: 33 | AR2: 34 | AS2: 35 | AT2: 36 | AU2: 37 | AV2: 38 | AW2: 39 | AX2: 40 | AY2: 41 | AZ2: 42 | BA2: 43 | BB2: 44 | BC2: 45 | BD2: 46 | BE2: 47 | BF2: 48 | BG2: 49 | BH2: 50 | BI2: 51 | BJ2: 52
A3: ='Définition des blocs culturaux '!A3 -> Courges | B3: ='Définition des blocs culturaux '!B3 -> 20 | C3: ='Définition des blocs culturaux '!C3 -> 42 | D3: ='Définition des blocs culturaux '!D3 -> Plantation | E3: ='Définition des blocs culturaux '!E3 -> Bâche | I3: Année 1 (n) | J3: Planche 1
A4: ='Définition des blocs culturaux '!A4 | B4: ='Définition des blocs culturaux '!B4 | C4: ='Définition des blocs culturaux '!C4 | D4: ='Définition des blocs culturaux '!D4 | E4: ='Définition des blocs culturaux '!E4 | J4: Planche 2
A5: ='Définition des blocs culturaux '!A5 | B5: ='Définition des blocs culturaux '!B5 | C5: ='Définition des blocs culturaux '!C5 | D5: ='Définition des blocs culturaux '!D5 | E5: ='Définition des blocs culturaux '!E5 | J5: Planche 3
A6: ='Définition des blocs culturaux '!A6 | B6: ='Définition des blocs culturaux '!B6 | C6: ='Définition des blocs culturaux '!C6 | D6: ='Définition des blocs culturaux '!D6 | E6: ='Définition des blocs culturaux '!E6 | J6: Planche 4
A7: ='Définition des blocs culturaux '!A7 | B7: ='Définition des blocs culturaux '!B7 | C7: ='Définition des blocs culturaux '!C7 | D7: ='Définition des blocs culturaux '!D7 | E7: ='Définition des blocs culturaux '!E7
A8: ='Définition des blocs culturaux '!A8 | B8: ='Définition des blocs culturaux '!B8 | C8: ='Définition des blocs culturaux '!C8 | D8: ='Définition des blocs culturaux '!D8 | E8: ='Définition des blocs culturaux '!E8 | I8: Année 2 (n+1) | J8: Planche 1
A9: ='Définition des blocs culturaux '!A9 | B9: ='Définition des blocs culturaux '!B9 | C9: ='Définition des blocs culturaux '!C9 | D9: ='Définition des blocs culturaux '!D9 | E9: ='Définition des blocs culturaux '!E9 | J9: Planche 2
A10: ='Définition des blocs culturaux '!A10 | B10: ='Définition des blocs culturaux '!B10 | C10: ='Définition des blocs culturaux '!C10 | D10: ='Définition des blocs culturaux '!D10 | E10: ='Définition des blocs culturaux '!E10 | J10: Planche 3
A11: ='Définition des blocs culturaux '!A11 | B11: ='Définition des blocs culturaux '!B11 | C11: ='Définition des blocs culturaux '!C11 | D11: ='Définition des blocs culturaux '!D11 | E11: ='Définition des blocs culturaux '!E11 | J11: Planche 4
A12: ='Définition des blocs culturaux '!A12 | B12: ='Définition des blocs culturaux '!B12 | C12: ='Définition des blocs culturaux '!C12 | D12: ='Définition des blocs culturaux '!D12 | E12: ='Définition des blocs culturaux '!E12
A13: ='Définition des blocs culturaux '!A13 | B13: ='Définition des blocs culturaux '!B13 | C13: ='Définition des blocs culturaux '!C13 | D13: ='Définition des blocs culturaux '!D13 | E13: ='Définition des blocs culturaux '!E13 | I13: Année 3 (n+2) | J13: Planche 1
A14: ='Définition des blocs culturaux '!A14 | B14: ='Définition des blocs culturaux '!B14 | C14: ='Définition des blocs culturaux '!C14 | D14: ='Définition des blocs culturaux '!D14 | E14: ='Définition des blocs culturaux '!E14 | J14: Planche 2
A15: ='Définition des blocs culturaux '!A15 | B15: ='Définition des blocs culturaux '!B15 | C15: ='Définition des blocs culturaux '!C15 | D15: ='Définition des blocs culturaux '!D15 | E15: ='Définition des blocs culturaux '!E15 | J15: Planche 3
A16: ='Définition des blocs culturaux '!A16 | B16: ='Définition des blocs culturaux '!B16 | C16: ='Définition des blocs culturaux '!C16 | D16: ='Définition des blocs culturaux '!D16 | E16: ='Définition des blocs culturaux '!E16 | J16: Planche 4
A17: ='Définition des blocs culturaux '!A17 | B17: ='Définition des blocs culturaux '!B17 | C17: ='Définition des blocs culturaux '!C17 | D17: ='Définition des blocs culturaux '!D17 | E17: ='Définition des blocs culturaux '!E17
A18: ='Définition des blocs culturaux '!A18 | B18: ='Définition des blocs culturaux '!B18 | C18: ='Définition des blocs culturaux '!C18 | D18: ='Définition des blocs culturaux '!D18 | E18: ='Définition des blocs culturaux '!E18
A19: ='Définition des blocs culturaux '!A19 | B19: ='Définition des blocs culturaux '!B19 | C19: ='Définition des blocs culturaux '!C19 | D19: ='Définition des blocs culturaux '!D19 | E19: ='Définition des blocs culturaux '!E19 | I19: Jardin N°2 /Boucle N°2 | K19: Janvier | P19: Février | T19: Mars | X19: Avril | AB19: Mai | AG19: Juin | AK19: Juillet | AP19: Août | AT19: Septembre | AX19: Octobre | BC19: Novembre | BG19: Décembre
A20: ='Définition des blocs culturaux '!A20 | B20: ='Définition des blocs culturaux '!B20 | C20: ='Définition des blocs culturaux '!C20 | D20: ='Définition des blocs culturaux '!D20 | E20: ='Définition des blocs culturaux '!E20 | K20: 1 | L20: 2 | M20: 3 | N20: 4 | O20: 5 | P20: 6 | Q20: 7 | R20: 8 | S20: 9 | T20: 10 | U20: 11 | V20: 12 | W20: 13 | X20: 14 | Y20: 15 | Z20: 16 | AA20: 17 | AB20: 18 | AC20: 19 | AD20: 20 | AE20: 21 | AF20: 22 | AG20: 23 | AH20: 24 | AI20: 25 | AJ20: 26 | AK20: 27 | AL20: 28 | AM20: 29 | AN20: 30 | AO20: 31 | AP20: 32 | AQ20: 33 | AR20: 34 | AS20: 35 | AT20: 36 | AU20: 37 | AV20: 38 | AW20: 39 | AX20: 40 | AY20: 41 | AZ20: 42 | BA20: 43 | BB20: 44 | BC20: 45 | BD20: 46 | BE20: 47 | BF20: 48 | BG20: 49 | BH20: 50 | BI20: 51 | BJ20: 52
A21: ='Définition des blocs culturaux '!A21 | B21: ='Définition des blocs culturaux '!B21 | C21: ='Définition des blocs culturaux '!C21 | D21: ='Définition des blocs culturaux '!D21 | E21: ='Définition des blocs culturaux '!E21 | I21: Année 1 (n) | J21: Planche 1
A22: ='Définition des blocs culturaux '!A22 -> Hors planification | B22: ='Définition des blocs culturaux '!B22 | C22: ='Définition des blocs culturaux '!C22 | D22: ='Définition des blocs culturaux '!D22 | E22: ='Définition des blocs culturaux '!E22 | J22: Planche 2
J23: Planche 3
J24: Planche 4
A25: Couverts Programmés (PC)
A26: Nom du couvert | B26: Début du couvert (n° de semaine) | C26: Année de début | D26: Fin du couvert (n° de semaine) | E26: Année de fin | F26: Méthode d'implantation (en relation avec le précédent cultural- cf tableau ci dessus) | G26: Méthode de destruction (en relation avec le suivant cultural- cf tableau ci dessus) | I26: Année 2 (n+1) | J26: Planche 1
A27: ='Définition des blocs culturaux '!A28 | B27: ='Définition des blocs culturaux '!B28 | D27: ='Définition des blocs culturaux '!C28 | F27: ='Définition des blocs culturaux '!D28 | G27: ='Définition des blocs culturaux '!E28 | J27: Planche 2
A28: ='Définition des blocs culturaux '!A29 | B28: ='Définition des blocs culturaux '!B29 | D28: ='Définition des blocs culturaux '!C29 | F28: ='Définition des blocs culturaux '!D29 | G28: ='Définition des blocs culturaux '!E29 | J28: Planche 3
A29: ='Définition des blocs culturaux '!A30 | B29: ='Définition des blocs culturaux '!B30 | D29: ='Définition des blocs culturaux '!C30 | F29: ='Définition des blocs culturaux '!D30 | G29: ='Définition des blocs culturaux '!E30 | J29: Planche 4
A30: ='Définition des blocs culturaux '!A31 | B30: ='Définition des blocs culturaux '!B31 | D30: ='Définition des blocs culturaux '!C31 | F30: ='Définition des blocs culturaux '!D31 | G30: ='Définition des blocs culturaux '!E31
A31: ='Définition des blocs culturaux '!A32 | B31: ='Définition des blocs culturaux '!B32 | D31: ='Définition des blocs culturaux '!C32 | F31: ='Définition des blocs culturaux '!D32 | G31: ='Définition des blocs culturaux '!E32 | I31: Année 3 (n+2) | J31: Planche 1
A32: ='Définition des blocs culturaux '!A33 | B32: ='Définition des blocs culturaux '!B33 | D32: ='Définition des blocs culturaux '!C33 | F32: ='Définition des blocs culturaux '!D33 | G32: ='Définition des blocs culturaux '!E33 | J32: Planche 2
A33: ='Définition des blocs culturaux '!A45 | B33: ='Définition des blocs culturaux '!B45 | D33: ='Définition des blocs culturaux '!C45 | F33: ='Définition des blocs culturaux '!D45 | G33: ='Définition des blocs culturaux '!E45 | J33: Planche 3
A34: ='Définition des blocs culturaux '!A46 | B34: ='Définition des blocs culturaux '!B46 | D34: ='Définition des blocs culturaux '!C46 | F34: ='Définition des blocs culturaux '!D46 | G34: ='Définition des blocs culturaux '!E46 | J34: Planche 4
I40: Jardin 1 | J40: Année 1
J41: Année 2
J42: Année 3
J43: Année 4

Sheet Feuille 11
A1: ='Feuille 10'!A1 -> Sous Abri | I1: Jardin N°1 /Boucle N°1 | K1: Janvier | P1: Février | T1: Mars | X1: Avril | AB1: Mai | AG1: Juin | AK1: Juillet | AP1: Août | AT1: Septembre | AX1: Octobre | BC1: Novembre | BG1: Décembre
A2: ='Feuille 10'!A2 -> Nom des blocs | B2: ='Feuille 10'!B2 -> Date début du bloc (n° de semaine) | C2: ='Feuille 10'!C2 -> Date de fin du bloc (n° semaine) | D2: ='Feuille 10'!D2 -> Modalité d'implantation (cultures semées ou plantées) | E2: ='Feuille 10'!E2 -> Modalité de culture (compost fin, paille, bâche) | K2: 1 | L2: 2 | M2: 3 | N2: 4 | O2: 5 | P2: 6 | Q2: 7 | R2: 8 | S2: 9 | T2: 10 | U2: 11 | V2: 12 | W2: 13 | X2: 14 | Y2: 15 | Z2: 16 | AA2: 17 | AB2: 18 | AC2: 19 | AD2: 20 | AE2: 21 | AF2: 22 | AG2: 23 | AH2: 24 | AI2: 25 | AJ2: 26 | AK2: 27 | AL2: 28 | AM2: 29 | AN2: 30 | AO2: 31 | AP2: 32 | AQ2: 33 | AR2: 34 | AS2: 35 | AT2: 36 | AU2: 37 | AV2: 38 | AW2: 39 | AX2: 40 | AY2: 41 | AZ2: 42 | BA2: 43 | BB2: 44 | BC2: 45 | BD2: 46 | BE2: 47 | BF2: 48 | BG2: 49 | BH2: 50 | BI2: 51 | BJ2: 52
A3: ='Feuille 10'!A3 | B3: ='Feuille 10'!B3 | C3: ='Feuille 10'!C3 | D3: ='Feuille 10'!D3 | E3: ='Feuille 10'!E3 | I3: Année 1 (n) | J3: Planche 1
A4: ='Feuille 10'!A4 | B4: ='Feuille 10'!B4 | C4: ='Feuille 10'!C4 | D4: ='Feuille 10'!D4 | E4: ='Feuille 10'!E4 | J4: Planche 2
A5: ='Feuille 10'!A5 | B5: ='Feuille 10'!B5 | C5: ='Feuille 10'!C5 | D5: ='Feuille 10'!D5 | E5: ='Feuille 10'!E5 | J5: Planche 3
A6: ='Feuille 10'!A6 | B6: ='Feuille 10'!B6 | C6: ='Feuille 10'!C6 | D6: ='Feuille 10'!D6 | E6: ='Feuille 10'!E6 | J6: Planche 4
A7: ='Feuille 10'!A7 | B7: ='Feuille 10'!B7 | C7: ='Feuille 10'!C7 | D7: ='Feuille 10'!D7 | E7: ='Feuille 10'!E7
A8: ='Feuille 10'!A8 | B8: ='Feuille 10'!B8 | C8: ='Feuille 10'!C8 | D8: ='Feuille 10'!D8 | E8: ='Feuille 10'!E8 | I8: Année 2 (n+1) | J8: Planche 1
A9: ='Feuille 10'!A9 | B9: ='Feuille 10'!B9 | C9: ='Feuille 10'!C9 | D9: ='Feuille 10'!D9 | E9: ='Feuille 10'!E9 | J9: Planche 2
A10: ='Feuille 10'!A10 | B10: ='Feuille 10'!B10 | C10: ='Feuille 10'!C10 | D10: ='Feuille 10'!D10 | E10: ='Feuille 10'!E10 | J10: Planche 3
A11: ='Feuille 10'!A11 | B11: ='Feuille 10'!B11 | C11: ='Feuille 10'!C11 | D11: ='Feuille 10'!D11 | E11: ='Feuille 10'!E11 | J11: Planche 4
A12: ='Feuille 10'!A12 | B12: ='Feuille 10'!B12 | C12: ='Feuille 10'!C12 | D12: ='Feuille 10'!D12 | E12: ='Feuille 10'!E12
A13: ='Feuille 10'!A13 | B13: ='Feuille 10'!B13 | C13: ='Feuille 10'!C13 | D13: ='Feuille 10'!D13 | E13: ='Feuille 10'!E13 | I13: Année 3 (n+2) | J13: Planche 1
A14: ='Feuille 10'!A14 | B14: ='Feuille 10'!B14 | C14: ='Feuille 10'!C14 | D14: ='Feuille 10'!D14 | E14: ='Feuille 10'!E14 | J14: Planche 2
A15: ='Feuille 10'!A15 | B15: ='Feuille 10'!B15 | C15: ='Feuille 10'!C15 | D15: ='Feuille 10'!D15 | E15: ='Feuille 10'!E15 | J15: Planche 3
A16: ='Feuille 10'!A16 | B16: ='Feuille 10'!B16 | C16: ='Feuille 10'!C16 | D16: ='Feuille 10'!D16 | E16: ='Feuille 10'!E16 | J16: Planche 4
A17: ='Feuille 10'!A17 | B17: ='Feuille 10'!B17 | C17: ='Feuille 10'!C17 | D17: ='Feuille 10'!D17 | E17: ='Feuille 10'!E17
A18: ='Feuille 10'!A18 | B18: ='Feuille 10'!B18 | C18: ='Feuille 10'!C18 | D18: ='Feuille 10'!D18 | E18: ='Feuille 10'!E18
A19: ='Feuille 10'!A19 | B19: ='Feuille 10'!B19 | C19: ='Feuille 10'!C19 | D19: ='Feuille 10'!D19 | E19: ='Feuille 10'!E19 | I19: Jardin N°2 /Boucle N°2 | K19: Janvier | P19: Février | T19: Mars | X19: Avril | AB19: Mai | AG19: Juin | AK19: Juillet | AP19: Août | AT19: Septembre | AX19: Octobre | BC19: Novembre | BG19: Décembre
A20: ='Feuille 10'!A20 | B20: ='Feuille 10'!B20 | C20: ='Feuille 10'!C20 | D20: ='Feuille 10'!D20 | E20: ='Feuille 10'!E20 | K20: 1 | L20: 2 | M20: 3 | N20: 4 | O20: 5 | P20: 6 | Q20: 7 | R20: 8 | S20: 9 | T20: 10 | U20: 11 | V20: 12 | W20: 13 | X20: 14 | Y20: 15 | Z20: 16 | AA20: 17 | AB20: 18 | AC20: 19 | AD20: 20 | AE20: 21 | AF20: 22 | AG20: 23 | AH20: 24 | AI20: 25 | AJ20: 26 | AK20: 27 | AL20: 28 | AM20: 29 | AN20: 30 | AO20: 31 | AP20: 32 | AQ20: 33 | AR20: 34 | AS20: 35 | AT20: 36 | AU20: 37 | AV20: 38 | AW20: 39 | AX20: 40 | AY20: 41 | AZ20: 42 | BA20: 43 | BB20: 44 | BC20: 45 | BD20: 46 | BE20: 47 | BF20: 48 | BG20: 49 | BH20: 50 | BI20: 51 | BJ20: 52
A21: ='Feuille 10'!A21 | B21: ='Feuille 10'!B21 | C21: ='Feuille 10'!C21 | D21: ='Feuille 10'!D21 | E21: ='Feuille 10'!E21 | I21: Année 1 (n) | J21: Planche 1
A22: ='Feuille 10'!A22 -> Hors planification | B22: ='Feuille 10'!B22 | C22: ='Feuille 10'!C22 | D22: ='Feuille 10'!D22 | E22: ='Feuille 10'!E22 | J22: Planche 2
J23: Planche 3
J24: Planche 4
A25: Couverts Programmés (SA)
A26: Nom du couvert | B26: Début du couvert (n° de semaine) | C26: Année de début | D26: Fin du couvert (n° de semaine) | E26: Année de fin | F26: Méthode d'implantation (en relation avec le précédent cultural- cf tableau ci dessus) | G26: Méthode de destruction (en relation avec le suivant cultural- cf tableau ci dessus) | I26: Année 2 (n+1) | J26: Planche 1
A27: ='Définition des blocs culturaux '!A28 | B27: ='Définition des blocs culturaux '!B28 | D27: ='Définition des blocs culturaux '!C28 | F27: ='Définition des blocs culturaux '!D28 | G27: ='Définition des blocs culturaux '!E28 | J27: Planche 2
A28: ='Définition des blocs culturaux '!A29 | B28: ='Définition des blocs culturaux '!B29 | D28: ='Définition des blocs culturaux '!C29 | F28: ='Définition des blocs culturaux '!D29 | G28: ='Définition des blocs culturaux '!E29 | J28: Planche 3
A29: ='Définition des blocs culturaux '!A30 | B29: ='Définition des blocs culturaux '!B30 | D29: ='Définition des blocs culturaux '!C30 | F29: ='Définition des blocs culturaux '!D30 | G29: ='Définition des blocs culturaux '!E30 | J29: Planche 4
A30: ='Définition des blocs culturaux '!A31 | B30: ='Définition des blocs culturaux '!B31 | D30: ='Définition des blocs culturaux '!C31 | F30: ='Définition des blocs culturaux '!D31 | G30: ='Définition des blocs culturaux '!E31
A31: ='Définition des blocs culturaux '!A32 | B31: ='Définition des blocs culturaux '!B32 | D31: ='Définition des blocs culturaux '!C32 | F31: ='Définition des blocs culturaux '!D32 | G31: ='Définition des blocs culturaux '!E32 | I31: Année 3 (n+2) | J31: Planche 1
A32: ='Définition des blocs culturaux '!A33 | B32: ='Définition des blocs culturaux '!B33 | D32: ='Définition des blocs culturaux '!C33 | F32: ='Définition des blocs culturaux '!D33 | G32: ='Définition des blocs culturaux '!E33 | J32: Planche 2
A33: ='Définition des blocs culturaux '!A45 | B33: ='Définition des blocs culturaux '!B45 | D33: ='Définition des blocs culturaux '!C45 | F33: ='Définition des blocs culturaux '!D45 | G33: ='Définition des blocs culturaux '!E45 | J33: Planche 3
A34: ='Définition des blocs culturaux '!A46 | B34: ='Définition des blocs culturaux '!B46 | D34: ='Définition des blocs culturaux '!C46 | F34: ='Définition des blocs culturaux '!D46 | G34: ='Définition des blocs culturaux '!E46 | J34: Planche 4
